BEGIN:VCALENDAR
VERSION:2.0
PRODID:-//Murphy Deals - ECPv6.15.20//NONSGML v1.0//EN
CALSCALE:GREGORIAN
METHOD:PUBLISH
X-ORIGINAL-URL:https://murphydeals.com
X-WR-CALDESC:Events for Murphy Deals
REFRESH-INTERVAL;VALUE=DURATION:PT1H
X-Robots-Tag:noindex
X-PUBLISHED-TTL:PT1H
BEGIN:VTIMEZONE
TZID:America/Phoenix
BEGIN:STANDARD
TZOFFSETFROM:-0700
TZOFFSETTO:-0700
TZNAME:MST
DTSTART:20220101T000000
END:STANDARD
END:VTIMEZONE
BEGIN:VEVENT
DTSTART;TZID=America/Phoenix:20230617T193000
DTEND;TZID=America/Phoenix:20230617T210000
DTSTAMP:20260425T134611
CREATED:20230501T232836Z
LAST-MODIFIED:20230501T235045Z
UID:10007774-1687030200-1687035600@murphydeals.com
SUMMARY:Finding Nemo\, Jr. at GraceArts LIVE in Lake Havasu
DESCRIPTION:The musical adaptation of the beloved 2003 Pixar movie\, FINDING NEMO brings to life a vibrant underwater world in a tale of family\, friendship and adventure. The story is about Marlin\, an anxious and over-protective clownfish who lives in the Great Barrier Reef with his kid\, Nemo\, who longs to explore the world beyond their anemone home. But when Nemo is captured and taken to Sydney\, Marlin faces his fears and sets off on an epic quest across the ocean. With the help of lovable characters such as optimistic Dory\, laid-back sea turtle Crush\, and the supportive Tank Gang\, Marlin and Nemo both overcome challenges on their journey to find each other and themselves. \nFinding Nemo\, Jr. is presented through special arrangement with Music Theatre International (MTI).  All authorized performance materials are also supplied by MTI.  (www.mtishows.com) \nSHOWTIMES: Fridays & Saturdays\, 7:30pm Sundays\, 2pm \nAdults: $28 / Children who are 17 years old and younger: $15 (plus taxes and fees) \nReserved tickets can be purchased at the theatre Monday-Friday 3-6pm\, up to an hour before showtime at the door\, online at www.graceartslive.com\, or by phone 928-505-2787. \nEvent dates and times are subject to change. Please contact event coordinator to verify information. \n$15 – $28
URL:https://murphydeals.com/event/finding-nemo-jr-at-gracearts-live-in-lake-havasu/2023-06-17/
LOCATION:Grace Arts Live\, 2146 McCulloch Blvd N\, Lake Havasu City\, AZ\, 86403
CATEGORIES:Arts | Theatre,Event
ATTACH;FMTTYPE=image/jpeg:https://murphydeals.com/wp-content/uploads/2023/05/findingnemojr-e1682984186366.jpg
END:VEVENT
BEGIN:VEVENT
DTSTART;TZID=America/Phoenix:20230618T093000
DTEND;TZID=America/Phoenix:20230618T190000
DTSTAMP:20260425T134611
CREATED:20220602T230756Z
LAST-MODIFIED:20230616T221319Z
UID:10001637-1687080600-1687114800@murphydeals.com
SUMMARY:FREE Father's Day Movie at Movies Havasu
DESCRIPTION:Movies Havasu is treating all of you awesome Fathers out there to a free movie\, popcorn and soda on Father’s Day!\n 
URL:https://murphydeals.com/event/happy-feet-free-at-movies-havasu/
LOCATION:Movies Havasu\, 180 Swanson Ave\, Lake Havasu City\, Arizona\, 86403
CATEGORIES:Arts | Theatre
ATTACH;FMTTYPE=image/png:https://murphydeals.com/wp-content/uploads/2022/06/FREE-Movie-1-e1686953236928.png
END:VEVENT
BEGIN:VEVENT
DTSTART;TZID=America/Phoenix:20230618T140000
DTEND;TZID=America/Phoenix:20230618T153000
DTSTAMP:20260425T134611
CREATED:20230501T232836Z
LAST-MODIFIED:20230501T235045Z
UID:10007775-1687096800-1687102200@murphydeals.com
SUMMARY:Finding Nemo\, Jr. at GraceArts LIVE in Lake Havasu
DESCRIPTION:The musical adaptation of the beloved 2003 Pixar movie\, FINDING NEMO brings to life a vibrant underwater world in a tale of family\, friendship and adventure. The story is about Marlin\, an anxious and over-protective clownfish who lives in the Great Barrier Reef with his kid\, Nemo\, who longs to explore the world beyond their anemone home. But when Nemo is captured and taken to Sydney\, Marlin faces his fears and sets off on an epic quest across the ocean. With the help of lovable characters such as optimistic Dory\, laid-back sea turtle Crush\, and the supportive Tank Gang\, Marlin and Nemo both overcome challenges on their journey to find each other and themselves. \nFinding Nemo\, Jr. is presented through special arrangement with Music Theatre International (MTI).  All authorized performance materials are also supplied by MTI.  (www.mtishows.com) \nSHOWTIMES: Fridays & Saturdays\, 7:30pm Sundays\, 2pm \nAdults: $28 / Children who are 17 years old and younger: $15 (plus taxes and fees) \nReserved tickets can be purchased at the theatre Monday-Friday 3-6pm\, up to an hour before showtime at the door\, online at www.graceartslive.com\, or by phone 928-505-2787. \nEvent dates and times are subject to change. Please contact event coordinator to verify information. \n$15 – $28
URL:https://murphydeals.com/event/finding-nemo-jr-at-gracearts-live-in-lake-havasu/2023-06-18/
LOCATION:Grace Arts Live\, 2146 McCulloch Blvd N\, Lake Havasu City\, AZ\, 86403
CATEGORIES:Arts | Theatre,Event
ATTACH;FMTTYPE=image/jpeg:https://murphydeals.com/wp-content/uploads/2023/05/findingnemojr-e1682984186366.jpg
END:VEVENT
BEGIN:VEVENT
DTSTART;TZID=America/Phoenix:20230619T100000
DTEND;TZID=America/Phoenix:20230619T113000
DTSTAMP:20260425T134611
CREATED:20230525T160556Z
LAST-MODIFIED:20230616T184356Z
UID:10008262-1687168800-1687174200@murphydeals.com
SUMMARY:FREE Movies at Movies Havasu
DESCRIPTION:FREE summer movie series for the kids at Movies Havasu every Monday\, Wednesday and Thursday at 10:00 am. \nStarting June 5th\, 7th and 8th\, Movies Havasu will be showing Clifford\, the Big Red Dog! \nCheck out the flyer for the full summer lineup!
URL:https://murphydeals.com/event/movies-havasu-free-summer-family-series/2023-06-19/
LOCATION:Movies Havasu\, 180 Swanson Ave\, Lake Havasu City\, Arizona\, 86403
CATEGORIES:Arts | Theatre
ATTACH;FMTTYPE=image/jpeg:https://murphydeals.com/wp-content/uploads/2023/05/MoviesHavasu-1-e1685117988590.jpg
END:VEVENT
BEGIN:VEVENT
DTSTART;TZID=America/Phoenix:20230621T100000
DTEND;TZID=America/Phoenix:20230621T113000
DTSTAMP:20260425T134611
CREATED:20230525T160556Z
LAST-MODIFIED:20230616T184356Z
UID:10008263-1687341600-1687347000@murphydeals.com
SUMMARY:FREE Movies at Movies Havasu
DESCRIPTION:FREE summer movie series for the kids at Movies Havasu every Monday\, Wednesday and Thursday at 10:00 am. \nStarting June 5th\, 7th and 8th\, Movies Havasu will be showing Clifford\, the Big Red Dog! \nCheck out the flyer for the full summer lineup!
URL:https://murphydeals.com/event/movies-havasu-free-summer-family-series/2023-06-21/
LOCATION:Movies Havasu\, 180 Swanson Ave\, Lake Havasu City\, Arizona\, 86403
CATEGORIES:Arts | Theatre
ATTACH;FMTTYPE=image/jpeg:https://murphydeals.com/wp-content/uploads/2023/05/MoviesHavasu-1-e1685117988590.jpg
END:VEVENT
BEGIN:VEVENT
DTSTART;TZID=America/Phoenix:20230622T100000
DTEND;TZID=America/Phoenix:20230622T113000
DTSTAMP:20260425T134611
CREATED:20230525T160556Z
LAST-MODIFIED:20230616T184356Z
UID:10008264-1687428000-1687433400@murphydeals.com
SUMMARY:FREE Movies at Movies Havasu
DESCRIPTION:FREE summer movie series for the kids at Movies Havasu every Monday\, Wednesday and Thursday at 10:00 am. \nStarting June 5th\, 7th and 8th\, Movies Havasu will be showing Clifford\, the Big Red Dog! \nCheck out the flyer for the full summer lineup!
URL:https://murphydeals.com/event/movies-havasu-free-summer-family-series/2023-06-22/
LOCATION:Movies Havasu\, 180 Swanson Ave\, Lake Havasu City\, Arizona\, 86403
CATEGORIES:Arts | Theatre
ATTACH;FMTTYPE=image/jpeg:https://murphydeals.com/wp-content/uploads/2023/05/MoviesHavasu-1-e1685117988590.jpg
END:VEVENT
BEGIN:VEVENT
DTSTART;TZID=America/Phoenix:20230626T100000
DTEND;TZID=America/Phoenix:20230626T113000
DTSTAMP:20260425T134611
CREATED:20230525T160556Z
LAST-MODIFIED:20230616T184356Z
UID:10008265-1687773600-1687779000@murphydeals.com
SUMMARY:FREE Movies at Movies Havasu
DESCRIPTION:FREE summer movie series for the kids at Movies Havasu every Monday\, Wednesday and Thursday at 10:00 am. \nStarting June 5th\, 7th and 8th\, Movies Havasu will be showing Clifford\, the Big Red Dog! \nCheck out the flyer for the full summer lineup!
URL:https://murphydeals.com/event/movies-havasu-free-summer-family-series/2023-06-26/
LOCATION:Movies Havasu\, 180 Swanson Ave\, Lake Havasu City\, Arizona\, 86403
CATEGORIES:Arts | Theatre
ATTACH;FMTTYPE=image/jpeg:https://murphydeals.com/wp-content/uploads/2023/05/MoviesHavasu-1-e1685117988590.jpg
END:VEVENT
BEGIN:VEVENT
DTSTART;TZID=America/Phoenix:20230628T100000
DTEND;TZID=America/Phoenix:20230628T113000
DTSTAMP:20260425T134611
CREATED:20230525T160556Z
LAST-MODIFIED:20230616T184356Z
UID:10008266-1687946400-1687951800@murphydeals.com
SUMMARY:FREE Movies at Movies Havasu
DESCRIPTION:FREE summer movie series for the kids at Movies Havasu every Monday\, Wednesday and Thursday at 10:00 am. \nStarting June 5th\, 7th and 8th\, Movies Havasu will be showing Clifford\, the Big Red Dog! \nCheck out the flyer for the full summer lineup!
URL:https://murphydeals.com/event/movies-havasu-free-summer-family-series/2023-06-28/
LOCATION:Movies Havasu\, 180 Swanson Ave\, Lake Havasu City\, Arizona\, 86403
CATEGORIES:Arts | Theatre
ATTACH;FMTTYPE=image/jpeg:https://murphydeals.com/wp-content/uploads/2023/05/MoviesHavasu-1-e1685117988590.jpg
END:VEVENT
BEGIN:VEVENT
DTSTART;TZID=America/Phoenix:20230629T100000
DTEND;TZID=America/Phoenix:20230629T113000
DTSTAMP:20260425T134611
CREATED:20230525T160556Z
LAST-MODIFIED:20230616T184356Z
UID:10008267-1688032800-1688038200@murphydeals.com
SUMMARY:FREE Movies at Movies Havasu
DESCRIPTION:FREE summer movie series for the kids at Movies Havasu every Monday\, Wednesday and Thursday at 10:00 am. \nStarting June 5th\, 7th and 8th\, Movies Havasu will be showing Clifford\, the Big Red Dog! \nCheck out the flyer for the full summer lineup!
URL:https://murphydeals.com/event/movies-havasu-free-summer-family-series/2023-06-29/
LOCATION:Movies Havasu\, 180 Swanson Ave\, Lake Havasu City\, Arizona\, 86403
CATEGORIES:Arts | Theatre
ATTACH;FMTTYPE=image/jpeg:https://murphydeals.com/wp-content/uploads/2023/05/MoviesHavasu-1-e1685117988590.jpg
END:VEVENT
BEGIN:VEVENT
DTSTART;TZID=America/Phoenix:20230703T100000
DTEND;TZID=America/Phoenix:20230703T113000
DTSTAMP:20260425T134611
CREATED:20230525T160556Z
LAST-MODIFIED:20230616T184356Z
UID:10008268-1688378400-1688383800@murphydeals.com
SUMMARY:FREE Movies at Movies Havasu
DESCRIPTION:FREE summer movie series for the kids at Movies Havasu every Monday\, Wednesday and Thursday at 10:00 am. \nStarting June 5th\, 7th and 8th\, Movies Havasu will be showing Clifford\, the Big Red Dog! \nCheck out the flyer for the full summer lineup!
URL:https://murphydeals.com/event/movies-havasu-free-summer-family-series/2023-07-03/
LOCATION:Movies Havasu\, 180 Swanson Ave\, Lake Havasu City\, Arizona\, 86403
CATEGORIES:Arts | Theatre
ATTACH;FMTTYPE=image/jpeg:https://murphydeals.com/wp-content/uploads/2023/05/MoviesHavasu-1-e1685117988590.jpg
END:VEVENT
BEGIN:VEVENT
DTSTART;TZID=America/Phoenix:20230705T100000
DTEND;TZID=America/Phoenix:20230705T113000
DTSTAMP:20260425T134611
CREATED:20230525T160556Z
LAST-MODIFIED:20230616T184356Z
UID:10008269-1688551200-1688556600@murphydeals.com
SUMMARY:FREE Movies at Movies Havasu
DESCRIPTION:FREE summer movie series for the kids at Movies Havasu every Monday\, Wednesday and Thursday at 10:00 am. \nStarting June 5th\, 7th and 8th\, Movies Havasu will be showing Clifford\, the Big Red Dog! \nCheck out the flyer for the full summer lineup!
URL:https://murphydeals.com/event/movies-havasu-free-summer-family-series/2023-07-05/
LOCATION:Movies Havasu\, 180 Swanson Ave\, Lake Havasu City\, Arizona\, 86403
CATEGORIES:Arts | Theatre
ATTACH;FMTTYPE=image/jpeg:https://murphydeals.com/wp-content/uploads/2023/05/MoviesHavasu-1-e1685117988590.jpg
END:VEVENT
BEGIN:VEVENT
DTSTART;TZID=America/Phoenix:20230706T100000
DTEND;TZID=America/Phoenix:20230706T113000
DTSTAMP:20260425T134611
CREATED:20230525T160556Z
LAST-MODIFIED:20230616T184356Z
UID:10008270-1688637600-1688643000@murphydeals.com
SUMMARY:FREE Movies at Movies Havasu
DESCRIPTION:FREE summer movie series for the kids at Movies Havasu every Monday\, Wednesday and Thursday at 10:00 am. \nStarting June 5th\, 7th and 8th\, Movies Havasu will be showing Clifford\, the Big Red Dog! \nCheck out the flyer for the full summer lineup!
URL:https://murphydeals.com/event/movies-havasu-free-summer-family-series/2023-07-06/
LOCATION:Movies Havasu\, 180 Swanson Ave\, Lake Havasu City\, Arizona\, 86403
CATEGORIES:Arts | Theatre
ATTACH;FMTTYPE=image/jpeg:https://murphydeals.com/wp-content/uploads/2023/05/MoviesHavasu-1-e1685117988590.jpg
END:VEVENT
BEGIN:VEVENT
DTSTART;TZID=America/Phoenix:20230710T100000
DTEND;TZID=America/Phoenix:20230710T113000
DTSTAMP:20260425T134611
CREATED:20230525T160556Z
LAST-MODIFIED:20230616T184356Z
UID:10008271-1688983200-1688988600@murphydeals.com
SUMMARY:FREE Movies at Movies Havasu
DESCRIPTION:FREE summer movie series for the kids at Movies Havasu every Monday\, Wednesday and Thursday at 10:00 am. \nStarting June 5th\, 7th and 8th\, Movies Havasu will be showing Clifford\, the Big Red Dog! \nCheck out the flyer for the full summer lineup!
URL:https://murphydeals.com/event/movies-havasu-free-summer-family-series/2023-07-10/
LOCATION:Movies Havasu\, 180 Swanson Ave\, Lake Havasu City\, Arizona\, 86403
CATEGORIES:Arts | Theatre
ATTACH;FMTTYPE=image/jpeg:https://murphydeals.com/wp-content/uploads/2023/05/MoviesHavasu-1-e1685117988590.jpg
END:VEVENT
BEGIN:VEVENT
DTSTART;TZID=America/Phoenix:20230712T100000
DTEND;TZID=America/Phoenix:20230712T113000
DTSTAMP:20260425T134611
CREATED:20230525T160556Z
LAST-MODIFIED:20230616T184356Z
UID:10008272-1689156000-1689161400@murphydeals.com
SUMMARY:FREE Movies at Movies Havasu
DESCRIPTION:FREE summer movie series for the kids at Movies Havasu every Monday\, Wednesday and Thursday at 10:00 am. \nStarting June 5th\, 7th and 8th\, Movies Havasu will be showing Clifford\, the Big Red Dog! \nCheck out the flyer for the full summer lineup!
URL:https://murphydeals.com/event/movies-havasu-free-summer-family-series/2023-07-12/
LOCATION:Movies Havasu\, 180 Swanson Ave\, Lake Havasu City\, Arizona\, 86403
CATEGORIES:Arts | Theatre
ATTACH;FMTTYPE=image/jpeg:https://murphydeals.com/wp-content/uploads/2023/05/MoviesHavasu-1-e1685117988590.jpg
END:VEVENT
BEGIN:VEVENT
DTSTART;TZID=America/Phoenix:20230713T100000
DTEND;TZID=America/Phoenix:20230713T113000
DTSTAMP:20260425T134611
CREATED:20230525T160556Z
LAST-MODIFIED:20230616T184356Z
UID:10008273-1689242400-1689247800@murphydeals.com
SUMMARY:FREE Movies at Movies Havasu
DESCRIPTION:FREE summer movie series for the kids at Movies Havasu every Monday\, Wednesday and Thursday at 10:00 am. \nStarting June 5th\, 7th and 8th\, Movies Havasu will be showing Clifford\, the Big Red Dog! \nCheck out the flyer for the full summer lineup!
URL:https://murphydeals.com/event/movies-havasu-free-summer-family-series/2023-07-13/
LOCATION:Movies Havasu\, 180 Swanson Ave\, Lake Havasu City\, Arizona\, 86403
CATEGORIES:Arts | Theatre
ATTACH;FMTTYPE=image/jpeg:https://murphydeals.com/wp-content/uploads/2023/05/MoviesHavasu-1-e1685117988590.jpg
END:VEVENT
BEGIN:VEVENT
DTSTART;TZID=America/Phoenix:20230717T100000
DTEND;TZID=America/Phoenix:20230717T113000
DTSTAMP:20260425T134611
CREATED:20230525T160556Z
LAST-MODIFIED:20230616T184356Z
UID:10008274-1689588000-1689593400@murphydeals.com
SUMMARY:FREE Movies at Movies Havasu
DESCRIPTION:FREE summer movie series for the kids at Movies Havasu every Monday\, Wednesday and Thursday at 10:00 am. \nStarting June 5th\, 7th and 8th\, Movies Havasu will be showing Clifford\, the Big Red Dog! \nCheck out the flyer for the full summer lineup!
URL:https://murphydeals.com/event/movies-havasu-free-summer-family-series/2023-07-17/
LOCATION:Movies Havasu\, 180 Swanson Ave\, Lake Havasu City\, Arizona\, 86403
CATEGORIES:Arts | Theatre
ATTACH;FMTTYPE=image/jpeg:https://murphydeals.com/wp-content/uploads/2023/05/MoviesHavasu-1-e1685117988590.jpg
END:VEVENT
BEGIN:VEVENT
DTSTART;TZID=America/Phoenix:20230719T100000
DTEND;TZID=America/Phoenix:20230719T113000
DTSTAMP:20260425T134611
CREATED:20230525T160556Z
LAST-MODIFIED:20230616T184356Z
UID:10008275-1689760800-1689766200@murphydeals.com
SUMMARY:FREE Movies at Movies Havasu
DESCRIPTION:FREE summer movie series for the kids at Movies Havasu every Monday\, Wednesday and Thursday at 10:00 am. \nStarting June 5th\, 7th and 8th\, Movies Havasu will be showing Clifford\, the Big Red Dog! \nCheck out the flyer for the full summer lineup!
URL:https://murphydeals.com/event/movies-havasu-free-summer-family-series/2023-07-19/
LOCATION:Movies Havasu\, 180 Swanson Ave\, Lake Havasu City\, Arizona\, 86403
CATEGORIES:Arts | Theatre
ATTACH;FMTTYPE=image/jpeg:https://murphydeals.com/wp-content/uploads/2023/05/MoviesHavasu-1-e1685117988590.jpg
END:VEVENT
BEGIN:VEVENT
DTSTART;TZID=America/Phoenix:20230720T100000
DTEND;TZID=America/Phoenix:20230720T113000
DTSTAMP:20260425T134611
CREATED:20230525T160556Z
LAST-MODIFIED:20230616T184356Z
UID:10008276-1689847200-1689852600@murphydeals.com
SUMMARY:FREE Movies at Movies Havasu
DESCRIPTION:FREE summer movie series for the kids at Movies Havasu every Monday\, Wednesday and Thursday at 10:00 am. \nStarting June 5th\, 7th and 8th\, Movies Havasu will be showing Clifford\, the Big Red Dog! \nCheck out the flyer for the full summer lineup!
URL:https://murphydeals.com/event/movies-havasu-free-summer-family-series/2023-07-20/
LOCATION:Movies Havasu\, 180 Swanson Ave\, Lake Havasu City\, Arizona\, 86403
CATEGORIES:Arts | Theatre
ATTACH;FMTTYPE=image/jpeg:https://murphydeals.com/wp-content/uploads/2023/05/MoviesHavasu-1-e1685117988590.jpg
END:VEVENT
BEGIN:VEVENT
DTSTART;TZID=America/Phoenix:20231014T100000
DTEND;TZID=America/Phoenix:20231014T203000
DTSTAMP:20260425T134611
CREATED:20231013T201445Z
LAST-MODIFIED:20231013T201730Z
UID:10008556-1697277600-1697315400@murphydeals.com
SUMMARY:Movies Havasu: TAYLOR SWIFT The Eras Tour! FREE Collectable Cup
DESCRIPTION:The first 100 people to see TAYLOR SWIFT The Eras Tour Show at Movies Havasu on Saturday\, October 14th gets a FREE 32 oz. collectable cup with drink included!
URL:https://murphydeals.com/event/movies-havasu-taylor-swift-the-eras-tour-free-collectable-cup/
LOCATION:Movies Havasu\, 180 Swanson Ave\, Lake Havasu City\, Arizona\, 86403
CATEGORIES:Arts | Theatre,Event,Music | Concerts
ATTACH;FMTTYPE=image/jpeg:https://murphydeals.com/wp-content/uploads/2023/10/Taylor-1-e1697228026402.jpg
END:VEVENT
BEGIN:VEVENT
DTSTART;TZID=America/Phoenix:20240806T180000
DTEND;TZID=America/Phoenix:20240806T210000
DTSTAMP:20260425T134611
CREATED:20240802T233023Z
LAST-MODIFIED:20240805T202654Z
UID:10008603-1722967200-1722978000@murphydeals.com
SUMMARY:OPEN MIC NIGHT - HOSTED BY BRITTNEY & JEREMY OF THE UAPS
DESCRIPTION:Tuesdays are no just about tacos… \nIt’s also Open Mic Night at Best Brews Taproom EVERY TUESDAY NIGHT from 6-9 PM!!!
URL:https://murphydeals.com/event/open-mic-night-hosted-by-brittney-jeremy-of-the-uaps-2/2024-08-06/
LOCATION:Best Brews Tap Room\, 2068 McCulloch Blvd. N Suite A\, Lake Havasu City\, AZ\, 86404\, United States
CATEGORIES:Arts | Theatre,Event,Live On Location,Music | Concerts
ATTACH;FMTTYPE=image/jpeg:https://murphydeals.com/wp-content/uploads/2024/08/IMG_1017-e1722641404393-1.jpg
END:VEVENT
BEGIN:VEVENT
DTSTART;TZID=America/Phoenix:20240808T193000
DTEND;TZID=America/Phoenix:20240808T213000
DTSTAMP:20260425T134611
CREATED:20240806T234114Z
LAST-MODIFIED:20240809T001711Z
UID:10009841-1723145400-1723152600@murphydeals.com
SUMMARY:THE ICE KINGDOM CIRQUE - UNDER THE BIG TOP
DESCRIPTION:Thurs: 7:30    Fri: 7:30    Sat:4:30 & 7:30    Sun:3:30 & 6:30 |  \nThe Ice Kingdom Cirque blends the enchantment of traditional circus with the allure of ice. World-class performers showcase breathtaking acrobatics and elegant ice dances in a dazzling winter wonderland filled with lights and music. Ideal for families and people of all ages. Whether it’s an afternoon with the kids or a special family outing\, this icy circus offers captivating entertainment for everyone. Our mission is to create unforgettable experiences that bring families together and celebrate the magic of the circus. We aim to inspire wonder and joy\, promoting creativity and inclusivity in every performance.
URL:https://murphydeals.com/event/the-ice-kindom-cirque-under-the-big-top/2024-08-08/
LOCATION:Mohave County Fairgrounds\, 2600 Fairgrounds Blvd\, Kingman\, AZ\, 86401
CATEGORIES:Arts | Theatre,Event,Live On Location
ATTACH;FMTTYPE=image/png:https://murphydeals.com/wp-content/uploads/2024/08/icekingdoncirque.png
END:VEVENT
BEGIN:VEVENT
DTSTART;TZID=America/Phoenix:20240809T193000
DTEND;TZID=America/Phoenix:20240809T213000
DTSTAMP:20260425T134611
CREATED:20240809T185001Z
LAST-MODIFIED:20240809T185027Z
UID:10009865-1723231800-1723239000@murphydeals.com
SUMMARY:THE ICE KINGDOM CIRQUE - UNDER THE BIG TOP
DESCRIPTION:Sat:4:30 & 7:30    Sun:3:30 & 6:30 |  \nThe Ice Kingdom Cirque blends the enchantment of traditional circus with the allure of ice. World-class performers showcase breathtaking acrobatics and elegant ice dances in a dazzling winter wonderland filled with lights and music. Ideal for families and people of all ages. Whether it’s an afternoon with the kids or a special family outing\, this icy circus offers captivating entertainment for everyone. Our mission is to create unforgettable experiences that bring families together and celebrate the magic of the circus. We aim to inspire wonder and joy\, promoting creativity and inclusivity in every performance.
URL:https://murphydeals.com/event/the-ice-kindom-cirque-under-the-big-top-2/
LOCATION:Mohave County Fairgrounds\, 2600 Fairgrounds Blvd\, Kingman\, AZ\, 86401
CATEGORIES:Arts | Theatre,Event,Live On Location
ATTACH;FMTTYPE=image/png:https://murphydeals.com/wp-content/uploads/2024/08/icekingdoncirque.png
END:VEVENT
BEGIN:VEVENT
DTSTART;TZID=America/Phoenix:20240810T163000
DTEND;TZID=America/Phoenix:20240810T220000
DTSTAMP:20260425T134611
CREATED:20240810T000126Z
LAST-MODIFIED:20240810T000126Z
UID:10009875-1723307400-1723327200@murphydeals.com
SUMMARY:THE ICE KINGDOM CIRQUE - UNDER THE BIG TOP
DESCRIPTION:Sat:4:30 & 7:30     \nThe Ice Kingdom Cirque blends the enchantment of traditional circus with the allure of ice. World-class performers showcase breathtaking acrobatics and elegant ice dances in a dazzling winter wonderland filled with lights and music. Ideal for families and people of all ages. Whether it’s an afternoon with the kids or a special family outing\, this icy circus offers captivating entertainment for everyone. Our mission is to create unforgettable experiences that bring families together and celebrate the magic of the circus. We aim to inspire wonder and joy\, promoting creativity and inclusivity in every performance.
URL:https://murphydeals.com/event/the-ice-kingdom-cirque-under-the-big-top/
LOCATION:Mohave County Fairgrounds\, 2600 Fairgrounds Blvd\, Kingman\, AZ\, 86401
CATEGORIES:Arts | Theatre,Event,Live On Location
ATTACH;FMTTYPE=image/png:https://murphydeals.com/wp-content/uploads/2024/08/icekingdoncirque.png
END:VEVENT
BEGIN:VEVENT
DTSTART;TZID=America/Phoenix:20240813T180000
DTEND;TZID=America/Phoenix:20240813T210000
DTSTAMP:20260425T134611
CREATED:20240802T233023Z
LAST-MODIFIED:20240805T202654Z
UID:10009761-1723572000-1723582800@murphydeals.com
SUMMARY:OPEN MIC NIGHT - HOSTED BY BRITTNEY & JEREMY OF THE UAPS
DESCRIPTION:Tuesdays are no just about tacos… \nIt’s also Open Mic Night at Best Brews Taproom EVERY TUESDAY NIGHT from 6-9 PM!!!
URL:https://murphydeals.com/event/open-mic-night-hosted-by-brittney-jeremy-of-the-uaps-2/2024-08-13/
LOCATION:Best Brews Tap Room\, 2068 McCulloch Blvd. N Suite A\, Lake Havasu City\, AZ\, 86404\, United States
CATEGORIES:Arts | Theatre,Event,Live On Location,Music | Concerts
ATTACH;FMTTYPE=image/jpeg:https://murphydeals.com/wp-content/uploads/2024/08/IMG_1017-e1722641404393-1.jpg
END:VEVENT
BEGIN:VEVENT
DTSTART;TZID=America/Phoenix:20240817T180000
DTEND;TZID=America/Phoenix:20240817T220000
DTSTAMP:20260425T134611
CREATED:20240802T214015Z
LAST-MODIFIED:20240807T174246Z
UID:10008602-1723917600-1723932000@murphydeals.com
SUMMARY:MICHAEL CARBONARO - LIES ON STAGE
DESCRIPTION:From his hit television series “The Carbonaro Effect” on truTV\, America’s favorite Trickster is thrilling audiences across the country with CARBONARO: LIES ON STAGE\, conjuring up a concoction of unbelievable magic\, hysterical offbeat shenanigans\, and wonder for all ages. We’d say you have to see it to believe it\, but you won’t believe a thing when you’re in the presence of Michael Carbonaro! \nVIP Package includes an after show Meet & Greet with Michael Carbonaro! Michael will be excited to meet you\, take photos\, and sign an item of your choosing!
URL:https://murphydeals.com/event/michael-carbonaro-lies-on-stage/
LOCATION:Bluewater Resort and Casino\, 11300 Resort\, Parker\, 85344\, United States
CATEGORIES:Arts | Theatre,Comedy | Comedian,Music | Concerts
ATTACH;FMTTYPE=image/png:https://murphydeals.com/wp-content/uploads/2024/08/cab.png
END:VEVENT
BEGIN:VEVENT
DTSTART;TZID=America/Phoenix:20240820T180000
DTEND;TZID=America/Phoenix:20240820T210000
DTSTAMP:20260425T134611
CREATED:20240802T233023Z
LAST-MODIFIED:20240805T202654Z
UID:10009762-1724176800-1724187600@murphydeals.com
SUMMARY:OPEN MIC NIGHT - HOSTED BY BRITTNEY & JEREMY OF THE UAPS
DESCRIPTION:Tuesdays are no just about tacos… \nIt’s also Open Mic Night at Best Brews Taproom EVERY TUESDAY NIGHT from 6-9 PM!!!
URL:https://murphydeals.com/event/open-mic-night-hosted-by-brittney-jeremy-of-the-uaps-2/2024-08-20/
LOCATION:Best Brews Tap Room\, 2068 McCulloch Blvd. N Suite A\, Lake Havasu City\, AZ\, 86404\, United States
CATEGORIES:Arts | Theatre,Event,Live On Location,Music | Concerts
ATTACH;FMTTYPE=image/jpeg:https://murphydeals.com/wp-content/uploads/2024/08/IMG_1017-e1722641404393-1.jpg
END:VEVENT
BEGIN:VEVENT
DTSTART;TZID=America/Phoenix:20240824T190000
DTEND;TZID=America/Phoenix:20240824T220000
DTSTAMP:20260425T134611
CREATED:20240802T231416Z
LAST-MODIFIED:20240806T200250Z
UID:10008864-1724526000-1724536800@murphydeals.com
SUMMARY:LITTLE RIVER BAND - LIVE AT THE EDGE PAVILION
DESCRIPTION:Regarded as “the best singing band in the world” by late Eagles founding member Glenn Frey\, Little River Band has garnered huge success with sold out shows\, multi-platinum albums and chart-topping hit songs.
URL:https://murphydeals.com/event/little-river-band/
LOCATION:Edge Pavilion\, 2020 S Casino Drive\, Laughlin\, 89029\, 89029
CATEGORIES:Arts | Theatre,Event,Live On Location,Music | Concerts
ATTACH;FMTTYPE=image/png:https://murphydeals.com/wp-content/uploads/2024/08/lrb-1.png
END:VEVENT
BEGIN:VEVENT
DTSTART;TZID=America/Phoenix:20240824T200000
DTEND;TZID=America/Phoenix:20240824T233000
DTSTAMP:20260425T134611
CREATED:20240820T213519Z
LAST-MODIFIED:20240821T173241Z
UID:10009913-1724529600-1724542200@murphydeals.com
SUMMARY:CRAZY FROM THE HEAT: HOT SUMMER STAND-UP
DESCRIPTION:Crazy from the Heat: Hot Summer Standup |\n\n\n\nWe’re burning it up at Crazy from the Heat: Hot Summer Standup – a FREE standup comedy show at the Miracle Mile Event Center.  Enjoy a full show packed with local comedy talent from Mohave Comedy.  Already seen Mohave Comedy? Don’t worry\, you never know what will happen LIVE!\n\nThis is an ADULT show – there is profanity and adult themed jokes.  Please bring your sense of humor.\n\n\nSeating will be open starting at 6:00pm to claim your seats with comedians going on at 8ish. You can order drinks from our fully stocked bar.\n\n\n\nRSVP ON FACEBOOK
URL:https://murphydeals.com/event/crazt-from-the-heat-hot-summer-stand-up/
LOCATION:Miracle Mile Event Center\, 2580 S Miracle Mile\, Bullhead City\, AZ\, 86442\, United States
CATEGORIES:Arts | Theatre,Comedy | Comedian,Event,Live On Location
ATTACH;FMTTYPE=image/png:https://murphydeals.com/wp-content/uploads/2024/08/crazyheatmohavecomedy.png
END:VEVENT
BEGIN:VEVENT
DTSTART;TZID=America/Phoenix:20240827T180000
DTEND;TZID=America/Phoenix:20240827T210000
DTSTAMP:20260425T134611
CREATED:20240826T214230Z
LAST-MODIFIED:20240826T214534Z
UID:10009763-1724781600-1724792400@murphydeals.com
SUMMARY:OPEN MIC NIGHT - HOSTED BY BRITTNEY & JEREMY OF THE UAPS
DESCRIPTION:Tuesdays are no just about tacos… \nIt’s also Open Mic Night at Best Brews Taproom EVERY TUESDAY NIGHT from 6-9 PM!!!
URL:https://murphydeals.com/event/open-mic-night-hosted-by-brittney-jeremy-of-the-uaps-2-2/2024-08-27/
LOCATION:Best Brews Tap Room\, 2068 McCulloch Blvd. N Suite A\, Lake Havasu City\, AZ\, 86404\, United States
CATEGORIES:Arts | Theatre,Event,Live On Location,Music | Concerts
ATTACH;FMTTYPE=image/jpeg:https://murphydeals.com/wp-content/uploads/2024/08/IMG_1017-e1722641404393-1.jpg
END:VEVENT
BEGIN:VEVENT
DTSTART;TZID=America/Phoenix:20240831T080000
DTEND;TZID=America/Phoenix:20240831T120000
DTSTAMP:20260425T134611
CREATED:20240807T181418Z
LAST-MODIFIED:20240827T221240Z
UID:10009842-1725091200-1725105600@murphydeals.com
SUMMARY:KINGMAN'S MARKET IN THE PARK
DESCRIPTION:Kingman’s Market In The Park Promotes the production and sale of agricultural and hand-made products
URL:https://murphydeals.com/event/kingmans-market-in-the-park/
LOCATION:Lewis Kingman Park
CATEGORIES:Arts | Theatre,Event,Tradeshow | Expo
ATTACH;FMTTYPE=image/png:https://murphydeals.com/wp-content/uploads/2024/08/kingmanmarketinthepark.png
END:VEVENT
END:VCALENDAR