BEGIN:VCALENDAR
VERSION:2.0
PRODID:-//Murphy Deals - ECPv6.15.20//NONSGML v1.0//EN
CALSCALE:GREGORIAN
METHOD:PUBLISH
X-WR-CALNAME:Murphy Deals
X-ORIGINAL-URL:https://murphydeals.com
X-WR-CALDESC:Events for Murphy Deals
REFRESH-INTERVAL;VALUE=DURATION:PT1H
X-Robots-Tag:noindex
X-PUBLISHED-TTL:PT1H
BEGIN:VTIMEZONE
TZID:America/Phoenix
BEGIN:STANDARD
TZOFFSETFROM:-0700
TZOFFSETTO:-0700
TZNAME:MST
DTSTART:20210101T000000
END:STANDARD
END:VTIMEZONE
BEGIN:VEVENT
DTSTART;TZID=America/Phoenix:20230503T170000
DTEND;TZID=America/Phoenix:20230503T200000
DTSTAMP:20260425T121238
CREATED:20230410T173800Z
LAST-MODIFIED:20230410T173800Z
UID:10007460-1683133200-1683144000@murphydeals.com
SUMMARY:REALTOR®Olympics Murder Mystery Dinner at LHAR Realtor Center in Lake Havasu
DESCRIPTION:
URL:https://murphydeals.com/event/realtorolympics-murder-mystery-dinner-at-lhar-realtor-center-in-lake-havasu/
LOCATION:Lake Havasu Association of REALTORS®\, 2293 Swanson Ave\, Lake Havasu City\, AZ\, 86403\, United States
CATEGORIES:Charity | Benefits,Event
ATTACH;FMTTYPE=image/jpeg:https://murphydeals.com/wp-content/uploads/2023/04/murdermystery-1-1-e1681148226984.jpg
END:VEVENT
BEGIN:VEVENT
DTSTART;TZID=America/Phoenix:20230429T120000
DTEND;TZID=America/Phoenix:20230429T160000
DTSTAMP:20260425T121238
CREATED:20230410T171538Z
LAST-MODIFIED:20230410T171707Z
UID:10007459-1682769600-1682784000@murphydeals.com
SUMMARY:Lake Havasu REALTOR®Olympics Event: Billiards & Dart Tournaments at Mr Lucky's Billiards in Lake Havasu
DESCRIPTION:
URL:https://murphydeals.com/event/lake-havasu-realtorolympics-event-billiards-dart-tournaments-at-mr-luckys-billiards-in-lake-havasu/
LOCATION:Mr Lucky’s Billiards\, 3313 Maricopa Ave\, Lake Havasu City\, AZ\, 86406\, United States
CATEGORIES:Charity | Benefits,Event
ATTACH;FMTTYPE=image/jpeg:https://murphydeals.com/wp-content/uploads/2023/04/Darts-and-Billiards-1-1-e1681146832933.jpg
END:VEVENT
BEGIN:VEVENT
DTSTART;TZID=America/Phoenix:20230325T100000
DTEND;TZID=America/Phoenix:20230325T140000
DTSTAMP:20260425T121238
CREATED:20230323T180555Z
LAST-MODIFIED:20230323T180731Z
UID:10007345-1679738400-1679752800@murphydeals.com
SUMMARY:3rd Annual Chill ‘n’ Grill Fundraiser in the Park
DESCRIPTION:Join The Messengers of Recovery MC for our 3rd annual BBQ at Rotary Park!\nAll proceeds to benefit Local battered and abused women’s safe house. \nAll are welcome to enjoy food\, games\, bikes\, and family fun. There will be a raffle\, 50/50\, and give aways. \nThis event is open to the public and all motorcycle clubs who want to support the local community. \nThere will be no Alcohol at this event. It is a clean and sober event.
URL:https://murphydeals.com/event/3rd-annual-chill-n-grill-fundraiser-in-the-park/
LOCATION:Rotary Park of Lake Havasu\, 1400 S Smoketree Avenue\, Lake Havasu City\, Arizona\, 86403
CATEGORIES:Charity | Benefits
ATTACH;FMTTYPE=image/jpeg:https://murphydeals.com/wp-content/uploads/2023/03/ChillnGrill-1-e1679594723614.jpeg
END:VEVENT
BEGIN:VEVENT
DTSTART;TZID=America/Phoenix:20230325T060000
DTEND;TZID=America/Phoenix:20230325T160000
DTSTAMP:20260425T121238
CREATED:20230323T163933Z
LAST-MODIFIED:20230323T172113Z
UID:10007342-1679724000-1679760000@murphydeals.com
SUMMARY:Troop Box Convoy 5th Annual Car and Bike Show
DESCRIPTION:Supporting Our Military and Their Families!\n\n\nAmerican Legion Auxiliary Post #81 presents its 5th annual car and bike show. This helps to fill and send troop boxes to deployed men and women in uniform. \nBring donations for the troop boxes and receive a free raffle ticket! \nThe day will feature live entertainment\, raffle prizes\, 50/50\, beverage garden and breakfast burritos. Lunch will be available for purchase. \nThere is a $40 entry fee if registered before the day of the show for cars or motorcycles or a $45 registration fee the day of the show. Participants can pick up a registration form at the American Legion at 181 Paseo Del Sol. \nRegistrants will receive a t-shirt and a dash tag. \nAmerican Legion Post #81\n181 Paseo Del Sol\nLake Havasu City\, AZ 86403 \nAdmission Price: Free to spectators
URL:https://murphydeals.com/event/troop-box-convoy-5th-annual-car-and-bike-show/
LOCATION:AZ
CATEGORIES:Car Show,Charity | Benefits
ATTACH;FMTTYPE=image/jpeg:https://murphydeals.com/wp-content/uploads/2023/03/Troop-Box-convoy-1-e1679589534430.jpg
END:VEVENT
BEGIN:VEVENT
DTSTART;TZID=America/Phoenix:20230320T113000
DTEND;TZID=America/Phoenix:20230320T160000
DTSTAMP:20260425T121238
CREATED:20230116T205441Z
LAST-MODIFIED:20230215T001003Z
UID:10007021-1679311800-1679328000@murphydeals.com
SUMMARY:Bunco Party at Lake Havasu City Aquatic Center
DESCRIPTION:Price: \n$15 \nVenue: Lake Havasu City Aquatic Center \nOrganizer: Western Welcome Club of Arizona
URL:https://murphydeals.com/event/bunco-party-at-lake-havasu-city-aquatic-center/
LOCATION:Lake Havasu City Aquatic Center\, 100 Park Ave\, Lake Havasu City\, AZ\, 86403\, United States
CATEGORIES:Charity | Benefits,Event
ATTACH;FMTTYPE=image/jpeg:https://murphydeals.com/wp-content/uploads/2023/01/buncop-e1673902602864.jpg
END:VEVENT
BEGIN:VEVENT
DTSTART;TZID=America/Phoenix:20230319T090000
DTEND;TZID=America/Phoenix:20230319T110000
DTSTAMP:20260425T121238
CREATED:20230316T180908Z
LAST-MODIFIED:20230316T183913Z
UID:10007302-1679216400-1679223600@murphydeals.com
SUMMARY:Quilt Sale at Mount Olive Lutheran Church
DESCRIPTION:Handmade Quilt Sale!\nVarious sizes of quilts are available as well as a beautiful selection of other handmade household items\, bears\, neck pillows and more! \nProceeds from the sale will go to Lutheran World Relief Organization and any leftover quilts will be sent to local charities for patients and families
URL:https://murphydeals.com/event/quilt-sale-at-mount-olive-lutheran-church/2023-03-19/
LOCATION:Mount Olive Lutheran Church\, 2170 Havasupai Blvd.\, Lake Havasu City\, AZ\, 86403
CATEGORIES:Charity | Benefits,Event
ATTACH;FMTTYPE=image/png:https://murphydeals.com/wp-content/uploads/2023/03/Quilt-Sale-e1678990028748.png
END:VEVENT
BEGIN:VEVENT
DTSTART;TZID=America/Phoenix:20230318T160000
DTEND;TZID=America/Phoenix:20230318T190000
DTSTAMP:20260425T121238
CREATED:20230103T231042Z
LAST-MODIFIED:20230103T231042Z
UID:10006881-1679155200-1679166000@murphydeals.com
SUMMARY:Desert Hills Fire District Auxiliary Spaghetti Dinner
DESCRIPTION:Desert Hills Fire District: \nEnjoy a spaghetti dinner that will help support the Desert Hills Fire District! \n$8 per dinner
URL:https://murphydeals.com/event/desert-hills-fire-district-auxiliary-spaghetti-dinner/
LOCATION:Desert Hills Fire District Station #1\, 3983 London Bridge Rd\, Lake Havasu City\, AZ\, 86404\, United States
CATEGORIES:Charity | Benefits,Event
ATTACH;FMTTYPE=image/jpeg:https://murphydeals.com/wp-content/uploads/2023/01/spaghetti-e1672786996716.jpg
END:VEVENT
BEGIN:VEVENT
DTSTART;TZID=America/Phoenix:20230318T090000
DTEND;TZID=America/Phoenix:20230318T140000
DTSTAMP:20260425T121238
CREATED:20230316T180908Z
LAST-MODIFIED:20230316T183913Z
UID:10007301-1679130000-1679148000@murphydeals.com
SUMMARY:Quilt Sale at Mount Olive Lutheran Church
DESCRIPTION:Handmade Quilt Sale!\nVarious sizes of quilts are available as well as a beautiful selection of other handmade household items\, bears\, neck pillows and more! \nProceeds from the sale will go to Lutheran World Relief Organization and any leftover quilts will be sent to local charities for patients and families
URL:https://murphydeals.com/event/quilt-sale-at-mount-olive-lutheran-church/2023-03-18/
LOCATION:Mount Olive Lutheran Church\, 2170 Havasupai Blvd.\, Lake Havasu City\, AZ\, 86403
CATEGORIES:Charity | Benefits,Event
ATTACH;FMTTYPE=image/png:https://murphydeals.com/wp-content/uploads/2023/03/Quilt-Sale-e1678990028748.png
END:VEVENT
BEGIN:VEVENT
DTSTART;TZID=America/Phoenix:20230317T090000
DTEND;TZID=America/Phoenix:20230317T140000
DTSTAMP:20260425T121238
CREATED:20230316T180908Z
LAST-MODIFIED:20230316T183913Z
UID:10007299-1679043600-1679061600@murphydeals.com
SUMMARY:Quilt Sale at Mount Olive Lutheran Church
DESCRIPTION:Handmade Quilt Sale!\nVarious sizes of quilts are available as well as a beautiful selection of other handmade household items\, bears\, neck pillows and more! \nProceeds from the sale will go to Lutheran World Relief Organization and any leftover quilts will be sent to local charities for patients and families
URL:https://murphydeals.com/event/quilt-sale-at-mount-olive-lutheran-church/2023-03-17/
LOCATION:Mount Olive Lutheran Church\, 2170 Havasupai Blvd.\, Lake Havasu City\, AZ\, 86403
CATEGORIES:Charity | Benefits,Event
ATTACH;FMTTYPE=image/png:https://murphydeals.com/wp-content/uploads/2023/03/Quilt-Sale-e1678990028748.png
END:VEVENT
BEGIN:VEVENT
DTSTART;TZID=America/Phoenix:20230217T190000
DTEND;TZID=America/Phoenix:20230217T220000
DTSTAMP:20260425T121238
CREATED:20230130T224615Z
LAST-MODIFIED:20230130T224615Z
UID:10007148-1676660400-1676671200@murphydeals.com
SUMMARY:Boots & Buckles at Colorado River Regional Crisis Shelter in Parker
DESCRIPTION:Colorado River Regional Crises Serves Annual Fundraiser \nLive entertainment by Josh Scott \n \n 
URL:https://murphydeals.com/event/boots-buckles-at-colorado-river-regional-crisis-shelter-in-parker/
LOCATION:Veterans of Foreign Wars\, 516 S Hopi Ave\, Parker\, 85344
CATEGORIES:Charity | Benefits,Event
ATTACH;FMTTYPE=image/jpeg:https://murphydeals.com/wp-content/uploads/2023/01/Bootnbuckles-1-e1675118328289.jpg
END:VEVENT
BEGIN:VEVENT
DTSTART;TZID=America/Phoenix:20230101T140000
DTEND;TZID=America/Phoenix:20230101T160000
DTSTAMP:20260425T121238
CREATED:20221128T192750Z
LAST-MODIFIED:20221213T203159Z
UID:10006639-1672581600-1672588800@murphydeals.com
SUMMARY:Grace Arts Live: Honky Tonk Laundry
DESCRIPTION:DECEMBER 30th\, 31st\, & January 1st \nSHOW TIMES: \nFriday\, December 30 at 7:30PM \nSaturday\, December 31 at 7:30PM \nSunday\, January 1 at 2PM \nWash your cares away with this energetic and engaging musical comedy full of country favorites from Carrie Underwood\, Trisha Yearwood\, Reba McEntire\, Tammy Wynette\, Loretta Lynn\, Patsy Cline\, and more! In a story about friendship and holding fast to your dreams\, Lana Mae Hopkins\, owner of the Wishy Washy Washateria\, hires Katie Lane Murphy. Together\, they transform the laundromat into a boot scootin’ honky-tonk while exacting a touch of revenge against those that done‘em wrong. Don’t miss GraceArts LIVE New Year’s weekend fundraiser and treat yourself to some foot stomping fun! \nGET TICKETS
URL:https://murphydeals.com/event/grace-arts-live-honky-tonk-laundry/2023-01-01/
LOCATION:Grace Arts Live\, 2146 McCulloch Blvd N\, Lake Havasu City\, AZ\, 86403
CATEGORIES:Charity | Benefits,Music | Concerts
ATTACH;FMTTYPE=image/jpeg:https://murphydeals.com/wp-content/uploads/2022/11/honky-tonk-laundry-logo-67627-e1669759905327.jpeg
END:VEVENT
BEGIN:VEVENT
DTSTART;TZID=America/Phoenix:20221231T193000
DTEND;TZID=America/Phoenix:20221231T213000
DTSTAMP:20260425T121238
CREATED:20221128T192750Z
LAST-MODIFIED:20221213T203159Z
UID:10006636-1672515000-1672522200@murphydeals.com
SUMMARY:Grace Arts Live: Honky Tonk Laundry
DESCRIPTION:DECEMBER 30th\, 31st\, & January 1st \nSHOW TIMES: \nFriday\, December 30 at 7:30PM \nSaturday\, December 31 at 7:30PM \nSunday\, January 1 at 2PM \nWash your cares away with this energetic and engaging musical comedy full of country favorites from Carrie Underwood\, Trisha Yearwood\, Reba McEntire\, Tammy Wynette\, Loretta Lynn\, Patsy Cline\, and more! In a story about friendship and holding fast to your dreams\, Lana Mae Hopkins\, owner of the Wishy Washy Washateria\, hires Katie Lane Murphy. Together\, they transform the laundromat into a boot scootin’ honky-tonk while exacting a touch of revenge against those that done‘em wrong. Don’t miss GraceArts LIVE New Year’s weekend fundraiser and treat yourself to some foot stomping fun! \nGET TICKETS
URL:https://murphydeals.com/event/grace-arts-live-honky-tonk-laundry/2022-12-31/
LOCATION:Grace Arts Live\, 2146 McCulloch Blvd N\, Lake Havasu City\, AZ\, 86403
CATEGORIES:Charity | Benefits,Music | Concerts
ATTACH;FMTTYPE=image/jpeg:https://murphydeals.com/wp-content/uploads/2022/11/honky-tonk-laundry-logo-67627-e1669759905327.jpeg
END:VEVENT
BEGIN:VEVENT
DTSTART;TZID=America/Phoenix:20221230T193000
DTEND;TZID=America/Phoenix:20221230T213000
DTSTAMP:20260425T121238
CREATED:20221128T192750Z
LAST-MODIFIED:20221213T203159Z
UID:10006635-1672428600-1672435800@murphydeals.com
SUMMARY:Grace Arts Live: Honky Tonk Laundry
DESCRIPTION:DECEMBER 30th\, 31st\, & January 1st \nSHOW TIMES: \nFriday\, December 30 at 7:30PM \nSaturday\, December 31 at 7:30PM \nSunday\, January 1 at 2PM \nWash your cares away with this energetic and engaging musical comedy full of country favorites from Carrie Underwood\, Trisha Yearwood\, Reba McEntire\, Tammy Wynette\, Loretta Lynn\, Patsy Cline\, and more! In a story about friendship and holding fast to your dreams\, Lana Mae Hopkins\, owner of the Wishy Washy Washateria\, hires Katie Lane Murphy. Together\, they transform the laundromat into a boot scootin’ honky-tonk while exacting a touch of revenge against those that done‘em wrong. Don’t miss GraceArts LIVE New Year’s weekend fundraiser and treat yourself to some foot stomping fun! \nGET TICKETS
URL:https://murphydeals.com/event/grace-arts-live-honky-tonk-laundry/2022-12-30/
LOCATION:Grace Arts Live\, 2146 McCulloch Blvd N\, Lake Havasu City\, AZ\, 86403
CATEGORIES:Charity | Benefits,Music | Concerts
ATTACH;FMTTYPE=image/jpeg:https://murphydeals.com/wp-content/uploads/2022/11/honky-tonk-laundry-logo-67627-e1669759905327.jpeg
END:VEVENT
BEGIN:VEVENT
DTSTART;TZID=America/Phoenix:20221222T070000
DTEND;TZID=America/Phoenix:20230114T170000
DTSTAMP:20260425T121238
CREATED:20221222T160101Z
LAST-MODIFIED:20221222T171348Z
UID:10006852-1671692400-1673715600@murphydeals.com
SUMMARY:Sign Up For The 6th Annual Havasu Balloon Festival Golf Tournament
DESCRIPTION:Golf Tournament\nSaturday—January 14\, 2023\, Check In: 7:00AM \nSIGN UP HERE \n2023 Havasu Balloon Festival Golf Flyer\n$100.00 – $525.00 \n\n$100 per player\n4-Person Team Scramble\, Shotgun Start\, Sat\, Jan. 14th\, 2023\n7 am Check-In\n8 am Shotgun Start \nMulligans – Magic Putts – Raffle Prizes – 50/50 Drawings \nEntry includes:\nDonuts at Check-In\nGreen Fees\nGolf Cart – 2 per cart\nGoodie Bag\nLunch – Taco Bar \nAdditional PRIZES\n~ Hole-in-One Prize\n~ 1st & 2nd Place\n~ Hole Prizes & Awards \nContact Lisa Theophilus\nGolf Tourney Chair\n928-733-0876\nor Co-Chair\nFred Robbins\n909-226-2348 \n\nTournament Sponsorships start at $100 & Par 3s for $125 \nKey Sponsors Available at $500 and up* \nWebsite: havasuballoonfestival.com/product/golf-tournament \nREQUEST SIGN-UP FORM VIA EMAIL – hbff.store@gmail.com or kiwanistoyslhc@gmail.com \nYou can get the Sign-up Sheet on-line\, via email\, pick up at the golf club or at the Balloon Store\nlocated at 2109 McCulloch Blvd. N. #1 Lake Havasu City\, Az 86403 928-505-2440 \nQuestions – Contact Chairman Lisa Theophilus 928.733.0876 or Co-Chair Fred Robbins 909.226.2348
URL:https://murphydeals.com/event/6th-annual-havasu-balloon-festival-golf-tournament/
LOCATION:Lake Havasu Golf Club – West Course\, 2400 Clubhouse Drive\, Lake Havasu City\, AZ\, 86406
CATEGORIES:Charity | Benefits,Event
ATTACH;FMTTYPE=image/jpeg:https://murphydeals.com/wp-content/uploads/2022/12/Golftourn2023-1-e1671724853267.jpg
END:VEVENT
BEGIN:VEVENT
DTSTART;TZID=America/Phoenix:20221203T080000
DTEND;TZID=America/Phoenix:20221203T103000
DTSTAMP:20260425T121238
CREATED:20221122T220329Z
LAST-MODIFIED:20221202T180607Z
UID:10006629-1670054400-1670063400@murphydeals.com
SUMMARY:Pancake Breakfast & Toy Drive
DESCRIPTION:Pancake Breakfast & Toy Drive\nEveryone is invited to join the Desert Hills Fire District on Saturday\, December 3rd for their monthly Pancake Breakfast Fundraiser. \nThey will also be collecting unwrapped toys for the Firefighter Holiday Toy Drive. \nThank you for your support!! \n\n\n3983 London Bridge Rd\, Lake Havasu City\, AZ\, United States\, Arizona\n\n\n\n\n\n\n+1 928-764-3333\n\n\n\n\n\n\n\nbstanec@deserthillsfire.com\n\n\n\n\n\n\n\n\ndeserthillsfire.org
URL:https://murphydeals.com/event/pancake-breakfast-toy-drive/
LOCATION:AZ
CATEGORIES:Charity | Benefits
ATTACH;FMTTYPE=image/jpeg:https://murphydeals.com/wp-content/uploads/2022/11/DHPancakeBreakfast-1-e1669154712149.jpg
END:VEVENT
BEGIN:VEVENT
DTSTART;TZID=America/Phoenix:20221125T110000
DTEND;TZID=America/Phoenix:20221125T150000
DTSTAMP:20260425T121238
CREATED:20221116T210206Z
LAST-MODIFIED:20221116T212427Z
UID:10006619-1669374000-1669388400@murphydeals.com
SUMMARY:MCC BigHorn Booster Club Watch Party Fundraiser
DESCRIPTION:
URL:https://murphydeals.com/event/mcc-bighorn-booster-club-watch-party-fundraiser/
LOCATION:Flying X Saloon\, 2030 McCulloch Blvd N\, Lake Havasu City\, AZ\, 86403
CATEGORIES:Charity | Benefits,Event,Sports | Activities
ATTACH;FMTTYPE=image/jpeg:https://murphydeals.com/wp-content/uploads/2022/11/Soccer-1-e1668632494366.jpg
END:VEVENT
END:VCALENDAR