BEGIN:VCALENDAR
VERSION:2.0
PRODID:-//Murphy Deals - ECPv6.15.20//NONSGML v1.0//EN
CALSCALE:GREGORIAN
METHOD:PUBLISH
X-ORIGINAL-URL:https://murphydeals.com
X-WR-CALDESC:Events for Murphy Deals
REFRESH-INTERVAL;VALUE=DURATION:PT1H
X-Robots-Tag:noindex
X-PUBLISHED-TTL:PT1H
BEGIN:VTIMEZONE
TZID:America/Phoenix
BEGIN:STANDARD
TZOFFSETFROM:-0700
TZOFFSETTO:-0700
TZNAME:MST
DTSTART:20220101T000000
END:STANDARD
END:VTIMEZONE
BEGIN:VEVENT
DTSTART;TZID=America/Phoenix:20240831T080000
DTEND;TZID=America/Phoenix:20240831T120000
DTSTAMP:20260425T082307
CREATED:20240806T232414Z
LAST-MODIFIED:20240827T221443Z
UID:10009840-1725091200-1725105600@murphydeals.com
SUMMARY:KINGMAN FARMERS MARKET
DESCRIPTION:Established in 2015\, The Kingman Farmers Market at Thunder-Rode is the Original Kingman Farmers Market in Kingman\, Arizona. Our Farmers and Crafters Market has been operating at the same location since its inception and is the only known 100% Non-Profit Farmers Market in Arizona. We have been providing our community with fresh\, local seasonal produce and supporting Kingman’s local artists and craftspeople through every season for several years. We also support our local bands who are known to entertain the market crowds.  The Kingman Farmers Market at Thunder-Rode looks forward to years of serving our Kingman community. \nWe are across the street from Locomotive Park\, along Route 66\, and behind Mr. D’z Diner.
URL:https://murphydeals.com/event/kingman-farmers-market/
LOCATION:Thunder-Rode Event Center\, 102 E. Beale Street\, Kingman\, Arizona\, 86401
CATEGORIES:Farmers Market
ATTACH;FMTTYPE=image/png:https://murphydeals.com/wp-content/uploads/2024/08/kingmanfarmersmarket.png
END:VEVENT
BEGIN:VEVENT
DTSTART;TZID=America/Phoenix:20240824T080000
DTEND;TZID=America/Phoenix:20240824T120000
DTSTAMP:20260425T082307
CREATED:20240820T221957Z
LAST-MODIFIED:20240820T222107Z
UID:10009820-1724486400-1724500800@murphydeals.com
SUMMARY:LAKE HAVASU FARMERS MARKET
DESCRIPTION:The Lake Havasu Farmers Market highlights local produce\, meats\, eggs\, dairy\, bakers\, artisans and chefs throughout Arizona & California. The atmosphere allows shoppers to not only pick fresh groceries but they will also have an opportunity to meet the producer.
URL:https://murphydeals.com/event/lake-havasu-farmers-market-3-2/
LOCATION:The KAWS on McCulloch\, 2144 McCulloch Blvd North\, Lake Havasu City\, AZ\, 86403\, United States
CATEGORIES:Farmers Market
ATTACH;FMTTYPE=image/png:https://murphydeals.com/wp-content/uploads/2024/08/farmers.png
END:VEVENT
BEGIN:VEVENT
DTSTART;TZID=America/Phoenix:20240810T080000
DTEND;TZID=America/Phoenix:20240810T120000
DTSTAMP:20260425T082307
CREATED:20240805T220803Z
LAST-MODIFIED:20240805T222107Z
UID:10009819-1723276800-1723291200@murphydeals.com
SUMMARY:LAKE HAVASU FARMERS MARKET
DESCRIPTION:The Lake Havasu Farmers Market highlights local produce\, meats\, eggs\, dairy\, bakers\, artisans and chefs throughout Arizona & California. The atmosphere allows shoppers to not only pick fresh groceries but they will also have an opportunity to meet the producer.
URL:https://murphydeals.com/event/lake-havasu-farmers-market-3/2024-08-10/
LOCATION:The KAWS on McCulloch\, 2144 McCulloch Blvd North\, Lake Havasu City\, AZ\, 86403\, United States
CATEGORIES:Farmers Market
ATTACH;FMTTYPE=image/png:https://murphydeals.com/wp-content/uploads/2024/08/farmers.png
END:VEVENT
BEGIN:VEVENT
DTSTART;TZID=America/Phoenix:20231223T080000
DTEND;TZID=America/Phoenix:20231223T120000
DTSTAMP:20260425T082307
CREATED:20220829T224644Z
LAST-MODIFIED:20230120T165800Z
UID:10007072-1703318400-1703332800@murphydeals.com
SUMMARY:Lake Havasu Farmers Market
DESCRIPTION:The KAWS\n2144 McCulloch Blvd N\nLake Havasu City\, Arizona 86403 \n2nd & 4th Saturday\n8am – Noon\n\n\nthekawslhc.com | Admission Price: Free \n2023 Market Dates: \nJanuary 14 & 28\nFebruary 11 & 25\nMarch 11 & 25\nApril 8 & 22\nMay 13 & 27\nJune 10 & 24\nJuly 8 & 22\nAugust 12 & 26\nSeptember 9 & 23\nOctober 14 & 28\nNovember 11\nDecember 9 \n8 am – 12 pm
URL:https://murphydeals.com/event/lake-havasu-farmers-market/2023-12-23/
LOCATION:The KAWS\, 2144 McCulloch Boulevard North\, Lake Havasu City\, AZ\, 86403\, United States
CATEGORIES:Farmers Market
ATTACH;FMTTYPE=image/webp:https://murphydeals.com/wp-content/uploads/2022/08/Farmers-scaled-e1661813060398.webp
END:VEVENT
BEGIN:VEVENT
DTSTART;TZID=America/Phoenix:20231209T080000
DTEND;TZID=America/Phoenix:20231209T120000
DTSTAMP:20260425T082307
CREATED:20230120T161825Z
LAST-MODIFIED:20230120T175828Z
UID:10007095-1702108800-1702123200@murphydeals.com
SUMMARY:Lake Havasu Farmers Market
DESCRIPTION:The KAWS\n2144 McCulloch Blvd N\nLake Havasu City\, Arizona 86403 \n\n\nthekawslhc.com | Admission Price: Free \n2nd & 4th Saturday\n8am – Noon\n2023 Market Dates: \nJanuary 14 & 28\nFebruary 11 & 25\nMarch 11 & 25\nApril 8 & 22\nMay 13 & 27\nJune 10 & 24\nJuly 8 & 22\nAugust 12 & 26\nSeptember 9 & 23\nOctober 14 & 28\nNovember 11\nDecember 9 \n8 am – 12 pm
URL:https://murphydeals.com/event/lake-havasu-farmers-market-2/2023-12-09/
LOCATION:The KAWS\, 2144 McCulloch Boulevard North\, Lake Havasu City\, AZ\, 86403\, United States
CATEGORIES:Farmers Market
ATTACH;FMTTYPE=image/webp:https://murphydeals.com/wp-content/uploads/2022/08/Farmers-scaled-e1661813060398.webp
END:VEVENT
BEGIN:VEVENT
DTSTART;TZID=America/Phoenix:20231125T080000
DTEND;TZID=America/Phoenix:20231125T120000
DTSTAMP:20260425T082307
CREATED:20220829T224644Z
LAST-MODIFIED:20230120T165800Z
UID:10007071-1700899200-1700913600@murphydeals.com
SUMMARY:Lake Havasu Farmers Market
DESCRIPTION:The KAWS\n2144 McCulloch Blvd N\nLake Havasu City\, Arizona 86403 \n2nd & 4th Saturday\n8am – Noon\n\n\nthekawslhc.com | Admission Price: Free \n2023 Market Dates: \nJanuary 14 & 28\nFebruary 11 & 25\nMarch 11 & 25\nApril 8 & 22\nMay 13 & 27\nJune 10 & 24\nJuly 8 & 22\nAugust 12 & 26\nSeptember 9 & 23\nOctober 14 & 28\nNovember 11\nDecember 9 \n8 am – 12 pm
URL:https://murphydeals.com/event/lake-havasu-farmers-market/2023-11-25/
LOCATION:The KAWS\, 2144 McCulloch Boulevard North\, Lake Havasu City\, AZ\, 86403\, United States
CATEGORIES:Farmers Market
ATTACH;FMTTYPE=image/webp:https://murphydeals.com/wp-content/uploads/2022/08/Farmers-scaled-e1661813060398.webp
END:VEVENT
BEGIN:VEVENT
DTSTART;TZID=America/Phoenix:20231111T080000
DTEND;TZID=America/Phoenix:20231111T120000
DTSTAMP:20260425T082307
CREATED:20230120T161825Z
LAST-MODIFIED:20230120T175828Z
UID:10007094-1699689600-1699704000@murphydeals.com
SUMMARY:Lake Havasu Farmers Market
DESCRIPTION:The KAWS\n2144 McCulloch Blvd N\nLake Havasu City\, Arizona 86403 \n\n\nthekawslhc.com | Admission Price: Free \n2nd & 4th Saturday\n8am – Noon\n2023 Market Dates: \nJanuary 14 & 28\nFebruary 11 & 25\nMarch 11 & 25\nApril 8 & 22\nMay 13 & 27\nJune 10 & 24\nJuly 8 & 22\nAugust 12 & 26\nSeptember 9 & 23\nOctober 14 & 28\nNovember 11\nDecember 9 \n8 am – 12 pm
URL:https://murphydeals.com/event/lake-havasu-farmers-market-2/2023-11-11/
LOCATION:The KAWS\, 2144 McCulloch Boulevard North\, Lake Havasu City\, AZ\, 86403\, United States
CATEGORIES:Farmers Market
ATTACH;FMTTYPE=image/webp:https://murphydeals.com/wp-content/uploads/2022/08/Farmers-scaled-e1661813060398.webp
END:VEVENT
BEGIN:VEVENT
DTSTART;TZID=America/Phoenix:20231028T080000
DTEND;TZID=America/Phoenix:20231028T120000
DTSTAMP:20260425T082307
CREATED:20220829T224644Z
LAST-MODIFIED:20230120T165800Z
UID:10007070-1698480000-1698494400@murphydeals.com
SUMMARY:Lake Havasu Farmers Market
DESCRIPTION:The KAWS\n2144 McCulloch Blvd N\nLake Havasu City\, Arizona 86403 \n2nd & 4th Saturday\n8am – Noon\n\n\nthekawslhc.com | Admission Price: Free \n2023 Market Dates: \nJanuary 14 & 28\nFebruary 11 & 25\nMarch 11 & 25\nApril 8 & 22\nMay 13 & 27\nJune 10 & 24\nJuly 8 & 22\nAugust 12 & 26\nSeptember 9 & 23\nOctober 14 & 28\nNovember 11\nDecember 9 \n8 am – 12 pm
URL:https://murphydeals.com/event/lake-havasu-farmers-market/2023-10-28/
LOCATION:The KAWS\, 2144 McCulloch Boulevard North\, Lake Havasu City\, AZ\, 86403\, United States
CATEGORIES:Farmers Market
ATTACH;FMTTYPE=image/webp:https://murphydeals.com/wp-content/uploads/2022/08/Farmers-scaled-e1661813060398.webp
END:VEVENT
BEGIN:VEVENT
DTSTART;TZID=America/Phoenix:20231014T080000
DTEND;TZID=America/Phoenix:20231014T120000
DTSTAMP:20260425T082307
CREATED:20230120T161825Z
LAST-MODIFIED:20230120T175828Z
UID:10007093-1697270400-1697284800@murphydeals.com
SUMMARY:Lake Havasu Farmers Market
DESCRIPTION:The KAWS\n2144 McCulloch Blvd N\nLake Havasu City\, Arizona 86403 \n\n\nthekawslhc.com | Admission Price: Free \n2nd & 4th Saturday\n8am – Noon\n2023 Market Dates: \nJanuary 14 & 28\nFebruary 11 & 25\nMarch 11 & 25\nApril 8 & 22\nMay 13 & 27\nJune 10 & 24\nJuly 8 & 22\nAugust 12 & 26\nSeptember 9 & 23\nOctober 14 & 28\nNovember 11\nDecember 9 \n8 am – 12 pm
URL:https://murphydeals.com/event/lake-havasu-farmers-market-2/2023-10-14/
LOCATION:The KAWS\, 2144 McCulloch Boulevard North\, Lake Havasu City\, AZ\, 86403\, United States
CATEGORIES:Farmers Market
ATTACH;FMTTYPE=image/webp:https://murphydeals.com/wp-content/uploads/2022/08/Farmers-scaled-e1661813060398.webp
END:VEVENT
BEGIN:VEVENT
DTSTART;TZID=America/Phoenix:20230923T080000
DTEND;TZID=America/Phoenix:20230923T120000
DTSTAMP:20260425T082307
CREATED:20220829T224644Z
LAST-MODIFIED:20230120T165800Z
UID:10007069-1695456000-1695470400@murphydeals.com
SUMMARY:Lake Havasu Farmers Market
DESCRIPTION:The KAWS\n2144 McCulloch Blvd N\nLake Havasu City\, Arizona 86403 \n2nd & 4th Saturday\n8am – Noon\n\n\nthekawslhc.com | Admission Price: Free \n2023 Market Dates: \nJanuary 14 & 28\nFebruary 11 & 25\nMarch 11 & 25\nApril 8 & 22\nMay 13 & 27\nJune 10 & 24\nJuly 8 & 22\nAugust 12 & 26\nSeptember 9 & 23\nOctober 14 & 28\nNovember 11\nDecember 9 \n8 am – 12 pm
URL:https://murphydeals.com/event/lake-havasu-farmers-market/2023-09-23/
LOCATION:The KAWS\, 2144 McCulloch Boulevard North\, Lake Havasu City\, AZ\, 86403\, United States
CATEGORIES:Farmers Market
ATTACH;FMTTYPE=image/webp:https://murphydeals.com/wp-content/uploads/2022/08/Farmers-scaled-e1661813060398.webp
END:VEVENT
BEGIN:VEVENT
DTSTART;TZID=America/Phoenix:20230909T080000
DTEND;TZID=America/Phoenix:20230909T120000
DTSTAMP:20260425T082307
CREATED:20230120T161825Z
LAST-MODIFIED:20230120T175828Z
UID:10007092-1694246400-1694260800@murphydeals.com
SUMMARY:Lake Havasu Farmers Market
DESCRIPTION:The KAWS\n2144 McCulloch Blvd N\nLake Havasu City\, Arizona 86403 \n\n\nthekawslhc.com | Admission Price: Free \n2nd & 4th Saturday\n8am – Noon\n2023 Market Dates: \nJanuary 14 & 28\nFebruary 11 & 25\nMarch 11 & 25\nApril 8 & 22\nMay 13 & 27\nJune 10 & 24\nJuly 8 & 22\nAugust 12 & 26\nSeptember 9 & 23\nOctober 14 & 28\nNovember 11\nDecember 9 \n8 am – 12 pm
URL:https://murphydeals.com/event/lake-havasu-farmers-market-2/2023-09-09/
LOCATION:The KAWS\, 2144 McCulloch Boulevard North\, Lake Havasu City\, AZ\, 86403\, United States
CATEGORIES:Farmers Market
ATTACH;FMTTYPE=image/webp:https://murphydeals.com/wp-content/uploads/2022/08/Farmers-scaled-e1661813060398.webp
END:VEVENT
BEGIN:VEVENT
DTSTART;TZID=America/Phoenix:20230826T080000
DTEND;TZID=America/Phoenix:20230826T120000
DTSTAMP:20260425T082307
CREATED:20220829T224644Z
LAST-MODIFIED:20230120T165800Z
UID:10007068-1693036800-1693051200@murphydeals.com
SUMMARY:Lake Havasu Farmers Market
DESCRIPTION:The KAWS\n2144 McCulloch Blvd N\nLake Havasu City\, Arizona 86403 \n2nd & 4th Saturday\n8am – Noon\n\n\nthekawslhc.com | Admission Price: Free \n2023 Market Dates: \nJanuary 14 & 28\nFebruary 11 & 25\nMarch 11 & 25\nApril 8 & 22\nMay 13 & 27\nJune 10 & 24\nJuly 8 & 22\nAugust 12 & 26\nSeptember 9 & 23\nOctober 14 & 28\nNovember 11\nDecember 9 \n8 am – 12 pm
URL:https://murphydeals.com/event/lake-havasu-farmers-market/2023-08-26/
LOCATION:The KAWS\, 2144 McCulloch Boulevard North\, Lake Havasu City\, AZ\, 86403\, United States
CATEGORIES:Farmers Market
ATTACH;FMTTYPE=image/webp:https://murphydeals.com/wp-content/uploads/2022/08/Farmers-scaled-e1661813060398.webp
END:VEVENT
BEGIN:VEVENT
DTSTART;TZID=America/Phoenix:20230812T080000
DTEND;TZID=America/Phoenix:20230812T120000
DTSTAMP:20260425T082307
CREATED:20230120T161825Z
LAST-MODIFIED:20230120T175828Z
UID:10007091-1691827200-1691841600@murphydeals.com
SUMMARY:Lake Havasu Farmers Market
DESCRIPTION:The KAWS\n2144 McCulloch Blvd N\nLake Havasu City\, Arizona 86403 \n\n\nthekawslhc.com | Admission Price: Free \n2nd & 4th Saturday\n8am – Noon\n2023 Market Dates: \nJanuary 14 & 28\nFebruary 11 & 25\nMarch 11 & 25\nApril 8 & 22\nMay 13 & 27\nJune 10 & 24\nJuly 8 & 22\nAugust 12 & 26\nSeptember 9 & 23\nOctober 14 & 28\nNovember 11\nDecember 9 \n8 am – 12 pm
URL:https://murphydeals.com/event/lake-havasu-farmers-market-2/2023-08-12/
LOCATION:The KAWS\, 2144 McCulloch Boulevard North\, Lake Havasu City\, AZ\, 86403\, United States
CATEGORIES:Farmers Market
ATTACH;FMTTYPE=image/webp:https://murphydeals.com/wp-content/uploads/2022/08/Farmers-scaled-e1661813060398.webp
END:VEVENT
BEGIN:VEVENT
DTSTART;TZID=America/Phoenix:20230722T080000
DTEND;TZID=America/Phoenix:20230722T120000
DTSTAMP:20260425T082307
CREATED:20220829T224644Z
LAST-MODIFIED:20230120T165800Z
UID:10007067-1690012800-1690027200@murphydeals.com
SUMMARY:Lake Havasu Farmers Market
DESCRIPTION:The KAWS\n2144 McCulloch Blvd N\nLake Havasu City\, Arizona 86403 \n2nd & 4th Saturday\n8am – Noon\n\n\nthekawslhc.com | Admission Price: Free \n2023 Market Dates: \nJanuary 14 & 28\nFebruary 11 & 25\nMarch 11 & 25\nApril 8 & 22\nMay 13 & 27\nJune 10 & 24\nJuly 8 & 22\nAugust 12 & 26\nSeptember 9 & 23\nOctober 14 & 28\nNovember 11\nDecember 9 \n8 am – 12 pm
URL:https://murphydeals.com/event/lake-havasu-farmers-market/2023-07-22/
LOCATION:The KAWS\, 2144 McCulloch Boulevard North\, Lake Havasu City\, AZ\, 86403\, United States
CATEGORIES:Farmers Market
ATTACH;FMTTYPE=image/webp:https://murphydeals.com/wp-content/uploads/2022/08/Farmers-scaled-e1661813060398.webp
END:VEVENT
BEGIN:VEVENT
DTSTART;TZID=America/Phoenix:20230708T080000
DTEND;TZID=America/Phoenix:20230708T120000
DTSTAMP:20260425T082307
CREATED:20230120T161825Z
LAST-MODIFIED:20230120T175828Z
UID:10007090-1688803200-1688817600@murphydeals.com
SUMMARY:Lake Havasu Farmers Market
DESCRIPTION:The KAWS\n2144 McCulloch Blvd N\nLake Havasu City\, Arizona 86403 \n\n\nthekawslhc.com | Admission Price: Free \n2nd & 4th Saturday\n8am – Noon\n2023 Market Dates: \nJanuary 14 & 28\nFebruary 11 & 25\nMarch 11 & 25\nApril 8 & 22\nMay 13 & 27\nJune 10 & 24\nJuly 8 & 22\nAugust 12 & 26\nSeptember 9 & 23\nOctober 14 & 28\nNovember 11\nDecember 9 \n8 am – 12 pm
URL:https://murphydeals.com/event/lake-havasu-farmers-market-2/2023-07-08/
LOCATION:The KAWS\, 2144 McCulloch Boulevard North\, Lake Havasu City\, AZ\, 86403\, United States
CATEGORIES:Farmers Market
ATTACH;FMTTYPE=image/webp:https://murphydeals.com/wp-content/uploads/2022/08/Farmers-scaled-e1661813060398.webp
END:VEVENT
BEGIN:VEVENT
DTSTART;TZID=America/Phoenix:20230624T080000
DTEND;TZID=America/Phoenix:20230624T120000
DTSTAMP:20260425T082307
CREATED:20220829T224644Z
LAST-MODIFIED:20230120T165800Z
UID:10007066-1687593600-1687608000@murphydeals.com
SUMMARY:Lake Havasu Farmers Market
DESCRIPTION:The KAWS\n2144 McCulloch Blvd N\nLake Havasu City\, Arizona 86403 \n2nd & 4th Saturday\n8am – Noon\n\n\nthekawslhc.com | Admission Price: Free \n2023 Market Dates: \nJanuary 14 & 28\nFebruary 11 & 25\nMarch 11 & 25\nApril 8 & 22\nMay 13 & 27\nJune 10 & 24\nJuly 8 & 22\nAugust 12 & 26\nSeptember 9 & 23\nOctober 14 & 28\nNovember 11\nDecember 9 \n8 am – 12 pm
URL:https://murphydeals.com/event/lake-havasu-farmers-market/2023-06-24/
LOCATION:The KAWS\, 2144 McCulloch Boulevard North\, Lake Havasu City\, AZ\, 86403\, United States
CATEGORIES:Farmers Market
ATTACH;FMTTYPE=image/webp:https://murphydeals.com/wp-content/uploads/2022/08/Farmers-scaled-e1661813060398.webp
END:VEVENT
BEGIN:VEVENT
DTSTART;TZID=America/Phoenix:20230610T080000
DTEND;TZID=America/Phoenix:20230610T120000
DTSTAMP:20260425T082308
CREATED:20230120T161825Z
LAST-MODIFIED:20230120T175828Z
UID:10007089-1686384000-1686398400@murphydeals.com
SUMMARY:Lake Havasu Farmers Market
DESCRIPTION:The KAWS\n2144 McCulloch Blvd N\nLake Havasu City\, Arizona 86403 \n\n\nthekawslhc.com | Admission Price: Free \n2nd & 4th Saturday\n8am – Noon\n2023 Market Dates: \nJanuary 14 & 28\nFebruary 11 & 25\nMarch 11 & 25\nApril 8 & 22\nMay 13 & 27\nJune 10 & 24\nJuly 8 & 22\nAugust 12 & 26\nSeptember 9 & 23\nOctober 14 & 28\nNovember 11\nDecember 9 \n8 am – 12 pm
URL:https://murphydeals.com/event/lake-havasu-farmers-market-2/2023-06-10/
LOCATION:The KAWS\, 2144 McCulloch Boulevard North\, Lake Havasu City\, AZ\, 86403\, United States
CATEGORIES:Farmers Market
ATTACH;FMTTYPE=image/webp:https://murphydeals.com/wp-content/uploads/2022/08/Farmers-scaled-e1661813060398.webp
END:VEVENT
BEGIN:VEVENT
DTSTART;TZID=America/Phoenix:20230527T080000
DTEND;TZID=America/Phoenix:20230527T120000
DTSTAMP:20260425T082308
CREATED:20220829T224644Z
LAST-MODIFIED:20230120T165800Z
UID:10007065-1685174400-1685188800@murphydeals.com
SUMMARY:Lake Havasu Farmers Market
DESCRIPTION:The KAWS\n2144 McCulloch Blvd N\nLake Havasu City\, Arizona 86403 \n2nd & 4th Saturday\n8am – Noon\n\n\nthekawslhc.com | Admission Price: Free \n2023 Market Dates: \nJanuary 14 & 28\nFebruary 11 & 25\nMarch 11 & 25\nApril 8 & 22\nMay 13 & 27\nJune 10 & 24\nJuly 8 & 22\nAugust 12 & 26\nSeptember 9 & 23\nOctober 14 & 28\nNovember 11\nDecember 9 \n8 am – 12 pm
URL:https://murphydeals.com/event/lake-havasu-farmers-market/2023-05-27/
LOCATION:The KAWS\, 2144 McCulloch Boulevard North\, Lake Havasu City\, AZ\, 86403\, United States
CATEGORIES:Farmers Market
ATTACH;FMTTYPE=image/webp:https://murphydeals.com/wp-content/uploads/2022/08/Farmers-scaled-e1661813060398.webp
END:VEVENT
BEGIN:VEVENT
DTSTART;TZID=America/Phoenix:20230513T080000
DTEND;TZID=America/Phoenix:20230513T120000
DTSTAMP:20260425T082308
CREATED:20230120T161825Z
LAST-MODIFIED:20230120T175828Z
UID:10007088-1683964800-1683979200@murphydeals.com
SUMMARY:Lake Havasu Farmers Market
DESCRIPTION:The KAWS\n2144 McCulloch Blvd N\nLake Havasu City\, Arizona 86403 \n\n\nthekawslhc.com | Admission Price: Free \n2nd & 4th Saturday\n8am – Noon\n2023 Market Dates: \nJanuary 14 & 28\nFebruary 11 & 25\nMarch 11 & 25\nApril 8 & 22\nMay 13 & 27\nJune 10 & 24\nJuly 8 & 22\nAugust 12 & 26\nSeptember 9 & 23\nOctober 14 & 28\nNovember 11\nDecember 9 \n8 am – 12 pm
URL:https://murphydeals.com/event/lake-havasu-farmers-market-2/2023-05-13/
LOCATION:The KAWS\, 2144 McCulloch Boulevard North\, Lake Havasu City\, AZ\, 86403\, United States
CATEGORIES:Farmers Market
ATTACH;FMTTYPE=image/webp:https://murphydeals.com/wp-content/uploads/2022/08/Farmers-scaled-e1661813060398.webp
END:VEVENT
BEGIN:VEVENT
DTSTART;TZID=America/Phoenix:20230422T080000
DTEND;TZID=America/Phoenix:20230422T120000
DTSTAMP:20260425T082308
CREATED:20220829T224644Z
LAST-MODIFIED:20230120T165800Z
UID:10007064-1682150400-1682164800@murphydeals.com
SUMMARY:Lake Havasu Farmers Market
DESCRIPTION:The KAWS\n2144 McCulloch Blvd N\nLake Havasu City\, Arizona 86403 \n2nd & 4th Saturday\n8am – Noon\n\n\nthekawslhc.com | Admission Price: Free \n2023 Market Dates: \nJanuary 14 & 28\nFebruary 11 & 25\nMarch 11 & 25\nApril 8 & 22\nMay 13 & 27\nJune 10 & 24\nJuly 8 & 22\nAugust 12 & 26\nSeptember 9 & 23\nOctober 14 & 28\nNovember 11\nDecember 9 \n8 am – 12 pm
URL:https://murphydeals.com/event/lake-havasu-farmers-market/2023-04-22/
LOCATION:The KAWS\, 2144 McCulloch Boulevard North\, Lake Havasu City\, AZ\, 86403\, United States
CATEGORIES:Farmers Market
ATTACH;FMTTYPE=image/webp:https://murphydeals.com/wp-content/uploads/2022/08/Farmers-scaled-e1661813060398.webp
END:VEVENT
BEGIN:VEVENT
DTSTART;TZID=America/Phoenix:20230408T080000
DTEND;TZID=America/Phoenix:20230408T120000
DTSTAMP:20260425T082308
CREATED:20230120T161825Z
LAST-MODIFIED:20230120T175828Z
UID:10007087-1680940800-1680955200@murphydeals.com
SUMMARY:Lake Havasu Farmers Market
DESCRIPTION:The KAWS\n2144 McCulloch Blvd N\nLake Havasu City\, Arizona 86403 \n\n\nthekawslhc.com | Admission Price: Free \n2nd & 4th Saturday\n8am – Noon\n2023 Market Dates: \nJanuary 14 & 28\nFebruary 11 & 25\nMarch 11 & 25\nApril 8 & 22\nMay 13 & 27\nJune 10 & 24\nJuly 8 & 22\nAugust 12 & 26\nSeptember 9 & 23\nOctober 14 & 28\nNovember 11\nDecember 9 \n8 am – 12 pm
URL:https://murphydeals.com/event/lake-havasu-farmers-market-2/2023-04-08/
LOCATION:The KAWS\, 2144 McCulloch Boulevard North\, Lake Havasu City\, AZ\, 86403\, United States
CATEGORIES:Farmers Market
ATTACH;FMTTYPE=image/webp:https://murphydeals.com/wp-content/uploads/2022/08/Farmers-scaled-e1661813060398.webp
END:VEVENT
BEGIN:VEVENT
DTSTART;TZID=America/Phoenix:20230325T080000
DTEND;TZID=America/Phoenix:20230325T120000
DTSTAMP:20260425T082308
CREATED:20220829T224644Z
LAST-MODIFIED:20230120T165800Z
UID:10007063-1679731200-1679745600@murphydeals.com
SUMMARY:Lake Havasu Farmers Market
DESCRIPTION:The KAWS\n2144 McCulloch Blvd N\nLake Havasu City\, Arizona 86403 \n2nd & 4th Saturday\n8am – Noon\n\n\nthekawslhc.com | Admission Price: Free \n2023 Market Dates: \nJanuary 14 & 28\nFebruary 11 & 25\nMarch 11 & 25\nApril 8 & 22\nMay 13 & 27\nJune 10 & 24\nJuly 8 & 22\nAugust 12 & 26\nSeptember 9 & 23\nOctober 14 & 28\nNovember 11\nDecember 9 \n8 am – 12 pm
URL:https://murphydeals.com/event/lake-havasu-farmers-market/2023-03-25/
LOCATION:The KAWS\, 2144 McCulloch Boulevard North\, Lake Havasu City\, AZ\, 86403\, United States
CATEGORIES:Farmers Market
ATTACH;FMTTYPE=image/webp:https://murphydeals.com/wp-content/uploads/2022/08/Farmers-scaled-e1661813060398.webp
END:VEVENT
BEGIN:VEVENT
DTSTART;TZID=America/Phoenix:20230311T080000
DTEND;TZID=America/Phoenix:20230311T120000
DTSTAMP:20260425T082308
CREATED:20230120T161825Z
LAST-MODIFIED:20230120T175828Z
UID:10007086-1678521600-1678536000@murphydeals.com
SUMMARY:Lake Havasu Farmers Market
DESCRIPTION:The KAWS\n2144 McCulloch Blvd N\nLake Havasu City\, Arizona 86403 \n\n\nthekawslhc.com | Admission Price: Free \n2nd & 4th Saturday\n8am – Noon\n2023 Market Dates: \nJanuary 14 & 28\nFebruary 11 & 25\nMarch 11 & 25\nApril 8 & 22\nMay 13 & 27\nJune 10 & 24\nJuly 8 & 22\nAugust 12 & 26\nSeptember 9 & 23\nOctober 14 & 28\nNovember 11\nDecember 9 \n8 am – 12 pm
URL:https://murphydeals.com/event/lake-havasu-farmers-market-2/2023-03-11/
LOCATION:The KAWS\, 2144 McCulloch Boulevard North\, Lake Havasu City\, AZ\, 86403\, United States
CATEGORIES:Farmers Market
ATTACH;FMTTYPE=image/webp:https://murphydeals.com/wp-content/uploads/2022/08/Farmers-scaled-e1661813060398.webp
END:VEVENT
BEGIN:VEVENT
DTSTART;TZID=America/Phoenix:20230225T080000
DTEND;TZID=America/Phoenix:20230225T120000
DTSTAMP:20260425T082308
CREATED:20220829T224644Z
LAST-MODIFIED:20230120T165800Z
UID:10007062-1677312000-1677326400@murphydeals.com
SUMMARY:Lake Havasu Farmers Market
DESCRIPTION:The KAWS\n2144 McCulloch Blvd N\nLake Havasu City\, Arizona 86403 \n2nd & 4th Saturday\n8am – Noon\n\n\nthekawslhc.com | Admission Price: Free \n2023 Market Dates: \nJanuary 14 & 28\nFebruary 11 & 25\nMarch 11 & 25\nApril 8 & 22\nMay 13 & 27\nJune 10 & 24\nJuly 8 & 22\nAugust 12 & 26\nSeptember 9 & 23\nOctober 14 & 28\nNovember 11\nDecember 9 \n8 am – 12 pm
URL:https://murphydeals.com/event/lake-havasu-farmers-market/2023-02-25/
LOCATION:The KAWS\, 2144 McCulloch Boulevard North\, Lake Havasu City\, AZ\, 86403\, United States
CATEGORIES:Farmers Market
ATTACH;FMTTYPE=image/webp:https://murphydeals.com/wp-content/uploads/2022/08/Farmers-scaled-e1661813060398.webp
END:VEVENT
BEGIN:VEVENT
DTSTART;TZID=America/Phoenix:20230211T080000
DTEND;TZID=America/Phoenix:20230211T120000
DTSTAMP:20260425T082308
CREATED:20230120T161825Z
LAST-MODIFIED:20230120T175828Z
UID:10007085-1676102400-1676116800@murphydeals.com
SUMMARY:Lake Havasu Farmers Market
DESCRIPTION:The KAWS\n2144 McCulloch Blvd N\nLake Havasu City\, Arizona 86403 \n\n\nthekawslhc.com | Admission Price: Free \n2nd & 4th Saturday\n8am – Noon\n2023 Market Dates: \nJanuary 14 & 28\nFebruary 11 & 25\nMarch 11 & 25\nApril 8 & 22\nMay 13 & 27\nJune 10 & 24\nJuly 8 & 22\nAugust 12 & 26\nSeptember 9 & 23\nOctober 14 & 28\nNovember 11\nDecember 9 \n8 am – 12 pm
URL:https://murphydeals.com/event/lake-havasu-farmers-market-2/2023-02-11/
LOCATION:The KAWS\, 2144 McCulloch Boulevard North\, Lake Havasu City\, AZ\, 86403\, United States
CATEGORIES:Farmers Market
ATTACH;FMTTYPE=image/webp:https://murphydeals.com/wp-content/uploads/2022/08/Farmers-scaled-e1661813060398.webp
END:VEVENT
BEGIN:VEVENT
DTSTART;TZID=America/Phoenix:20230128T080000
DTEND;TZID=America/Phoenix:20230128T120000
DTSTAMP:20260425T082308
CREATED:20220829T224644Z
LAST-MODIFIED:20230120T165800Z
UID:10001664-1674892800-1674907200@murphydeals.com
SUMMARY:Lake Havasu Farmers Market
DESCRIPTION:The KAWS\n2144 McCulloch Blvd N\nLake Havasu City\, Arizona 86403 \n2nd & 4th Saturday\n8am – Noon\n\n\nthekawslhc.com | Admission Price: Free \n2023 Market Dates: \nJanuary 14 & 28\nFebruary 11 & 25\nMarch 11 & 25\nApril 8 & 22\nMay 13 & 27\nJune 10 & 24\nJuly 8 & 22\nAugust 12 & 26\nSeptember 9 & 23\nOctober 14 & 28\nNovember 11\nDecember 9 \n8 am – 12 pm
URL:https://murphydeals.com/event/lake-havasu-farmers-market/2023-01-28/
LOCATION:The KAWS\, 2144 McCulloch Boulevard North\, Lake Havasu City\, AZ\, 86403\, United States
CATEGORIES:Farmers Market
ATTACH;FMTTYPE=image/webp:https://murphydeals.com/wp-content/uploads/2022/08/Farmers-scaled-e1661813060398.webp
END:VEVENT
END:VCALENDAR