BEGIN:VCALENDAR
VERSION:2.0
PRODID:-//Murphy Deals - ECPv6.15.20//NONSGML v1.0//EN
CALSCALE:GREGORIAN
METHOD:PUBLISH
X-ORIGINAL-URL:https://murphydeals.com
X-WR-CALDESC:Events for Murphy Deals
REFRESH-INTERVAL;VALUE=DURATION:PT1H
X-Robots-Tag:noindex
X-PUBLISHED-TTL:PT1H
BEGIN:VTIMEZONE
TZID:America/Phoenix
BEGIN:STANDARD
TZOFFSETFROM:-0700
TZOFFSETTO:-0700
TZNAME:MST
DTSTART:20210101T000000
END:STANDARD
END:VTIMEZONE
BEGIN:VEVENT
DTSTART;TZID=America/Phoenix:20221202T180000
DTEND;TZID=America/Phoenix:20221202T210000
DTSTAMP:20260425T202051
CREATED:20221117T152418Z
LAST-MODIFIED:20221118T200355Z
UID:10006620-1670004000-1670014800@murphydeals.com
SUMMARY:Friday Night Street Party
DESCRIPTION:
URL:https://murphydeals.com/event/friday-night-street-party/
CATEGORIES:Arts | Theatre,Farmers
ATTACH;FMTTYPE=image/png:https://murphydeals.com/wp-content/uploads/2022/11/Friday-1-e1668801482778.png
END:VEVENT
END:VCALENDAR