BEGIN:VCALENDAR
VERSION:2.0
PRODID:-//Murphy Deals - ECPv6.15.20//NONSGML v1.0//EN
CALSCALE:GREGORIAN
METHOD:PUBLISH
X-ORIGINAL-URL:https://murphydeals.com
X-WR-CALDESC:Events for Murphy Deals
REFRESH-INTERVAL;VALUE=DURATION:PT1H
X-Robots-Tag:noindex
X-PUBLISHED-TTL:PT1H
BEGIN:VTIMEZONE
TZID:America/Phoenix
BEGIN:STANDARD
TZOFFSETFROM:-0700
TZOFFSETTO:-0700
TZNAME:MST
DTSTART:20230101T000000
END:STANDARD
END:VTIMEZONE
BEGIN:VEVENT
DTSTART;TZID=America/Phoenix:20241005T090000
DTEND;TZID=America/Phoenix:20241005T170000
DTSTAMP:20260425T174346
CREATED:20240819T224000Z
LAST-MODIFIED:20240819T224000Z
UID:10009906-1728118800-1728147600@murphydeals.com
SUMMARY:CARS FOR A CURE FUNDRAISER
DESCRIPTION:On October 5\, it’s a car Show fundraiser event for breast cancer. Music. Raffles. 50/50. Food and drink specials. Trophies. Event shirts. \nAll the fun things for a great cause!
URL:https://murphydeals.com/event/cars-for-a-cure-fundraiser/
LOCATION:BlondZees Steak House\, 4501 London Bridge Road\, Lake Havasu City\, AZ\, 86404\, United States
CATEGORIES:Charity | Benefits,Event,Happy Hour,Live On Location
ATTACH;FMTTYPE=image/png:https://murphydeals.com/wp-content/uploads/2024/08/carsforcure.png
END:VEVENT
END:VCALENDAR