BEGIN:VCALENDAR
VERSION:2.0
PRODID:-//Murphy Deals - ECPv6.15.20//NONSGML v1.0//EN
CALSCALE:GREGORIAN
METHOD:PUBLISH
X-ORIGINAL-URL:https://murphydeals.com
X-WR-CALDESC:Events for Murphy Deals
REFRESH-INTERVAL;VALUE=DURATION:PT1H
X-Robots-Tag:noindex
X-PUBLISHED-TTL:PT1H
BEGIN:VTIMEZONE
TZID:America/Phoenix
BEGIN:STANDARD
TZOFFSETFROM:-0700
TZOFFSETTO:-0700
TZNAME:MST
DTSTART:20230101T000000
END:STANDARD
END:VTIMEZONE
BEGIN:VEVENT
DTSTART;TZID=America/Phoenix:20240907T080000
DTEND;TZID=America/Phoenix:20240907T120000
DTSTAMP:20260425T062508
CREATED:20240905T221047Z
LAST-MODIFIED:20240905T221047Z
UID:10009944-1725696000-1725710400@murphydeals.com
SUMMARY:MARY JO GOLDEY VOLLEYBALL TOURNEMENT
DESCRIPTION:
URL:https://murphydeals.com/event/mary-jo-goldey-volleyball-tournement/
LOCATION:Lake Havasu High School\, 2675 Palo Verde Blvd S\, Lake Havasu City\, Arizona\, 86403
CATEGORIES:High School Sports,Sports | Activities
ATTACH;FMTTYPE=image/jpeg:https://murphydeals.com/wp-content/uploads/2024/09/volleyballtourney.jpg
END:VEVENT
END:VCALENDAR