BEGIN:VCALENDAR
VERSION:2.0
PRODID:-//Murphy Deals - ECPv6.15.20//NONSGML v1.0//EN
CALSCALE:GREGORIAN
METHOD:PUBLISH
X-WR-CALNAME:Murphy Deals
X-ORIGINAL-URL:https://murphydeals.com
X-WR-CALDESC:Events for Murphy Deals
REFRESH-INTERVAL;VALUE=DURATION:PT1H
X-Robots-Tag:noindex
X-PUBLISHED-TTL:PT1H
BEGIN:VTIMEZONE
TZID:America/Phoenix
BEGIN:STANDARD
TZOFFSETFROM:-0700
TZOFFSETTO:-0700
TZNAME:MST
DTSTART:20230101T000000
END:STANDARD
END:VTIMEZONE
BEGIN:VEVENT
DTSTART;TZID=America/Phoenix:20240901T100000
DTEND;TZID=America/Phoenix:20240901T120000
DTSTAMP:20260425T062411
CREATED:20240826T213448Z
LAST-MODIFIED:20240826T213848Z
UID:10009922-1725184800-1725192000@murphydeals.com
SUMMARY:FOR THE LOVE OF PAWS - 1 YEAR ANNIVERSARY EVENT FOR HAPPY HEARTS THRIFT SHOP
DESCRIPTION:We’ll be holding a raffle at the 1 year anniversary event for HAPPY HEARTS Thrift Shop in Golden Valley.  Tickets will be available at the event.  Tickets are $1 each or 5 for $6.  This is a family friendly event with food\, vendors\, music\, pictures and MORE! \n 
URL:https://murphydeals.com/event/for-the-love-of-paws-1-year-anniversary-event-for-happy-hearts-thrift-shop/
LOCATION:Happy Hearts Thrift Store\, 5417 U.S. HWY 68\, Golden Valley\, AZ\, United States
CATEGORIES:Charity | Benefits,Humane Society
ATTACH;FMTTYPE=image/webp:https://murphydeals.com/wp-content/uploads/2024/08/happyhearts.webp
END:VEVENT
BEGIN:VEVENT
DTSTART;TZID=America/Phoenix:20240824T100000
DTEND;TZID=America/Phoenix:20240824T130000
DTSTAMP:20260425T062411
CREATED:20240820T220722Z
LAST-MODIFIED:20240820T220722Z
UID:10009915-1724493600-1724504400@murphydeals.com
SUMMARY:WESTERN ARIZONA HUMANE SOCIETY - SUMMER LOVIN ADOPTION EVENT
DESCRIPTION:Western Arizona Humane Society will be at Petsmart on August 24th from 10:00 to 1:00. Here are a couple special guest that will be at our Summer Lovin Adoption Event(unless they get adopted). Stay tuned for more special furry friends that will be at special event. \n 
URL:https://murphydeals.com/event/western-arizona-humane-society-summer-lovin-adoption-event/
LOCATION:Petsmart\, 5601 AZ-95\, Lake Havasu City\, AZ\, 86403\, United States
CATEGORIES:Charity | Benefits,Event,Humane Society
ATTACH;FMTTYPE=image/png:https://murphydeals.com/wp-content/uploads/2024/08/summerlovin.png
END:VEVENT
END:VCALENDAR