BEGIN:VCALENDAR
VERSION:2.0
PRODID:-//Murphy Deals - ECPv6.15.20//NONSGML v1.0//EN
CALSCALE:GREGORIAN
METHOD:PUBLISH
X-ORIGINAL-URL:https://murphydeals.com
X-WR-CALDESC:Events for Murphy Deals
REFRESH-INTERVAL;VALUE=DURATION:PT1H
X-Robots-Tag:noindex
X-PUBLISHED-TTL:PT1H
BEGIN:VTIMEZONE
TZID:America/Phoenix
BEGIN:STANDARD
TZOFFSETFROM:-0700
TZOFFSETTO:-0700
TZNAME:MST
DTSTART:20210101T000000
END:STANDARD
END:VTIMEZONE
BEGIN:VEVENT
DTSTART;TZID=America/Phoenix:20221115T190000
DTEND;TZID=America/Phoenix:20221115T210000
DTSTAMP:20260425T075846
CREATED:20220926T203912Z
LAST-MODIFIED:20220929T210626Z
UID:10006283-1668538800-1668546000@murphydeals.com
SUMMARY:Steve Wayman at Flying X Saloon
DESCRIPTION:Every Tuesday\n7:00pm-9:00pm
URL:https://murphydeals.com/event/classic-country-with-steve-wayman/2022-11-15/
LOCATION:Flying X Saloon\, 2030 McCulloch Blvd N\, Lake Havasu City\, AZ\, 86403
CATEGORIES:Event,Live On Location,Music | Concerts
ATTACH;FMTTYPE=image/jpeg:https://murphydeals.com/wp-content/uploads/2022/09/countymusic-e1664320162427.jpg
END:VEVENT
BEGIN:VEVENT
DTSTART;TZID=America/Phoenix:20221122T190000
DTEND;TZID=America/Phoenix:20221122T210000
DTSTAMP:20260425T075846
CREATED:20220926T203912Z
LAST-MODIFIED:20220929T210626Z
UID:10006284-1669143600-1669150800@murphydeals.com
SUMMARY:Steve Wayman at Flying X Saloon
DESCRIPTION:Every Tuesday\n7:00pm-9:00pm
URL:https://murphydeals.com/event/classic-country-with-steve-wayman/2022-11-22/
LOCATION:Flying X Saloon\, 2030 McCulloch Blvd N\, Lake Havasu City\, AZ\, 86403
CATEGORIES:Event,Live On Location,Music | Concerts
ATTACH;FMTTYPE=image/jpeg:https://murphydeals.com/wp-content/uploads/2022/09/countymusic-e1664320162427.jpg
END:VEVENT
BEGIN:VEVENT
DTSTART;TZID=America/Phoenix:20221129T190000
DTEND;TZID=America/Phoenix:20221129T210000
DTSTAMP:20260425T075846
CREATED:20220926T203912Z
LAST-MODIFIED:20220929T210626Z
UID:10006285-1669748400-1669755600@murphydeals.com
SUMMARY:Steve Wayman at Flying X Saloon
DESCRIPTION:Every Tuesday\n7:00pm-9:00pm
URL:https://murphydeals.com/event/classic-country-with-steve-wayman/2022-11-29/
LOCATION:Flying X Saloon\, 2030 McCulloch Blvd N\, Lake Havasu City\, AZ\, 86403
CATEGORIES:Event,Live On Location,Music | Concerts
ATTACH;FMTTYPE=image/jpeg:https://murphydeals.com/wp-content/uploads/2022/09/countymusic-e1664320162427.jpg
END:VEVENT
BEGIN:VEVENT
DTSTART;TZID=America/Phoenix:20221206T190000
DTEND;TZID=America/Phoenix:20221206T210000
DTSTAMP:20260425T075846
CREATED:20220926T203912Z
LAST-MODIFIED:20220929T210626Z
UID:10006286-1670353200-1670360400@murphydeals.com
SUMMARY:Steve Wayman at Flying X Saloon
DESCRIPTION:Every Tuesday\n7:00pm-9:00pm
URL:https://murphydeals.com/event/classic-country-with-steve-wayman/2022-12-06/
LOCATION:Flying X Saloon\, 2030 McCulloch Blvd N\, Lake Havasu City\, AZ\, 86403
CATEGORIES:Event,Live On Location,Music | Concerts
ATTACH;FMTTYPE=image/jpeg:https://murphydeals.com/wp-content/uploads/2022/09/countymusic-e1664320162427.jpg
END:VEVENT
BEGIN:VEVENT
DTSTART;TZID=America/Phoenix:20221213T190000
DTEND;TZID=America/Phoenix:20221213T210000
DTSTAMP:20260425T075846
CREATED:20220926T203912Z
LAST-MODIFIED:20220929T210626Z
UID:10006287-1670958000-1670965200@murphydeals.com
SUMMARY:Steve Wayman at Flying X Saloon
DESCRIPTION:Every Tuesday\n7:00pm-9:00pm
URL:https://murphydeals.com/event/classic-country-with-steve-wayman/2022-12-13/
LOCATION:Flying X Saloon\, 2030 McCulloch Blvd N\, Lake Havasu City\, AZ\, 86403
CATEGORIES:Event,Live On Location,Music | Concerts
ATTACH;FMTTYPE=image/jpeg:https://murphydeals.com/wp-content/uploads/2022/09/countymusic-e1664320162427.jpg
END:VEVENT
BEGIN:VEVENT
DTSTART;TZID=America/Phoenix:20221217T090000
DTEND;TZID=America/Phoenix:20221217T120000
DTSTAMP:20260425T075846
CREATED:20221215T172854Z
LAST-MODIFIED:20221215T180527Z
UID:10006842-1671267600-1671278400@murphydeals.com
SUMMARY:Riverview Auto Sales Everyone Drives Event
DESCRIPTION:
URL:https://murphydeals.com/event/riverview-auto-sales-everyone-drives-event/
LOCATION:Riverview Auto Sales\, 1720 W. Acoma Blvd\, Lake Havasu City\, AZ\, 86403
CATEGORIES:Event,Live On Location
ATTACH;FMTTYPE=image/jpeg:https://murphydeals.com/wp-content/uploads/2022/12/Signdrive-scaled-e1671125297402.jpg
END:VEVENT
BEGIN:VEVENT
DTSTART;TZID=America/Phoenix:20230202T170000
DTEND;TZID=America/Phoenix:20230202T190000
DTSTAMP:20260425T075846
CREATED:20230108T174138Z
LAST-MODIFIED:20230202T160442Z
UID:10006889-1675357200-1675364400@murphydeals.com
SUMMARY:Murphy Broadcasting on Location at Paranormal Cirque II in Kingman\, AZ
DESCRIPTION:Paranormal Cirque II is the latest creation brought to you by Cirque Italia combining elements of mystery\, theatrics and acrobatics. \nFebruary 2 – 6\, 2023 \nNote: No-one under the age of 13 will be admitted to the show.  Guests aged 13 – 17 must be accompanied by an adult. \nTicket Prices\n($20.00 – $60.00)\nThursday Feb 2\, 2023 7:30 pm \nFriday Feb 3\, 2023 7:30 pm \nSaturday Feb 4\, 2023 6:30 pm \nSaturday Feb 4\, 2023 9:30 pm \nSunday Feb 5\, 2023 5:30 pm \nSunday Feb 5\, 2023 8:30 pm \nMonday Feb 6\, 2023 7:30 pm \n \nGET TICKETS \nMohave County Fairgrounds\n \n2600 Fairgrounds Blvd\nKingman\, AZ 86401\n \n \n 
URL:https://murphydeals.com/event/paranormal-cirque-ii-in-kingman-az/
LOCATION:Mohave County Fairgrounds\, 2600 Fairgrounds Blvd\, Kingman\, AZ\, 86401
CATEGORIES:Event,Live On Location
ATTACH;FMTTYPE=image/jpeg:https://murphydeals.com/wp-content/uploads/2023/01/ParanormalCirque-e1675353845842.jpg
END:VEVENT
BEGIN:VEVENT
DTSTART;TZID=America/Phoenix:20230207T180000
DTEND;TZID=America/Phoenix:20230207T200000
DTSTAMP:20260425T075846
CREATED:20230206T234948Z
LAST-MODIFIED:20230206T235730Z
UID:10006288-1675792800-1675800000@murphydeals.com
SUMMARY:Steve Wayman at Flying X Saloon
DESCRIPTION:Every Tuesday\n6:00pm-8:00pm
URL:https://murphydeals.com/event/classic-country-with-steve-wayman-2/2023-02-07/
LOCATION:Flying X Saloon\, 2030 McCulloch Blvd N\, Lake Havasu City\, AZ\, 86403
CATEGORIES:Event,Live On Location,Music | Concerts
ATTACH;FMTTYPE=image/jpeg:https://murphydeals.com/wp-content/uploads/2022/09/countymusic-e1664320162427.jpg
END:VEVENT
BEGIN:VEVENT
DTSTART;TZID=America/Phoenix:20230214T180000
DTEND;TZID=America/Phoenix:20230214T200000
DTSTAMP:20260425T075846
CREATED:20230206T234948Z
LAST-MODIFIED:20230206T235730Z
UID:10007168-1676397600-1676404800@murphydeals.com
SUMMARY:Steve Wayman at Flying X Saloon
DESCRIPTION:Every Tuesday\n6:00pm-8:00pm
URL:https://murphydeals.com/event/classic-country-with-steve-wayman-2/2023-02-14/
LOCATION:Flying X Saloon\, 2030 McCulloch Blvd N\, Lake Havasu City\, AZ\, 86403
CATEGORIES:Event,Live On Location,Music | Concerts
ATTACH;FMTTYPE=image/jpeg:https://murphydeals.com/wp-content/uploads/2022/09/countymusic-e1664320162427.jpg
END:VEVENT
BEGIN:VEVENT
DTSTART;TZID=America/Phoenix:20230221T180000
DTEND;TZID=America/Phoenix:20230221T200000
DTSTAMP:20260425T075846
CREATED:20230206T234948Z
LAST-MODIFIED:20230206T235730Z
UID:10007169-1677002400-1677009600@murphydeals.com
SUMMARY:Steve Wayman at Flying X Saloon
DESCRIPTION:Every Tuesday\n6:00pm-8:00pm
URL:https://murphydeals.com/event/classic-country-with-steve-wayman-2/2023-02-21/
LOCATION:Flying X Saloon\, 2030 McCulloch Blvd N\, Lake Havasu City\, AZ\, 86403
CATEGORIES:Event,Live On Location,Music | Concerts
ATTACH;FMTTYPE=image/jpeg:https://murphydeals.com/wp-content/uploads/2022/09/countymusic-e1664320162427.jpg
END:VEVENT
BEGIN:VEVENT
DTSTART;TZID=America/Phoenix:20230228T180000
DTEND;TZID=America/Phoenix:20230228T200000
DTSTAMP:20260425T075846
CREATED:20230206T234948Z
LAST-MODIFIED:20230206T235730Z
UID:10007170-1677607200-1677614400@murphydeals.com
SUMMARY:Steve Wayman at Flying X Saloon
DESCRIPTION:Every Tuesday\n6:00pm-8:00pm
URL:https://murphydeals.com/event/classic-country-with-steve-wayman-2/2023-02-28/
LOCATION:Flying X Saloon\, 2030 McCulloch Blvd N\, Lake Havasu City\, AZ\, 86403
CATEGORIES:Event,Live On Location,Music | Concerts
ATTACH;FMTTYPE=image/jpeg:https://murphydeals.com/wp-content/uploads/2022/09/countymusic-e1664320162427.jpg
END:VEVENT
BEGIN:VEVENT
DTSTART;TZID=America/Phoenix:20230422T110000
DTEND;TZID=America/Phoenix:20230422T140000
DTSTAMP:20260425T075846
CREATED:20230413T165746Z
LAST-MODIFIED:20230413T165852Z
UID:10007507-1682161200-1682172000@murphydeals.com
SUMMARY:Live On Location At Jungle Smoke N Vape
DESCRIPTION:Join us for special deals and spin the prize wheel. It’s going to be a great time!
URL:https://murphydeals.com/event/jungle-smoke-n-vape/
LOCATION:Jungle Smoke N Vape\, Health and Wellness\, 3129 Stockton Hill Rd\, Kingman\, Arizona\, 86401
CATEGORIES:Event,Live On Location
ATTACH;FMTTYPE=image/jpeg:https://murphydeals.com/wp-content/uploads/2022/01/JSV2-e1642613500418.jpg
END:VEVENT
BEGIN:VEVENT
DTSTART;TZID=America/Phoenix:20230729T110000
DTEND;TZID=America/Phoenix:20230729T140000
DTSTAMP:20260425T075846
CREATED:20230717T220716Z
LAST-MODIFIED:20230718T160524Z
UID:10008320-1690628400-1690639200@murphydeals.com
SUMMARY:Pinkbox Doughnuts Grand Opening at the Edgewater
DESCRIPTION:Join Murphy Broadcasting for the Grand Opening of Pink Box Doughnuts!\nSpin the Prize wheel for awesome prizes and Sam Hunt tickets!
URL:https://murphydeals.com/event/pink-box-doughnuts-grand-opening-at-the-edgewater/
LOCATION:Edgewater Casino Resort\, 2020 S Casino Drive\, Laughlin\, NV\, 89029
CATEGORIES:Event,Live On Location
ATTACH;FMTTYPE=image/jpeg:https://murphydeals.com/wp-content/uploads/2023/07/Pink-Box-1-e1689631001776.jpg
END:VEVENT
BEGIN:VEVENT
DTSTART;TZID=America/Phoenix:20240806T180000
DTEND;TZID=America/Phoenix:20240806T210000
DTSTAMP:20260425T075846
CREATED:20240802T233023Z
LAST-MODIFIED:20240805T202654Z
UID:10008603-1722967200-1722978000@murphydeals.com
SUMMARY:OPEN MIC NIGHT - HOSTED BY BRITTNEY & JEREMY OF THE UAPS
DESCRIPTION:Tuesdays are no just about tacos… \nIt’s also Open Mic Night at Best Brews Taproom EVERY TUESDAY NIGHT from 6-9 PM!!!
URL:https://murphydeals.com/event/open-mic-night-hosted-by-brittney-jeremy-of-the-uaps-2/2024-08-06/
LOCATION:Best Brews Tap Room\, 2068 McCulloch Blvd. N Suite A\, Lake Havasu City\, AZ\, 86404\, United States
CATEGORIES:Arts | Theatre,Event,Live On Location,Music | Concerts
ATTACH;FMTTYPE=image/jpeg:https://murphydeals.com/wp-content/uploads/2024/08/IMG_1017-e1722641404393-1.jpg
END:VEVENT
BEGIN:VEVENT
DTSTART;TZID=America/Phoenix:20240808T193000
DTEND;TZID=America/Phoenix:20240808T213000
DTSTAMP:20260425T075846
CREATED:20240806T234114Z
LAST-MODIFIED:20240809T001711Z
UID:10009841-1723145400-1723152600@murphydeals.com
SUMMARY:THE ICE KINGDOM CIRQUE - UNDER THE BIG TOP
DESCRIPTION:Thurs: 7:30    Fri: 7:30    Sat:4:30 & 7:30    Sun:3:30 & 6:30 |  \nThe Ice Kingdom Cirque blends the enchantment of traditional circus with the allure of ice. World-class performers showcase breathtaking acrobatics and elegant ice dances in a dazzling winter wonderland filled with lights and music. Ideal for families and people of all ages. Whether it’s an afternoon with the kids or a special family outing\, this icy circus offers captivating entertainment for everyone. Our mission is to create unforgettable experiences that bring families together and celebrate the magic of the circus. We aim to inspire wonder and joy\, promoting creativity and inclusivity in every performance.
URL:https://murphydeals.com/event/the-ice-kindom-cirque-under-the-big-top/2024-08-08/
LOCATION:Mohave County Fairgrounds\, 2600 Fairgrounds Blvd\, Kingman\, AZ\, 86401
CATEGORIES:Arts | Theatre,Event,Live On Location
ATTACH;FMTTYPE=image/png:https://murphydeals.com/wp-content/uploads/2024/08/icekingdoncirque.png
END:VEVENT
BEGIN:VEVENT
DTSTART;TZID=America/Phoenix:20240809T190000
DTEND;TZID=America/Phoenix:20240809T230000
DTSTAMP:20260425T075846
CREATED:20240807T225417Z
LAST-MODIFIED:20240810T000725Z
UID:10009852-1723230000-1723244400@murphydeals.com
SUMMARY:SAFTEY ORANGE - LIVE AT SUNDANCE SALOON
DESCRIPTION:They’re back Parker!  Friday night on the river at Sundance Saloon.  Music\, food\, drinks\, and it’s FREE! \nwww.safetyorange.com
URL:https://murphydeals.com/event/saftey-orange-live-at-sundance-saloon/
LOCATION:Sundance Saloon\, 5920 Riverside Dr\, Parker\, AZ\, 85344
CATEGORIES:Event,Live On Location,Music | Concerts
ATTACH;FMTTYPE=image/png:https://murphydeals.com/wp-content/uploads/2024/08/safteyorange.png
END:VEVENT
BEGIN:VEVENT
DTSTART;TZID=America/Phoenix:20240809T193000
DTEND;TZID=America/Phoenix:20240809T213000
DTSTAMP:20260425T075846
CREATED:20240809T185001Z
LAST-MODIFIED:20240809T185027Z
UID:10009865-1723231800-1723239000@murphydeals.com
SUMMARY:THE ICE KINGDOM CIRQUE - UNDER THE BIG TOP
DESCRIPTION:Sat:4:30 & 7:30    Sun:3:30 & 6:30 |  \nThe Ice Kingdom Cirque blends the enchantment of traditional circus with the allure of ice. World-class performers showcase breathtaking acrobatics and elegant ice dances in a dazzling winter wonderland filled with lights and music. Ideal for families and people of all ages. Whether it’s an afternoon with the kids or a special family outing\, this icy circus offers captivating entertainment for everyone. Our mission is to create unforgettable experiences that bring families together and celebrate the magic of the circus. We aim to inspire wonder and joy\, promoting creativity and inclusivity in every performance.
URL:https://murphydeals.com/event/the-ice-kindom-cirque-under-the-big-top-2/
LOCATION:Mohave County Fairgrounds\, 2600 Fairgrounds Blvd\, Kingman\, AZ\, 86401
CATEGORIES:Arts | Theatre,Event,Live On Location
ATTACH;FMTTYPE=image/png:https://murphydeals.com/wp-content/uploads/2024/08/icekingdoncirque.png
END:VEVENT
BEGIN:VEVENT
DTSTART;TZID=America/Phoenix:20240809T210000
DTEND;TZID=America/Phoenix:20240810T010000
DTSTAMP:20260425T075846
CREATED:20240807T193038Z
LAST-MODIFIED:20240807T193038Z
UID:10009843-1723237200-1723251600@murphydeals.com
SUMMARY:RONNIE LEE PURE GUITAR GOLD - LIVE AT HAVASU LANDING RESORT & CASINO
DESCRIPTION:
URL:https://murphydeals.com/event/ronnie-lee-pure-guitar-gold-live-at-havasu-landing-resort-casino/2024-08-09/
LOCATION:Havasu Landing Resort & Casino\, 13145 Havasu Lake Road\, Havasu Lake\, California\, 92363
CATEGORIES:Event,Live On Location,Music | Concerts
ATTACH;FMTTYPE=image/png:https://murphydeals.com/wp-content/uploads/2024/08/ronnielee.png
END:VEVENT
BEGIN:VEVENT
DTSTART;TZID=America/Phoenix:20240810T163000
DTEND;TZID=America/Phoenix:20240810T220000
DTSTAMP:20260425T075846
CREATED:20240810T000126Z
LAST-MODIFIED:20240810T000126Z
UID:10009875-1723307400-1723327200@murphydeals.com
SUMMARY:THE ICE KINGDOM CIRQUE - UNDER THE BIG TOP
DESCRIPTION:Sat:4:30 & 7:30     \nThe Ice Kingdom Cirque blends the enchantment of traditional circus with the allure of ice. World-class performers showcase breathtaking acrobatics and elegant ice dances in a dazzling winter wonderland filled with lights and music. Ideal for families and people of all ages. Whether it’s an afternoon with the kids or a special family outing\, this icy circus offers captivating entertainment for everyone. Our mission is to create unforgettable experiences that bring families together and celebrate the magic of the circus. We aim to inspire wonder and joy\, promoting creativity and inclusivity in every performance.
URL:https://murphydeals.com/event/the-ice-kingdom-cirque-under-the-big-top/
LOCATION:Mohave County Fairgrounds\, 2600 Fairgrounds Blvd\, Kingman\, AZ\, 86401
CATEGORIES:Arts | Theatre,Event,Live On Location
ATTACH;FMTTYPE=image/png:https://murphydeals.com/wp-content/uploads/2024/08/icekingdoncirque.png
END:VEVENT
BEGIN:VEVENT
DTSTART;TZID=America/Phoenix:20240810T210000
DTEND;TZID=America/Phoenix:20240811T010000
DTSTAMP:20260425T075846
CREATED:20240807T193038Z
LAST-MODIFIED:20240807T193038Z
UID:10009844-1723323600-1723338000@murphydeals.com
SUMMARY:RONNIE LEE PURE GUITAR GOLD - LIVE AT HAVASU LANDING RESORT & CASINO
DESCRIPTION:
URL:https://murphydeals.com/event/ronnie-lee-pure-guitar-gold-live-at-havasu-landing-resort-casino/2024-08-10/
LOCATION:Havasu Landing Resort & Casino\, 13145 Havasu Lake Road\, Havasu Lake\, California\, 92363
CATEGORIES:Event,Live On Location,Music | Concerts
ATTACH;FMTTYPE=image/png:https://murphydeals.com/wp-content/uploads/2024/08/ronnielee.png
END:VEVENT
BEGIN:VEVENT
DTSTART;TZID=America/Phoenix:20240811T150000
DTEND;TZID=America/Phoenix:20240811T190000
DTSTAMP:20260425T075846
CREATED:20240808T213441Z
LAST-MODIFIED:20240808T230720Z
UID:10009855-1723388400-1723402800@murphydeals.com
SUMMARY:MUDFISH - LIVE AT LIGHTHOUSE LOUNGE
DESCRIPTION:
URL:https://murphydeals.com/event/mudfish-live-at-lighthouse/
LOCATION:Lighthouse Lounge\, 317 S Lake Havasu Ave\, Lake Havasu City\, AZ\, 86403\, United States
CATEGORIES:Event,Live On Location,Music | Concerts
ATTACH;FMTTYPE=image/png:https://murphydeals.com/wp-content/uploads/2024/08/mudfishlighthouse-1.png
END:VEVENT
BEGIN:VEVENT
DTSTART;TZID=America/Phoenix:20240813T180000
DTEND;TZID=America/Phoenix:20240813T210000
DTSTAMP:20260425T075846
CREATED:20240802T233023Z
LAST-MODIFIED:20240805T202654Z
UID:10009761-1723572000-1723582800@murphydeals.com
SUMMARY:OPEN MIC NIGHT - HOSTED BY BRITTNEY & JEREMY OF THE UAPS
DESCRIPTION:Tuesdays are no just about tacos… \nIt’s also Open Mic Night at Best Brews Taproom EVERY TUESDAY NIGHT from 6-9 PM!!!
URL:https://murphydeals.com/event/open-mic-night-hosted-by-brittney-jeremy-of-the-uaps-2/2024-08-13/
LOCATION:Best Brews Tap Room\, 2068 McCulloch Blvd. N Suite A\, Lake Havasu City\, AZ\, 86404\, United States
CATEGORIES:Arts | Theatre,Event,Live On Location,Music | Concerts
ATTACH;FMTTYPE=image/jpeg:https://murphydeals.com/wp-content/uploads/2024/08/IMG_1017-e1722641404393-1.jpg
END:VEVENT
BEGIN:VEVENT
DTSTART;TZID=America/Phoenix:20240814T190000
DTEND;TZID=America/Phoenix:20240814T220000
DTSTAMP:20260425T075846
CREATED:20240808T215326Z
LAST-MODIFIED:20240808T215326Z
UID:10009856-1723662000-1723672800@murphydeals.com
SUMMARY:ONE EYED ROMEO - LIVE AT LIGHTHOUSE LOUNGE
DESCRIPTION:
URL:https://murphydeals.com/event/one-eyed-romeo-live-at-lighthouse-lounge/
LOCATION:Lighthouse Lounge\, 317 S Lake Havasu Ave\, Lake Havasu City\, AZ\, 86403\, United States
CATEGORIES:Event,Live On Location,Music | Concerts
ATTACH;FMTTYPE=image/png:https://murphydeals.com/wp-content/uploads/2024/08/oneeyedromeolighthouse.png
END:VEVENT
BEGIN:VEVENT
DTSTART;TZID=America/Phoenix:20240816T210000
DTEND;TZID=America/Phoenix:20240817T010000
DTSTAMP:20260425T075846
CREATED:20240807T194821Z
LAST-MODIFIED:20240808T220651Z
UID:10009847-1723842000-1723856400@murphydeals.com
SUMMARY:ONE EYED ROMEO - LIVE AT HAVASU LANDING RESORT & CASINO
DESCRIPTION:
URL:https://murphydeals.com/event/one-eyed-romeo-live-at-havasu-landing-resort-casino/2024-08-16/
LOCATION:Havasu Landing Resort & Casino\, 13145 Havasu Lake Road\, Havasu Lake\, California\, 92363
CATEGORIES:Event,Live On Location,Music | Concerts
ATTACH;FMTTYPE=image/png:https://murphydeals.com/wp-content/uploads/2024/08/oneeyedromeolanding.png
END:VEVENT
BEGIN:VEVENT
DTSTART;TZID=America/Phoenix:20240817T080000
DTEND;TZID=America/Phoenix:20240817T160000
DTSTAMP:20260425T075846
CREATED:20240813T224026Z
LAST-MODIFIED:20240813T224026Z
UID:10009881-1723881600-1723910400@murphydeals.com
SUMMARY:KATHERINE LANDING PATRIOT'S DAY BOAT PARADE
DESCRIPTION:Decorate your boat with red\, white and blue and join us for a spectacular boat parade.  Spectators will vote for for the best donated boat.  1st Place $500\, 2nd Place $200\, 3rd Place $100.  Beach party is open to everyone.  Games\, face painting and more for the kids!! \n  \n 
URL:https://murphydeals.com/event/katherine-landing-patriots-day-boat-parade/
LOCATION:Katherine Landing Marina\, 2690 E Katherine Spur Road\, Bullhead City\, AZ\, 86429\, United States
CATEGORIES:Boat Meetup,Event,Festival,Live On Location
ATTACH;FMTTYPE=image/png:https://murphydeals.com/wp-content/uploads/2024/08/patriotdayparade.png
END:VEVENT
BEGIN:VEVENT
DTSTART;TZID=America/Phoenix:20240817T170000
DTEND;TZID=America/Phoenix:20240817T200000
DTSTAMP:20260425T075846
CREATED:20240814T181526Z
LAST-MODIFIED:20240815T202231Z
UID:10009882-1723914000-1723924800@murphydeals.com
SUMMARY:SCOTT AND SABRINA - LIVE AT HANGAR 24
DESCRIPTION:Singer/Songwriters | Nashville Recording Artists | Modern Country/Rock
URL:https://murphydeals.com/event/scott-and-sabrina-live-at-hangar-24-2/
LOCATION:Hangar 24 Lake Havasu City\, AZ\, 5600 Arizona 95\, Lake Havasu City\, AZ\, 86404\, United States
CATEGORIES:Event,Live On Location,Music | Concerts
ATTACH;FMTTYPE=image/png:https://murphydeals.com/wp-content/uploads/2024/08/scottandsabrina.png
END:VEVENT
BEGIN:VEVENT
DTSTART;TZID=America/Phoenix:20240817T190000
DTEND;TZID=America/Phoenix:20240817T220000
DTSTAMP:20260425T075846
CREATED:20240808T225334Z
LAST-MODIFIED:20240808T225334Z
UID:10009858-1723921200-1723932000@murphydeals.com
SUMMARY:GOODHEART - LIVE AT LIGHTHOUSE LOUNGE
DESCRIPTION:Local band out of Kingman\, AZ playing Classic Rock\, Southern Rock\, Blues\, Jazz\, Folk\, Country\, R&B.
URL:https://murphydeals.com/event/goodheart-live-at-lighthouse-lounge/
LOCATION:Lighthouse Lounge\, 317 S Lake Havasu Ave\, Lake Havasu City\, AZ\, 86403\, United States
CATEGORIES:Event,Live On Location,Music | Concerts
ATTACH;FMTTYPE=image/png:https://murphydeals.com/wp-content/uploads/2024/08/goodheartlighthouse.png
END:VEVENT
BEGIN:VEVENT
DTSTART;TZID=America/Phoenix:20240817T200000
DTEND;TZID=America/Phoenix:20240817T230000
DTSTAMP:20260425T075846
CREATED:20240814T182517Z
LAST-MODIFIED:20240814T182517Z
UID:10009883-1723924800-1723935600@murphydeals.com
SUMMARY:JAY GORDON AND BLUES VENOM - LIVE AT HARLEYS & HOTRODS
DESCRIPTION:Jay Gordon (nine time award winner) grew up in Chicago\, the center of the blues world. Throughout his career\, Jay Gordon has become famous for his slashing guitar solos\, his passionate vocals\, and his dedication to the blues. While his inspirations have included Buddy Guy\, Johnny Winter\, Jimi Hendrix and Stevie Ray Vaughan\, he does not sound like any of his predecessors and has long had his own distinctive voice. Never interested in merely recreating the past\, Jay has moved the blues forward to the 21st century\, infusing the music with the fire and power of rock while carving out his own place in the music world.\nGordon has recorded 17 CDs\, his latest cd in 2019 Slide Rules received world wide air play.  headlined his own European tours and gained a worldwide reputation.\nHe was one of 50 guitarists picked by Eric Clapton (who was very impressed after hearing one of Jay’s CDs) to perform at the 2004 Crossroads Guitar Festival.\nJay has played and opened up for many famous artist\, such as\, Johnny Winter\, Eric Clapton\, ZZ Top\, Lynyrd Skynyrd\, Paul Rogers\, and Bad Co.\, 38 Special\, BB King\, Def Leopard\, Buddy Guy\, Albert Collins\, Montgomery Gentry and many more. Jay also played to 250\,000 screaming fans at Sturgis\, S.D. several times.\nHIS SONGS ARE ON TOUCH TUNES JUKE BOXES\, ACROSS THE USA.\nJay Gordon has been featured on nationally syndicated radio program\, Blues Deluxe. “Jay Gordon and his band are one of our favorite ways to rock the blues!” said Dave Johnson\, host of BLUES DELUXE – which is heard weekly on over 100 stations across the U.S. with a two million-plus listeners . Jay’s music is also featured on SiriusXM® Radio\, Electric Blues Radio\, and hundreds of other stations worldwide.\nJay Gordon the legendary blues rock guitarist was one of the Judges at the 2010 and again 2011 Guitar Center’s “King of the Blues contest”\nJay also recorded with the Texas Guitar legend Phillip Walker\,\nJay Gordon received the REAL BLUES ANNUAL AWARD\, Canada for Best Blues/Rock Guitarist 2001\, 2003  and 2006.\n2007 Annual South Bay Music Awards Jay won best Blues Band.\n2009 Annual South Bay Music Awards Jay won Guitarist of the year. His signature song “Fire & Brimstone  Boogie” was one of the hits of the evening.\n2012 The 22nd Annual Los Angeles Music Awards\nJay Gordon was presented his Nomination for “Americana\, Blues\, Roots Artist of the Year” from Al Bowman Saturday Night March 10\, 2012 at the Hollywood\, CA. House of Blues.\nJay and his band Blues Venom have also been Nominated for “Rock Album of the Year and Show Case Artist.”\nJay won the 2012 LAMA Award for Show Case Artist of the Year.\nJay also received the 2012 LAMA Producers Choice Award for Guitarist of the year.\nBest Blues/Rock release on foreign label/ 10th annual Canadian Real Blues Awards.\nHis bassist Sharon Butcher received the 2012 LAMA Producers Choice Award for Bassist of the year.\nShe also won the 2009 Annual South Bay Music Awards for Bassist of the year. \nJay had two featured songs ( Black Top Alley and Stringstalkin) in a major motion picture “My Brother’s War”  produced by James Brolin.\nJay co-wrote with Keven Kern and played on the first three episodes of “Nightmare on Elm Street” the TV series.\nJay’s songs are used by A&E reality show\, “Parking Wars 2008 and 2009 seasons. “Fire & Brimstone Boogie” on episode 21\, “Driving Me Wild” on episode 26 & 29\, “My Heart Is Heavy” on episode 34 and “Lost In Time” on episode 35.
URL:https://murphydeals.com/event/jay-gordon-and-blues-venom-live-at-harleys-hotrods/
LOCATION:Harleyz And Hot Rodz\, 2061 Swanson Ave\, Lake Havasu City\, AZ\, 86403\, United States
CATEGORIES:Event,Live On Location,Music | Concerts
ATTACH;FMTTYPE=image/png:https://murphydeals.com/wp-content/uploads/2024/08/jaygordon.png
END:VEVENT
BEGIN:VEVENT
DTSTART;TZID=America/Phoenix:20240817T210000
DTEND;TZID=America/Phoenix:20240818T010000
DTSTAMP:20260425T075846
CREATED:20240807T194821Z
LAST-MODIFIED:20240808T220651Z
UID:10009848-1723928400-1723942800@murphydeals.com
SUMMARY:ONE EYED ROMEO - LIVE AT HAVASU LANDING RESORT & CASINO
DESCRIPTION:
URL:https://murphydeals.com/event/one-eyed-romeo-live-at-havasu-landing-resort-casino/2024-08-17/
LOCATION:Havasu Landing Resort & Casino\, 13145 Havasu Lake Road\, Havasu Lake\, California\, 92363
CATEGORIES:Event,Live On Location,Music | Concerts
ATTACH;FMTTYPE=image/png:https://murphydeals.com/wp-content/uploads/2024/08/oneeyedromeolanding.png
END:VEVENT
BEGIN:VEVENT
DTSTART;TZID=America/Phoenix:20240818T150000
DTEND;TZID=America/Phoenix:20240818T190000
DTSTAMP:20260425T075846
CREATED:20240808T230242Z
LAST-MODIFIED:20240808T230242Z
UID:10009859-1723993200-1724007600@murphydeals.com
SUMMARY:MIDNIGHT REBEL - LIVE AT LIGHTHOUSE LOUNGE
DESCRIPTION:Classic Rock from the Seventies and Eighties and beyond!
URL:https://murphydeals.com/event/midnight-rebel-live-at-lighthouse-lounge/
LOCATION:Lighthouse Lounge\, 317 S Lake Havasu Ave\, Lake Havasu City\, AZ\, 86403\, United States
CATEGORIES:Event,Live On Location,Music | Concerts
ATTACH;FMTTYPE=image/png:https://murphydeals.com/wp-content/uploads/2024/08/midnightrebellighthouse.png
END:VEVENT
END:VCALENDAR