BEGIN:VCALENDAR
VERSION:2.0
PRODID:-//Murphy Deals - ECPv6.15.20//NONSGML v1.0//EN
CALSCALE:GREGORIAN
METHOD:PUBLISH
X-ORIGINAL-URL:https://murphydeals.com
X-WR-CALDESC:Events for Murphy Deals
REFRESH-INTERVAL;VALUE=DURATION:PT1H
X-Robots-Tag:noindex
X-PUBLISHED-TTL:PT1H
BEGIN:VTIMEZONE
TZID:America/Phoenix
BEGIN:STANDARD
TZOFFSETFROM:-0700
TZOFFSETTO:-0700
TZNAME:MST
DTSTART:20230101T000000
END:STANDARD
END:VTIMEZONE
BEGIN:VEVENT
DTSTART;TZID=America/Phoenix:20241025T170000
DTEND;TZID=America/Phoenix:20241025T203000
DTSTAMP:20260425T150744
CREATED:20241007T223545Z
LAST-MODIFIED:20241007T223545Z
UID:10009969-1729875600-1729888200@murphydeals.com
SUMMARY:CLOTHES CLOSET - HOPELESS TO HOPEFUL TO HERO DINNER FUNDRAISER
DESCRIPTION:Join us for a fundraiser that benefits The Clothes Closet on Friday\, October 25\, 2024 in Lake Havasu City. This dinner fundraiser will be held at the Shugrue’s Bridgeview Room from 5:00 p.m.-8 p.m.\n\nSpecial guest speaker is Mike Justus.\n\nMike Justus grew up in a beach community in Goleta\, Calif.\, surfing\, motorcycle riding and doing action sports as a child.\n\nAll of his action sports led to a career as a stuntman\, stunt driver\, stunt double and stunt coordinator in some of the biggest films in the movie industry.\n\nSome of these movies include “Terminator 2”\, “Titanic”\, “Transformers”\, “300”\, “Gone in 60 Seconds”\, “Rat Race”\, “Live Free Die Hard”\, and was a stunt driver in “Fast and Furious”.\nHe also was a stunt double for John Travolta in “Swordfish”\, Harrison Ford in “Indiana Jones and the Crystal Skull”\, Ben Aflec in “Batman Vs. Superman”\, and Hugh Jackman in “Van Helsing”.\n\nOne of the most iconic movies he’s known for is his stunts in “Iron Man”. He doubled Robert Downey Jr. and he is the man in the Iron Man suit throughout the movie.\n\nA silent auction will also be held as well as photo ops with Mike Justus.\n\nTickets for this event are $100 a person with the money going towards the Clothes Closet. Dinner will be an Italian meal.\n\nTickets can be purchased at Lin’s Little China\, National Bank of Arizona and the Clothes Closet. Tickets will be available for purchase Monday\, September 9.\n\nFor those Marvel fans unable to attend event\, but would like to have a photo op with Mike\, at 8-8:30 p.m.\, doors will remain open for you to come by and meet him for a donation to the Clothes Closet.
URL:https://murphydeals.com/event/clothes-closet-hopeless-to-hopeful-to-hero-dinner-fundraiser/
LOCATION:Bridge Room at Shugrue’s\, 1425 McCulloch Blvd N\, Lake Havasu City\, AZ\, 86404\, United States
CATEGORIES:Charity | Benefits,Event,Speaking Event
ATTACH;FMTTYPE=image/png:https://murphydeals.com/wp-content/uploads/2024/10/ccstuntman.png
END:VEVENT
BEGIN:VEVENT
DTSTART;TZID=America/Phoenix:20240825T103000
DTEND;TZID=America/Phoenix:20240825T133000
DTSTAMP:20260425T150744
CREATED:20240820T215521Z
LAST-MODIFIED:20240820T215521Z
UID:10009914-1724581800-1724592600@murphydeals.com
SUMMARY:THE JOY FACTOR WITH TARA HEATON - THE BIOLOGY BEHIND JOY
DESCRIPTION:The Joy Factor with Tara Heaton\, guest speaker \nJoin our Unity community as we host Tara Heaton! Through her energizing\, moving presentation\, “The Joy Factor\,” Tara delivers a compelling exploration of how our culture is relying on quick hits of pleasure as an alternative to the deeper\, more sustaining biology of joy. \nInformed by the latest neurological research\, Tara skillfully demonstrates how easy access to dopamine-driven hits of pleasure is impeding our capacity to experience true joy. Not only does she explain a more sustainable\, fulfilling way to reduce anxiety and prolong energy\, but she also empowers audiences by sharing her heartache and how she has learned to repurpose it into an energy of joy. \nA key component of Tara’s message is the power of courageous vulnerability and how to leverage it to embrace deep\, meaningful interactions that foster genuine happiness. \n“The Joy Factor” promises to enlighten\, energize\, and inspire audience members to a more gratifying way to experience life.
URL:https://murphydeals.com/event/the-joy-factor-with-tara-heaton-the-biology-behind-joy/
LOCATION:Unity Spiritual Center\, 967 Hancock\, Unit 93\, Bullhead City\, AZ\, 86442\, United States
CATEGORIES:Speaking Event
ATTACH;FMTTYPE=image/png:https://murphydeals.com/wp-content/uploads/2024/08/taraheaton.png
END:VEVENT
END:VCALENDAR