BEGIN:VCALENDAR
VERSION:2.0
PRODID:-//Murphy Deals - ECPv6.15.20//NONSGML v1.0//EN
CALSCALE:GREGORIAN
METHOD:PUBLISH
X-ORIGINAL-URL:https://murphydeals.com
X-WR-CALDESC:Events for Murphy Deals
REFRESH-INTERVAL;VALUE=DURATION:PT1H
X-Robots-Tag:noindex
X-PUBLISHED-TTL:PT1H
BEGIN:VTIMEZONE
TZID:America/Phoenix
BEGIN:STANDARD
TZOFFSETFROM:-0700
TZOFFSETTO:-0700
TZNAME:MST
DTSTART:20230101T000000
END:STANDARD
END:VTIMEZONE
BEGIN:VEVENT
DTSTART;TZID=America/Phoenix:20250307T180000
DTEND;TZID=America/Phoenix:20250307T210000
DTSTAMP:20260423T111148
CREATED:20241007T225842Z
LAST-MODIFIED:20241007T230414Z
UID:10009905-1741370400-1741381200@murphydeals.com
SUMMARY:LAKE HAVASU FIRST FRIDAY
DESCRIPTION:Downtown Lake Havasu is the hottest place to be on First Fridays! (Held September through May). Discover local artisans\, makers and pop up boutiques in the Artist & Vintage Village located along the sidewalks of McCulloch. The dense core of First Friday is right along McCulloch between Smoketree and Mulberry.
URL:https://murphydeals.com/event/first-friday-season-6-kickoff-2/2025-03-07/
LOCATION:First Friday\, McCulloch Blvd
CATEGORIES:Arts | Theatre,Event,Festival,Live On Location,Music | Concerts,Street Fair,Tradeshow | Expo
ATTACH;FMTTYPE=image/jpeg:https://murphydeals.com/wp-content/uploads/2024/08/firstfriday.jpg
END:VEVENT
BEGIN:VEVENT
DTSTART;TZID=America/Phoenix:20250207T180000
DTEND;TZID=America/Phoenix:20250207T210000
DTSTAMP:20260423T111148
CREATED:20241007T225842Z
LAST-MODIFIED:20241007T230414Z
UID:10009904-1738951200-1738962000@murphydeals.com
SUMMARY:LAKE HAVASU FIRST FRIDAY
DESCRIPTION:Downtown Lake Havasu is the hottest place to be on First Fridays! (Held September through May). Discover local artisans\, makers and pop up boutiques in the Artist & Vintage Village located along the sidewalks of McCulloch. The dense core of First Friday is right along McCulloch between Smoketree and Mulberry.
URL:https://murphydeals.com/event/first-friday-season-6-kickoff-2/2025-02-07/
LOCATION:First Friday\, McCulloch Blvd
CATEGORIES:Arts | Theatre,Event,Festival,Live On Location,Music | Concerts,Street Fair,Tradeshow | Expo
ATTACH;FMTTYPE=image/jpeg:https://murphydeals.com/wp-content/uploads/2024/08/firstfriday.jpg
END:VEVENT
BEGIN:VEVENT
DTSTART;TZID=America/Phoenix:20250103T180000
DTEND;TZID=America/Phoenix:20250103T210000
DTSTAMP:20260423T111148
CREATED:20241007T225842Z
LAST-MODIFIED:20241007T230414Z
UID:10009903-1735927200-1735938000@murphydeals.com
SUMMARY:LAKE HAVASU FIRST FRIDAY
DESCRIPTION:Downtown Lake Havasu is the hottest place to be on First Fridays! (Held September through May). Discover local artisans\, makers and pop up boutiques in the Artist & Vintage Village located along the sidewalks of McCulloch. The dense core of First Friday is right along McCulloch between Smoketree and Mulberry.
URL:https://murphydeals.com/event/first-friday-season-6-kickoff-2/2025-01-03/
LOCATION:First Friday\, McCulloch Blvd
CATEGORIES:Arts | Theatre,Event,Festival,Live On Location,Music | Concerts,Street Fair,Tradeshow | Expo
ATTACH;FMTTYPE=image/jpeg:https://murphydeals.com/wp-content/uploads/2024/08/firstfriday.jpg
END:VEVENT
BEGIN:VEVENT
DTSTART;TZID=America/Phoenix:20241206T180000
DTEND;TZID=America/Phoenix:20241206T210000
DTSTAMP:20260423T111148
CREATED:20241007T225842Z
LAST-MODIFIED:20241007T230414Z
UID:10009902-1733508000-1733518800@murphydeals.com
SUMMARY:LAKE HAVASU FIRST FRIDAY
DESCRIPTION:Downtown Lake Havasu is the hottest place to be on First Fridays! (Held September through May). Discover local artisans\, makers and pop up boutiques in the Artist & Vintage Village located along the sidewalks of McCulloch. The dense core of First Friday is right along McCulloch between Smoketree and Mulberry.
URL:https://murphydeals.com/event/first-friday-season-6-kickoff-2/2024-12-06/
LOCATION:First Friday\, McCulloch Blvd
CATEGORIES:Arts | Theatre,Event,Festival,Live On Location,Music | Concerts,Street Fair,Tradeshow | Expo
ATTACH;FMTTYPE=image/jpeg:https://murphydeals.com/wp-content/uploads/2024/08/firstfriday.jpg
END:VEVENT
BEGIN:VEVENT
DTSTART;TZID=America/Phoenix:20241101T180000
DTEND;TZID=America/Phoenix:20241101T210000
DTSTAMP:20260423T111148
CREATED:20241007T225842Z
LAST-MODIFIED:20241007T230414Z
UID:10009901-1730484000-1730494800@murphydeals.com
SUMMARY:LAKE HAVASU FIRST FRIDAY
DESCRIPTION:Downtown Lake Havasu is the hottest place to be on First Fridays! (Held September through May). Discover local artisans\, makers and pop up boutiques in the Artist & Vintage Village located along the sidewalks of McCulloch. The dense core of First Friday is right along McCulloch between Smoketree and Mulberry.
URL:https://murphydeals.com/event/first-friday-season-6-kickoff-2/2024-11-01/
LOCATION:First Friday\, McCulloch Blvd
CATEGORIES:Arts | Theatre,Event,Festival,Live On Location,Music | Concerts,Street Fair,Tradeshow | Expo
ATTACH;FMTTYPE=image/jpeg:https://murphydeals.com/wp-content/uploads/2024/08/firstfriday.jpg
END:VEVENT
BEGIN:VEVENT
DTSTART;TZID=America/Phoenix:20241031T160000
DTEND;TZID=America/Phoenix:20241031T200000
DTSTAMP:20260423T111148
CREATED:20241007T230929Z
LAST-MODIFIED:20241007T231246Z
UID:10009973-1730390400-1730404800@murphydeals.com
SUMMARY:HAVASU FRIGHT NIGHT 2024
DESCRIPTION:Brought to you by the Downtown Association we present our 19th ANNUAL FRIGHT NIGHT \n\nEnjoy a FREE safe and traffic-free trick-or-treating experience in historic downtown Lake Havasu City\, suitable for all ages!\n\nThis year’s event promises to be the most electrifying yet\, showcasing new haunted house attractions\, chilling scare zones\, and THRILLING live performances Expect unexpected surprises\, engaging storylines\, and special effects that will leave you craving more.\n\nAdditional details will be announced in the coming weeks. Get ready for a Halloween to remember at Havasu Fright Night 2024\n\nBE AWARE OF SCAMMERSFright Night DOES NOT offer or advertise Vendor space. Havasu Fright Night is the only authorized page for direct sources for this event. Do not send money or engage with any personal profiles claiming to ‘help sign you up’… If you see somthing questionable please screenshot & PM
URL:https://murphydeals.com/event/havasu-fright-night-2024/
LOCATION:McCulloch Boulevard North\, McCulloch Blvd N\, Lake Havasu City\, AZ\, USA
CATEGORIES:Arts | Theatre,Event,Festival,Holiday Event,Live On Location,Music | Concerts,Street Fair
ATTACH;FMTTYPE=image/png:https://murphydeals.com/wp-content/uploads/2024/10/havasufrightnight.png
END:VEVENT
BEGIN:VEVENT
DTSTART;TZID=America/Phoenix:20241026T100000
DTEND;TZID=America/Phoenix:20241027T230000
DTSTAMP:20260423T111148
CREATED:20240821T225502Z
LAST-MODIFIED:20241007T220952Z
UID:10009966-1729936800-1730070000@murphydeals.com
SUMMARY:CORNFEST 2024
DESCRIPTION:The Kiwanis of the Colorado River is excited to welcome to you to the 2024 Cornfest! This is the 7th year of the return of the Cornfest. We have a lot in store for you and your family this year! Hosted the Kiwanis of the Colorado River and Presented Living Waters Hospice\, this family event is shaping up to a be fun and exciting event. Here is just a preview of some of what we have lined up: \n\nMain Community Stage will have an action packed line-up of great music and entertainment brought you Anderson Auto Group featuring local bands\, and DJ Loke will keep the party going!\nVendors’ Outdoor Arena featuring local retail vendors\nFood Vendors\nLarge kids zone featuring Bounce Houses\, Face Painters\, Games\, Petting Zoo and more!\n12 Game Booths operated local youth organizations.\nTeen Zone Featuring A Car Smash\, Bungee Jump\, and a dunk tank!\nAAU Strongman Competition will feature a some an amazing show of strength and endurance.\nThe Kiwanis of the Colorado River Axe Throwing Center sponsored Kenneth Sondgeroth Law\nA Haunted House\, The Largest Haunted House In the Area.\n\n\n\n\n\nThe funds generated this even stay right in this community.  The event host\, Kiwanis of The Colorado River (Noon Club) dedicating a portion of our funds to be used to enhance Gary Keith Park at the very site this even will be held at. We provide high school scholarships\, grants to teachers\, turkeys at Thanksgiving\, books to children\, and playgrounds throughout the area.
URL:https://murphydeals.com/event/cornfest-2024/2024-10-26/
LOCATION:Gary Keith Park\, 2345-2361 Hwy 95\, Bullhead City\, AZ\, 86442\, United States
CATEGORIES:Arts | Theatre,Charity | Benefits,Event,Festival,Live On Location,Music | Concerts,Street Fair
ATTACH;FMTTYPE=image/webp:https://murphydeals.com/wp-content/uploads/2024/08/cornfest.webp
END:VEVENT
BEGIN:VEVENT
DTSTART;TZID=America/Phoenix:20241025T170000
DTEND;TZID=America/Phoenix:20241025T220000
DTSTAMP:20260423T111148
CREATED:20240821T225502Z
LAST-MODIFIED:20241007T220952Z
UID:10009920-1729875600-1729893600@murphydeals.com
SUMMARY:CORNFEST 2024
DESCRIPTION:The Kiwanis of the Colorado River is excited to welcome to you to the 2024 Cornfest! This is the 7th year of the return of the Cornfest. We have a lot in store for you and your family this year! Hosted the Kiwanis of the Colorado River and Presented Living Waters Hospice\, this family event is shaping up to a be fun and exciting event. Here is just a preview of some of what we have lined up: \n\nMain Community Stage will have an action packed line-up of great music and entertainment brought you Anderson Auto Group featuring local bands\, and DJ Loke will keep the party going!\nVendors’ Outdoor Arena featuring local retail vendors\nFood Vendors\nLarge kids zone featuring Bounce Houses\, Face Painters\, Games\, Petting Zoo and more!\n12 Game Booths operated local youth organizations.\nTeen Zone Featuring A Car Smash\, Bungee Jump\, and a dunk tank!\nAAU Strongman Competition will feature a some an amazing show of strength and endurance.\nThe Kiwanis of the Colorado River Axe Throwing Center sponsored Kenneth Sondgeroth Law\nA Haunted House\, The Largest Haunted House In the Area.\n\n\n\n\n\nThe funds generated this even stay right in this community.  The event host\, Kiwanis of The Colorado River (Noon Club) dedicating a portion of our funds to be used to enhance Gary Keith Park at the very site this even will be held at. We provide high school scholarships\, grants to teachers\, turkeys at Thanksgiving\, books to children\, and playgrounds throughout the area.
URL:https://murphydeals.com/event/cornfest-2024/2024-10-25/
LOCATION:Gary Keith Park\, 2345-2361 Hwy 95\, Bullhead City\, AZ\, 86442\, United States
CATEGORIES:Arts | Theatre,Charity | Benefits,Event,Festival,Live On Location,Music | Concerts,Street Fair
ATTACH;FMTTYPE=image/webp:https://murphydeals.com/wp-content/uploads/2024/08/cornfest.webp
END:VEVENT
BEGIN:VEVENT
DTSTART;TZID=America/Phoenix:20241016T080000
DTEND;TZID=America/Phoenix:20241020T170000
DTSTAMP:20260423T111148
CREATED:20240910T191648Z
LAST-MODIFIED:20240910T191648Z
UID:10009958-1729065600-1729443600@murphydeals.com
SUMMARY:RELICS AND RODS- 46th RUN TO THE SUN
DESCRIPTION:The Relics & Rods Car Club was formed in 1975 by 9 residents who had an interest in old cars. During the first few years the club met at various locations around town including Kings Clipper Barber Shop\, Wings Best Western Motel\, the Chamber of Commerce. \n  \n \n  \n 
URL:https://murphydeals.com/event/relics-and-rods-46th-run-to-the-sun/
LOCATION:London Bridge Resort\, 1477 Queens Bay\, Lake Havasu City\, AZ\, 86403
CATEGORIES:Arizona Car Shows,Car Show,Event,Live On Location,Street Fair
ATTACH;FMTTYPE=image/png:https://murphydeals.com/wp-content/uploads/2024/09/rodsandrelics.png
END:VEVENT
BEGIN:VEVENT
DTSTART;TZID=America/Phoenix:20241012T100000
DTEND;TZID=America/Phoenix:20241012T210000
DTSTAMP:20260423T111148
CREATED:20240829T174619Z
LAST-MODIFIED:20240829T175956Z
UID:10009943-1728727200-1728766800@murphydeals.com
SUMMARY:4th ANNUAL I ❤ 66 FEST
DESCRIPTION:The I ❤ 66 Fest celebrates all things Route 66\, especially the culture and history surrounding it\, and is hosted in beautiful Lewis Kingman Park\, a historic park that was one of Arizona’s few shady rest stops along the Mother Road. \nThe 4th Annual 66 Fest features: \nLive bands\nThe Queen of the Mother Road Pin Up Contest\nLive art displays\nInteractive Cadillac Ranch Experience\nBeer garden serving regional craft beers\nFood & art vendors\nRoute 66 Classics Car Show\nVintage trailer show & camp-out\nRoute 66 displays\nKingman’s first & only zipline\nFun activity zones including inflatables & train rides\nPhotobooth\nThe I ❤ 66 Fest is free for spectators and free public parking is available in the adjacent lot at the corner of Andy Devine (Route 66) and Fairgrounds Ave. \nStay tuned for more details!
URL:https://murphydeals.com/event/4th-annual-i-%e2%9d%a4-66-fest/2024-10-12/
LOCATION:Lewis Kingman Park
CATEGORIES:Car Show,Event,Festival,Live On Location,Music | Concerts,Sports | Activities,Street Fair,Tradeshow | Expo
ATTACH;FMTTYPE=image/jpeg:https://murphydeals.com/wp-content/uploads/2024/08/kingmanroute66fest.jpg
END:VEVENT
BEGIN:VEVENT
DTSTART;TZID=America/Phoenix:20241012T090000
DTEND;TZID=America/Phoenix:20241012T180000
DTSTAMP:20260423T111148
CREATED:20240923T234301Z
LAST-MODIFIED:20240923T234301Z
UID:10009961-1728723600-1728756000@murphydeals.com
SUMMARY:BIG BOYS TOYS 2024
DESCRIPTION:The Big Boys Toys and Extreme Machines event is BACK on McCulloch Boulevard in Lake Havasu City!
URL:https://murphydeals.com/event/big-boys-toys-2024/
LOCATION:McCulloch Boulevard North\, McCulloch Blvd N\, Lake Havasu City\, AZ\, USA
CATEGORIES:Bike Show,Car Show,Event,Live On Location,Street Fair
ATTACH;FMTTYPE=image/jpeg:https://murphydeals.com/wp-content/uploads/2024/09/bigboytoys.jpg
END:VEVENT
BEGIN:VEVENT
DTSTART;TZID=America/Phoenix:20241011T140000
DTEND;TZID=America/Phoenix:20241011T210000
DTSTAMP:20260423T111148
CREATED:20240829T174619Z
LAST-MODIFIED:20240829T175956Z
UID:10009942-1728655200-1728680400@murphydeals.com
SUMMARY:4th ANNUAL I ❤ 66 FEST
DESCRIPTION:The I ❤ 66 Fest celebrates all things Route 66\, especially the culture and history surrounding it\, and is hosted in beautiful Lewis Kingman Park\, a historic park that was one of Arizona’s few shady rest stops along the Mother Road. \nThe 4th Annual 66 Fest features: \nLive bands\nThe Queen of the Mother Road Pin Up Contest\nLive art displays\nInteractive Cadillac Ranch Experience\nBeer garden serving regional craft beers\nFood & art vendors\nRoute 66 Classics Car Show\nVintage trailer show & camp-out\nRoute 66 displays\nKingman’s first & only zipline\nFun activity zones including inflatables & train rides\nPhotobooth\nThe I ❤ 66 Fest is free for spectators and free public parking is available in the adjacent lot at the corner of Andy Devine (Route 66) and Fairgrounds Ave. \nStay tuned for more details!
URL:https://murphydeals.com/event/4th-annual-i-%e2%9d%a4-66-fest/2024-10-11/
LOCATION:Lewis Kingman Park
CATEGORIES:Car Show,Event,Festival,Live On Location,Music | Concerts,Sports | Activities,Street Fair,Tradeshow | Expo
ATTACH;FMTTYPE=image/jpeg:https://murphydeals.com/wp-content/uploads/2024/08/kingmanroute66fest.jpg
END:VEVENT
BEGIN:VEVENT
DTSTART;TZID=America/Phoenix:20241004T180000
DTEND;TZID=America/Phoenix:20241004T210000
DTSTAMP:20260423T111148
CREATED:20240815T220401Z
LAST-MODIFIED:20240905T194645Z
UID:10009900-1728064800-1728075600@murphydeals.com
SUMMARY:FIRST FRIDAY:  SEASON 6 KICKOFF
DESCRIPTION:Downtown Lake Havasu is the hottest place to be on First Fridays! (Held September through May). Discover local artisans\, makers and pop up boutiques in the Artist & Vintage Village located along the sidewalks of McCulloch. The dense core of First Friday is right along McCulloch between Smoketree and Mulberry.
URL:https://murphydeals.com/event/first-friday-season-6-kickoff/2024-10-04/
LOCATION:First Friday\, McCulloch Blvd
CATEGORIES:Arts | Theatre,Event,Festival,Live On Location,Music | Concerts,Street Fair,Tradeshow | Expo
ATTACH;FMTTYPE=image/jpeg:https://murphydeals.com/wp-content/uploads/2024/08/firstfriday.jpg
END:VEVENT
BEGIN:VEVENT
DTSTART;TZID=America/Phoenix:20240906T180000
DTEND;TZID=America/Phoenix:20240906T210000
DTSTAMP:20260423T111148
CREATED:20240815T220401Z
LAST-MODIFIED:20240905T194645Z
UID:10009889-1725645600-1725656400@murphydeals.com
SUMMARY:FIRST FRIDAY:  SEASON 6 KICKOFF
DESCRIPTION:Downtown Lake Havasu is the hottest place to be on First Fridays! (Held September through May). Discover local artisans\, makers and pop up boutiques in the Artist & Vintage Village located along the sidewalks of McCulloch. The dense core of First Friday is right along McCulloch between Smoketree and Mulberry.
URL:https://murphydeals.com/event/first-friday-season-6-kickoff/2024-09-06/
LOCATION:First Friday\, McCulloch Blvd
CATEGORIES:Arts | Theatre,Event,Festival,Live On Location,Music | Concerts,Street Fair,Tradeshow | Expo
ATTACH;FMTTYPE=image/jpeg:https://murphydeals.com/wp-content/uploads/2024/08/firstfriday.jpg
END:VEVENT
END:VCALENDAR