BEGIN:VCALENDAR
VERSION:2.0
PRODID:-//Murphy Deals - ECPv6.15.20//NONSGML v1.0//EN
CALSCALE:GREGORIAN
METHOD:PUBLISH
X-WR-CALNAME:Murphy Deals
X-ORIGINAL-URL:https://murphydeals.com
X-WR-CALDESC:Events for Murphy Deals
REFRESH-INTERVAL;VALUE=DURATION:PT1H
X-Robots-Tag:noindex
X-PUBLISHED-TTL:PT1H
BEGIN:VTIMEZONE
TZID:America/Phoenix
BEGIN:STANDARD
TZOFFSETFROM:-0700
TZOFFSETTO:-0700
TZNAME:MST
DTSTART:20230101T000000
END:STANDARD
END:VTIMEZONE
BEGIN:VEVENT
DTSTART;TZID=America/Phoenix:20241011T180000
DTEND;TZID=America/Phoenix:20241012T170000
DTSTAMP:20260425T044822
CREATED:20240819T230448Z
LAST-MODIFIED:20240819T230448Z
UID:10009908-1728669600-1728752400@murphydeals.com
SUMMARY:2024 COBRA REGATTA
DESCRIPTION:Join us for the 2024 Cobra Regatta!\nThis year is all about being bold and vivid so make sure to wearing your brightest attire!\n\nFriday: 6:00 PM – 10:00 PMEvening Party at the Riviera Marina\n\nSaturday:Early Morning Helicopter Photoshoot with ToddMeet at the Sandbar after\nTickets and more information to come!
URL:https://murphydeals.com/event/2024-cobra-regatta/
LOCATION:Riviera Marina\, 067 Havasu Riviera Pkwy\, Lake Havasu City\, AZ\, 86403\, United States
CATEGORIES:Boat Meetup,Boat Regatta,Event,Watersports
ATTACH;FMTTYPE=image/png:https://murphydeals.com/wp-content/uploads/2024/08/cobraregatta.png
END:VEVENT
BEGIN:VEVENT
DTSTART;TZID=America/Phoenix:20241007T080000
DTEND;TZID=America/Phoenix:20241013T170000
DTSTAMP:20260425T044822
CREATED:20240819T225143Z
LAST-MODIFIED:20240819T225143Z
UID:10009907-1728288000-1728838800@murphydeals.com
SUMMARY:IJSBA WORLD FINALS
DESCRIPTION:Racing begins on Monday\, October 7- October 13 for the 43rd Annual IJSBA World Finals in Lake Havasu City\, AZ at Crazy Horse Campground. \nThe IJSBA World Finals is a water competition of PWC’s on the lake which include both standup and sit down. \nSaturday\, October 12\, under the London Bridge in Lake Havasu\, is the freestyle competition which starts after sunset. \nQuestions about the event should be directed to the IJSBA by emailing info@ijsba.com or by calling +1-714-751-8695 on Monday through Thursday’s from 9:00 am to 5:00 pm\, Pacific Standard Time.
URL:https://murphydeals.com/event/ijsba-world-finals/
LOCATION:Crazy Horse Campgrounds\, 1534 Beachcomber Blvd\, Lake Havasu City\, 86403\, United States
CATEGORIES:Event,Jet Ski Event,Live On Location,Sports | Activities,Watersports
ATTACH;FMTTYPE=image/png:https://murphydeals.com/wp-content/uploads/2024/08/isjba.png
END:VEVENT
BEGIN:VEVENT
DTSTART;TZID=America/Phoenix:20241005T133000
DTEND;TZID=America/Phoenix:20241005T190000
DTSTAMP:20260425T044822
CREATED:20240819T213109Z
LAST-MODIFIED:20240819T213109Z
UID:10009899-1728135000-1728154800@murphydeals.com
SUMMARY:U.S. FREESTYLE CHAMPIONSHIPS FALL ROUND
DESCRIPTION:Saturday\, October 5\, 2024 under the London Bridge\nLake Havasu City\, Arizona\n\n\nSpring Round of  US Freestyle Championship\n\nMain event is 1:30 p.m.
URL:https://murphydeals.com/event/u-s-freestyle-championships-fall-round/
LOCATION:London Bridge Resort\, 1477 Queens Bay\, Lake Havasu City\, AZ\, 86403
CATEGORIES:Event,Jet Ski Event,Live On Location,Sports | Activities,Watersports
ATTACH;FMTTYPE=image/png:https://murphydeals.com/wp-content/uploads/2024/08/usfreestyle.png
END:VEVENT
END:VCALENDAR