BEGIN:VCALENDAR
VERSION:2.0
PRODID:-//Murphy Deals - ECPv6.15.20//NONSGML v1.0//EN
CALSCALE:GREGORIAN
METHOD:PUBLISH
X-ORIGINAL-URL:https://murphydeals.com
X-WR-CALDESC:Events for Murphy Deals
REFRESH-INTERVAL;VALUE=DURATION:PT1H
X-Robots-Tag:noindex
X-PUBLISHED-TTL:PT1H
BEGIN:VTIMEZONE
TZID:America/Phoenix
BEGIN:STANDARD
TZOFFSETFROM:-0700
TZOFFSETTO:-0700
TZNAME:MST
DTSTART:20230101T000000
END:STANDARD
END:VTIMEZONE
BEGIN:VEVENT
DTSTART;TZID=America/Phoenix:20251108T060000
DTEND;TZID=America/Phoenix:20251108T180000
DTSTAMP:20260423T055015
CREATED:20250305T221632Z
LAST-MODIFIED:20250305T224838Z
UID:10010264-1762581600-1762624800@murphydeals.com
SUMMARY:Havasu Heroes Memorial Golf Tournament - Lake Havasu Golf Club
DESCRIPTION:More information to come
URL:https://murphydeals.com/event/havasu-heroes-memorial-golf-tournament-lake-havasu-golf-club/
LOCATION:Lake Havasu Golf Club\, 2400 Clubhouse Drive\, Lake Havasu City\, AZ\, 86406\, United States
CATEGORIES:Event
END:VEVENT
BEGIN:VEVENT
DTSTART;TZID=America/Phoenix:20250913T080000
DTEND;TZID=America/Phoenix:20250913T200000
DTSTAMP:20260423T055015
CREATED:20250305T222946Z
LAST-MODIFIED:20250305T223039Z
UID:10010266-1757750400-1757793600@murphydeals.com
SUMMARY:Bailey Zimmerman - Harrahs Rio Vista Outdoor Amphitheater
DESCRIPTION:Go tickets
URL:https://murphydeals.com/event/bailey-zimmerman-harrahs-rio-vista-outdoor-amphitheater/
LOCATION:Harrahs Rio Vista Outdoor Amphitheater
CATEGORIES:Music | Concerts
END:VEVENT
BEGIN:VEVENT
DTSTART;TZID=America/Phoenix:20250510T090000
DTEND;TZID=America/Phoenix:20250510T090000
DTSTAMP:20260423T055015
CREATED:20250310T212732Z
LAST-MODIFIED:20250310T212732Z
UID:10010315-1746867600-1746867600@murphydeals.com
SUMMARY:Kingmans Railroad Museum's Annual Train Show - College Park Coummunity Church
DESCRIPTION:Found on Facebook Events more info can be found there
URL:https://murphydeals.com/event/kingmans-railroad-museums-annual-train-show-college-park-coummunity-church/
LOCATION:College Park Community Center\, 1990 Jagerson Avenue\, Kingman\, AZ\, 86409
CATEGORIES:Event
END:VEVENT
BEGIN:VEVENT
DTSTART;TZID=America/Phoenix:20250503T120000
DTEND;TZID=America/Phoenix:20250503T120000
DTSTAMP:20260423T055015
CREATED:20250305T232511Z
LAST-MODIFIED:20250305T232511Z
UID:10010270-1746273600-1746273600@murphydeals.com
SUMMARY:Historic Route 66 Fun Run - 208-210 N 5th St
DESCRIPTION:The first weekend in May\, more than 1\,000 classic cars restored to their original mint conditions pass through Williams as part of a several-city rally along historic Route 66. This two-day event is a must-do for auto buffs\, and anyone else who finds mystique and memories on the open road
URL:https://murphydeals.com/event/historic-route-66-fun-run-208-210-n-5th-st/
LOCATION:208-210 N 5th St
CATEGORIES:Event
END:VEVENT
BEGIN:VEVENT
DTSTART;TZID=America/Phoenix:20250502T100000
DTEND;TZID=America/Phoenix:20250502T140000
DTSTAMP:20260423T055015
CREATED:20250305T232209Z
LAST-MODIFIED:20250305T232209Z
UID:10010269-1746180000-1746194400@murphydeals.com
SUMMARY:Veteran's Resource Fair - MCC Beale Street Center 309
DESCRIPTION:Veterans resource fair in kingman az
URL:https://murphydeals.com/event/veterans-resource-fair-mcc-beale-street-center-309/
LOCATION:MCC Beale Street Center\, 309 Beale St\, Kingman\, AZ\, 86401\, United States
CATEGORIES:Event
END:VEVENT
BEGIN:VEVENT
DTSTART;TZID=America/Phoenix:20250418T120000
DTEND;TZID=America/Phoenix:20250420T150000
DTSTAMP:20260423T055015
CREATED:20250305T221204Z
LAST-MODIFIED:20250305T224949Z
UID:10010263-1744977600-1745161200@murphydeals.com
SUMMARY:34th Annual Boat Show - London bridge Rd
DESCRIPTION:More information to come
URL:https://murphydeals.com/event/34th-annual-boat-show-london-bridge-rd/
LOCATION:4015 London Bridge Road\, 4015 London Bridge Road\, Lake Havasu City\, AZ\, 86404\, United States
CATEGORIES:Event
END:VEVENT
BEGIN:VEVENT
DTSTART;TZID=America/Phoenix:20250406T090000
DTEND;TZID=America/Phoenix:20250406T120000
DTSTAMP:20260423T055015
CREATED:20250310T214812Z
LAST-MODIFIED:20250310T214812Z
UID:10010318-1743930000-1743940800@murphydeals.com
SUMMARY:2025 Spring Lake Havasu Youth Market LHC
DESCRIPTION:Lake Havasu youngest entrepreneurs\, ages 5-18\, Are busy creating products and marketing their business in preparation for market day. On Sunday\, April 6\, 2025 from 9am- noon\, They are open for business  at The KAWS\, 2144 McCulloch Blvd N.
URL:https://murphydeals.com/event/2025-spring-lake-havasu-youth-market-lhc/
LOCATION:The KAWS on McCulloch\, 2144 McCulloch Blvd North\, Lake Havasu City\, AZ\, 86403\, United States
CATEGORIES:Event
END:VEVENT
BEGIN:VEVENT
DTSTART;TZID=America/Phoenix:20250405T110000
DTEND;TZID=America/Phoenix:20250405T110000
DTSTAMP:20260423T055015
CREATED:20250305T233150Z
LAST-MODIFIED:20250305T233150Z
UID:10010271-1743850800-1743850800@murphydeals.com
SUMMARY:Street Eats on 66 - Lewis Kingman park
DESCRIPTION:More info to come
URL:https://murphydeals.com/event/street-eats-on-66-lewis-kingman-park/
LOCATION:Lewis Kingman Park
CATEGORIES:Event
END:VEVENT
BEGIN:VEVENT
DTSTART;TZID=America/Phoenix:20250329T100000
DTEND;TZID=America/Phoenix:20250329T170000
DTSTAMP:20260423T055015
CREATED:20250310T213458Z
LAST-MODIFIED:20250310T213710Z
UID:10010316-1743242400-1743267600@murphydeals.com
SUMMARY:Q's & Brew's BBQ Competition LHC
DESCRIPTION:This incredible event will feature BBQ pitmasters from across the country\, food trucks\, raffles\, a basket auction\, and so much more – all to benefit the Mohave Community Collage Foundation Scholarship Fund. Admission is FREE\, so mark your calendars!!
URL:https://murphydeals.com/event/qs-brews-bbq-competition/
LOCATION:Mohave Community College\, 3400 AZ-95\, Bullhead City\, Arizona\, 86442
CATEGORIES:Event
END:VEVENT
BEGIN:VEVENT
DTSTART;TZID=America/Phoenix:20250327T170000
DTEND;TZID=America/Phoenix:20250327T170000
DTSTAMP:20260423T055015
CREATED:20250305T214735Z
LAST-MODIFIED:20250305T214854Z
UID:10010260-1743094800-1743094800@murphydeals.com
SUMMARY:National Civics Bee- Lake Havasu High School Performing Arts Center
DESCRIPTION:Free to the public! \nThe Lake Havasu Area Chamber of Commerce is partnering with the U.S. Chamber of Commerce Foundation to host a nonpartisan civics competition that encourages young Americans to engage in civics and contribute to their communities. Participating 6th\, 7th and 8th graders will flex their civics knowledge for a chance to win recognition and cash prizes. Finalists will be invited to Washington\, DC to compete in the National Civics Bee® national championship in Fall 2025.
URL:https://murphydeals.com/event/national-civics-bee-lake-havasu-high-school-performing-arts-center/
LOCATION:Lake Havasu High School\, 2675 Palo Verde Blvd S\, Lake Havasu City\, Arizona\, 86403
CATEGORIES:Event
END:VEVENT
BEGIN:VEVENT
DTSTART;TZID=America/Phoenix:20250322T090000
DTEND;TZID=America/Phoenix:20250323T220000
DTSTAMP:20260423T055015
CREATED:20250305T220159Z
LAST-MODIFIED:20250305T225130Z
UID:10010261-1742634000-1742767200@murphydeals.com
SUMMARY:Woddystocks Featuring Extreme Machines - Lake Havasu Winder Park
DESCRIPTION:More info  to come
URL:https://murphydeals.com/event/woddystocks-featuring-extreme-machines-lake-havasu-winder-park/
LOCATION:SARA Park\, 7260 Sara Parkway\, Lake Havasu City\, AZ\, 86406\, United States
CATEGORIES:Event
END:VEVENT
BEGIN:VEVENT
DTSTART;TZID=America/Phoenix:20250315T100000
DTEND;TZID=America/Phoenix:20250315T180000
DTSTAMP:20260423T055015
CREATED:20250305T223310Z
LAST-MODIFIED:20250305T223310Z
UID:10010267-1742032800-1742061600@murphydeals.com
SUMMARY:St Patrick's Day Celebration- pirate Cove Resort
DESCRIPTION:Join us on Saturday\, March 15th at Pirate Cove Resort to celebrate St Patrick’s Day by enjoying the beautiful view of the Colorado River and our drink & food specials
URL:https://murphydeals.com/event/st-patricks-day-celebration-pirate-cove-resort/
LOCATION:Pirate Cove Resort & Marina\, 100 Park Moabi Road\, Needles\, California\, 92363
CATEGORIES:Event
END:VEVENT
BEGIN:VEVENT
DTSTART;TZID=America/Phoenix:20250314T080000
DTEND;TZID=America/Phoenix:20250316T170000
DTSTAMP:20260423T055015
CREATED:20250310T221754Z
LAST-MODIFIED:20250310T221754Z
UID:10010321-1741939200-1742144400@murphydeals.com
SUMMARY:FASTEST Boats on the Colorado River Parker Az
DESCRIPTION:Event hours: \nThursday: Registration 9-4pm \nFriday: Registration 8-4pm Test and Tune is at 9-5pm \nSaturday: Registration 8-4pm Qualifying 9-5pm \nSunday: Registration 8-12pm Eliminations Day 9-Complleted \nAt Pirate’s Den and the beautiful LaPaz County Park this coming weekend. As a reminder do not go early as you will be turned away by staff.
URL:https://murphydeals.com/event/fastest-boats-on-the-colorado-river-parker-az/
LOCATION:Pirate’s Den Resort\, 7350 Riverside Dr\, Parker Az\, AZ\, 85344\, United States
CATEGORIES:Boat Meetup,Boat Regatta
END:VEVENT
BEGIN:VEVENT
DTSTART;TZID=America/Phoenix:20250309T120000
DTEND;TZID=America/Phoenix:20250309T170000
DTSTAMP:20260423T055015
CREATED:20250305T220731Z
LAST-MODIFIED:20250305T225601Z
UID:10010262-1741521600-1741539600@murphydeals.com
SUMMARY:Crosscutt Live - Bunkerbar
DESCRIPTION:More info to come
URL:https://murphydeals.com/event/crosscutt-live-bunkerbar/
LOCATION:The Bunker Bar\, 6942 Thirsty Lizard Rd\, Lake Havasu City\, AZ\, 86404\, United States
CATEGORIES:Event
END:VEVENT
BEGIN:VEVENT
DTSTART;TZID=America/Phoenix:20250308T100000
DTEND;TZID=America/Phoenix:20250308T120000
DTSTAMP:20260423T055015
CREATED:20250305T222230Z
LAST-MODIFIED:20250305T222230Z
UID:10010265-1741428000-1741435200@murphydeals.com
SUMMARY:4th Annual Southwest Chowderfest - 699 London Bridge Rd
DESCRIPTION:Lake Havasu City restaurants will be serving up their own unique versions of chowder for a friendly competition to win the Golden Ladle. There will also be a variety of breweries\, wineries and distilleries sampling and marketing their craft. This event will benefit education for women and girls\, both locally and internationally. This fun-filled\, community-centered event will highlight local businesses and organizations and feature live music\, vendors and exhibitors
URL:https://murphydeals.com/event/4th-annual-southwest-chowderfest-699-london-bridge-rd/
LOCATION:699 london brige rd
CATEGORIES:Event
END:VEVENT
BEGIN:VEVENT
DTSTART;TZID=America/Phoenix:20250307T180000
DTEND;TZID=America/Phoenix:20250307T210000
DTSTAMP:20260423T055015
CREATED:20241007T225842Z
LAST-MODIFIED:20241007T230414Z
UID:10009905-1741370400-1741381200@murphydeals.com
SUMMARY:LAKE HAVASU FIRST FRIDAY
DESCRIPTION:Downtown Lake Havasu is the hottest place to be on First Fridays! (Held September through May). Discover local artisans\, makers and pop up boutiques in the Artist & Vintage Village located along the sidewalks of McCulloch. The dense core of First Friday is right along McCulloch between Smoketree and Mulberry.
URL:https://murphydeals.com/event/first-friday-season-6-kickoff-2/2025-03-07/
LOCATION:First Friday\, McCulloch Blvd
CATEGORIES:Arts | Theatre,Event,Festival,Live On Location,Music | Concerts,Street Fair,Tradeshow | Expo
ATTACH;FMTTYPE=image/jpeg:https://murphydeals.com/wp-content/uploads/2024/08/firstfriday.jpg
END:VEVENT
BEGIN:VEVENT
DTSTART;TZID=America/Phoenix:20250307T170000
DTEND;TZID=America/Phoenix:20250307T210000
DTSTAMP:20260423T055015
CREATED:20250305T225327Z
LAST-MODIFIED:20250305T225327Z
UID:10010268-1741366800-1741381200@murphydeals.com
SUMMARY:First Friday Live After 5 - Beale Street
DESCRIPTION:Live after 5
URL:https://murphydeals.com/event/first-friday-live-after-5-beale-street/
LOCATION:Beale Street Theater\, 304 Beale St\, Kingman\, AZ\, 86401\, United States
END:VEVENT
BEGIN:VEVENT
DTSTART;TZID=America/Phoenix:20250222T190000
DTEND;TZID=America/Phoenix:20250222T220000
DTSTAMP:20260423T055015
CREATED:20240820T180108Z
LAST-MODIFIED:20240820T180108Z
UID:10009911-1740250800-1740261600@murphydeals.com
SUMMARY:JOHN WAITE - LIVE AT THE EDGE PAVILION
DESCRIPTION:Known for classic tracks such as the No. 1 worldwide hit “Missing You\,” the voice of legendary dual-band lead John Waite remains a staple on classic rock radio. With an extensive career discography spanning from powerful ballads to arena rock anthems\, all blended with elements of his signature new-wave-styled power pop\, Waite will now come to The Edge Pavilion to perform a selection of hits from his 40-year career\, showcasing his work both as a solo artist and with The Baby’s and Bad English. Hits like “Isn’t It Time\,” “When I See You Smile\,” “Tears\,” “These Times Are Hard For Lovers” and more will ring out in chorus when Waite takes to the stage for what’s sure to be a performance to remember. \nGet Tickets
URL:https://murphydeals.com/event/john-waite-live-at-the-edge-pavilion/
LOCATION:Edge Pavilion\, 2020 S Casino Drive\, Laughlin\, 89029\, 89029
CATEGORIES:Arts | Theatre,Event,Live On Location,Music | Concerts
ATTACH;FMTTYPE=image/png:https://murphydeals.com/wp-content/uploads/2024/08/johnwaite.png
END:VEVENT
BEGIN:VEVENT
DTSTART;TZID=America/Phoenix:20250215T190000
DTEND;TZID=America/Phoenix:20250215T220000
DTSTAMP:20260423T055015
CREATED:20240820T174650Z
LAST-MODIFIED:20240820T174650Z
UID:10009910-1739646000-1739656800@murphydeals.com
SUMMARY:MICKY DOLENZ OF THE MONKEES: SONGS & STORIES - LIVE AT THE EDGE PAVILION
DESCRIPTION:Celebrated for their chart-topping hits and platinum albums\, The Monkees achieved global fame through their legendary TV show and iconic tracks including hits like “Last Train to Clarksville” and “I’m a Believer.” Since parting ways with the band\, Micky Dolenz\, the group’s former lead vocalist and drummer\, continues to thrive as an actor\, singer\, director\, producer\, writer\, radio DJ\, inventor and all-around performer extraordinaire. Dolenz continues to enjoy a highly successful solo career\, during which he has extensively toured and shows no signs of slowing down\, now bringing his latest act\, “Micky Dolenz of the Monkees – Songs and Stories\,”to centerstage Laughlin. \nGet Tickets
URL:https://murphydeals.com/event/micky-dolenz-of-the-monkees-songs-stories-live-at-the-edge-pavilion/
LOCATION:Edge Pavilion\, 2020 S Casino Drive\, Laughlin\, 89029\, 89029
CATEGORIES:Arts | Theatre,Event,Live On Location,Music | Concerts
ATTACH;FMTTYPE=image/png:https://murphydeals.com/wp-content/uploads/2024/08/mickydolnez.png
END:VEVENT
BEGIN:VEVENT
DTSTART;TZID=America/Phoenix:20250207T180000
DTEND;TZID=America/Phoenix:20250207T210000
DTSTAMP:20260423T055015
CREATED:20241007T225842Z
LAST-MODIFIED:20241007T230414Z
UID:10009904-1738951200-1738962000@murphydeals.com
SUMMARY:LAKE HAVASU FIRST FRIDAY
DESCRIPTION:Downtown Lake Havasu is the hottest place to be on First Fridays! (Held September through May). Discover local artisans\, makers and pop up boutiques in the Artist & Vintage Village located along the sidewalks of McCulloch. The dense core of First Friday is right along McCulloch between Smoketree and Mulberry.
URL:https://murphydeals.com/event/first-friday-season-6-kickoff-2/2025-02-07/
LOCATION:First Friday\, McCulloch Blvd
CATEGORIES:Arts | Theatre,Event,Festival,Live On Location,Music | Concerts,Street Fair,Tradeshow | Expo
ATTACH;FMTTYPE=image/jpeg:https://murphydeals.com/wp-content/uploads/2024/08/firstfriday.jpg
END:VEVENT
BEGIN:VEVENT
DTSTART;TZID=America/Phoenix:20250125T190000
DTEND;TZID=America/Phoenix:20250125T220000
DTSTAMP:20260423T055015
CREATED:20240806T195728Z
LAST-MODIFIED:20240820T173620Z
UID:10009831-1737831600-1737842400@murphydeals.com
SUMMARY:FOGHAT - LIVE AT THE EDGE PAVILION
DESCRIPTION:Formed in London in 1971 after founding members Dave Peverett\, Tony Stevens and Roger Earl left their previous English blues rock band\, Savoy Brown\, Foghat is known for classic hits including “Slow Ride\,” “Drivin’ Wheel\,” and “Third Time Lucky (First Time I Was a Fool).” The band celebrated its 50-year anniversary in 2021\, and their live performances are a testament to how the band’s longevity has persisted. Foghat has earned eight Gold Records\, one Platinum Record and one Double-Platinum record while continuing to release new music every few years. They continue to release new music and have never stopped touring. Their latest release\, “Sonic Mojo\,” debuted at #1 on Billboard’s Blues Albums chart and as of June 2024 had remained on the charts for 27 weeks.
URL:https://murphydeals.com/event/foghat-live-at-the-edge-pavilion/
LOCATION:Edge Pavilion\, 2020 S Casino Drive\, Laughlin\, 89029\, 89029
CATEGORIES:Event,Live On Location,Music | Concerts
ATTACH;FMTTYPE=image/png:https://murphydeals.com/wp-content/uploads/2024/08/foghat.png
END:VEVENT
BEGIN:VEVENT
DTSTART;TZID=America/Phoenix:20250118T190000
DTEND;TZID=America/Phoenix:20250801T220000
DTSTAMP:20260423T055015
CREATED:20240806T194228Z
LAST-MODIFIED:20250730T225029Z
UID:10009830-1737226800-1754085600@murphydeals.com
SUMMARY:BURTON CUMMINGS OF THE ORIGINAL GUESS WHO - LIVE AT THE EDGE PAVILION
DESCRIPTION:Lead singer Burton Cummings and the original ‘The Guess Who’ produced some of the late 60s and early 70’s biggest hits such as “American Woman\,” “No Sugar Tonight/New Mother Nature” and more\, earning five Billboard Top 10 songs and the first U.S. Platinum album by a Canadian artist. Cummings’ solo career continued to pile up the hits and accolades after the band disbanded in 1975\, earning him the first quadruple-Platinum Canadian-produced album with his 1978 release\, “Dream of a Child.” Over his 60 year music career\, Cummings has earned 80 Platinum and Gold Record Awards. Cummings will entertain Laughlin audiences with live performances of  the biggest hits from his storied career including “Stand Tall\,” “I’m Scared\,” “These Eyes\,” “Timeless Love\,” “Undun\,” etc.
URL:https://murphydeals.com/event/burton-cummings-of-the-original-guess-who-live-at-the-edge-pavilion/
LOCATION:Edge Pavilion\, 2020 S Casino Drive\, Laughlin\, 89029\, 89029
CATEGORIES:Event,Live On Location,Music | Concerts
ATTACH;FMTTYPE=image/png:https://murphydeals.com/wp-content/uploads/2024/08/bc.png
END:VEVENT
BEGIN:VEVENT
DTSTART;TZID=America/Phoenix:20250103T180000
DTEND;TZID=America/Phoenix:20250103T210000
DTSTAMP:20260423T055015
CREATED:20241007T225842Z
LAST-MODIFIED:20241007T230414Z
UID:10009903-1735927200-1735938000@murphydeals.com
SUMMARY:LAKE HAVASU FIRST FRIDAY
DESCRIPTION:Downtown Lake Havasu is the hottest place to be on First Fridays! (Held September through May). Discover local artisans\, makers and pop up boutiques in the Artist & Vintage Village located along the sidewalks of McCulloch. The dense core of First Friday is right along McCulloch between Smoketree and Mulberry.
URL:https://murphydeals.com/event/first-friday-season-6-kickoff-2/2025-01-03/
LOCATION:First Friday\, McCulloch Blvd
CATEGORIES:Arts | Theatre,Event,Festival,Live On Location,Music | Concerts,Street Fair,Tradeshow | Expo
ATTACH;FMTTYPE=image/jpeg:https://murphydeals.com/wp-content/uploads/2024/08/firstfriday.jpg
END:VEVENT
BEGIN:VEVENT
DTSTART;TZID=America/Phoenix:20241207T110000
DTEND;TZID=America/Phoenix:20241207T140000
DTSTAMP:20260423T055015
CREATED:20240910T174430Z
LAST-MODIFIED:20240910T174430Z
UID:10009955-1733569200-1733580000@murphydeals.com
SUMMARY:HAVA - SIS FREE HOLIDAY MOVIE
DESCRIPTION:Limited to the first 250 guests…\n\nStar Cinema & Hava-Sis have partnered to thank our community for being so amazing!\nHappiest of Holiday Wishes to ALL!!\n 
URL:https://murphydeals.com/event/hava-sis-free-holiday-movie/
LOCATION:Star Cinemas Havasu\, 5601 AZ-95\, Lake Havasu City\, AZ\, 86404
CATEGORIES:Arts | Theatre,Event
ATTACH;FMTTYPE=image/png:https://murphydeals.com/wp-content/uploads/2024/09/havasisholidaymovie.png
END:VEVENT
BEGIN:VEVENT
DTSTART;TZID=America/Phoenix:20241207T100000
DTEND;TZID=America/Phoenix:20241207T160000
DTSTAMP:20260423T055015
CREATED:20240807T222938Z
LAST-MODIFIED:20240807T223404Z
UID:10009851-1733565600-1733587200@murphydeals.com
SUMMARY:MURPHY BRODCASTING - HOLLY JOLLY HOLIDAY BAZAAR
DESCRIPTION:ADMISSION: $5 AGES 3+ | ADULTS 18+ FREE | HOLIDAY VENDOR SHOPING!  PHOTOS WITH SANTA!  ARTS & CRAFTS/BOUNCE HOUSES/LETTERS TO SANTA AND MUCH MORE!!! \nPLUS:  FOOD VENDORS AND FOOD TRUCKS WILL BE IN ATTENDANCE! \nVendor Information!  Call:  928.302.0675 or Email:  murphyeventsteam@gmail.com
URL:https://murphydeals.com/event/murphy-brodcasting-holly-jolly-holiday-bazaar/
LOCATION:Anderson Auto Group Fieldhouse\, 3663 Bullhead Parkway\, Bullhead City\, AZ\, 86442\, United States
CATEGORIES:Event,Festival,Live On Location
ATTACH;FMTTYPE=image/png:https://murphydeals.com/wp-content/uploads/2024/08/hollyjollyxmasbazaar.png
END:VEVENT
BEGIN:VEVENT
DTSTART;TZID=America/Phoenix:20241206T180000
DTEND;TZID=America/Phoenix:20241206T210000
DTSTAMP:20260423T055015
CREATED:20241007T225842Z
LAST-MODIFIED:20241007T230414Z
UID:10009902-1733508000-1733518800@murphydeals.com
SUMMARY:LAKE HAVASU FIRST FRIDAY
DESCRIPTION:Downtown Lake Havasu is the hottest place to be on First Fridays! (Held September through May). Discover local artisans\, makers and pop up boutiques in the Artist & Vintage Village located along the sidewalks of McCulloch. The dense core of First Friday is right along McCulloch between Smoketree and Mulberry.
URL:https://murphydeals.com/event/first-friday-season-6-kickoff-2/2024-12-06/
LOCATION:First Friday\, McCulloch Blvd
CATEGORIES:Arts | Theatre,Event,Festival,Live On Location,Music | Concerts,Street Fair,Tradeshow | Expo
ATTACH;FMTTYPE=image/jpeg:https://murphydeals.com/wp-content/uploads/2024/08/firstfriday.jpg
END:VEVENT
BEGIN:VEVENT
DTSTART;TZID=America/Phoenix:20241130T190000
DTEND;TZID=America/Phoenix:20241130T220000
DTSTAMP:20260423T055015
CREATED:20240806T193207Z
LAST-MODIFIED:20240910T192257Z
UID:10009829-1732993200-1733004000@murphydeals.com
SUMMARY:JAY LENO - LIVE AT THE EDGE PAVILION
DESCRIPTION:Late-night legend Jay Leno rose to fame through his dominant career as the host of the #1 rated “The Tonight Show with Jay Leno” for two decades\, however these days he’s something of a renaissance man. Between hosting hit cable shows\,  managing a bustling YouTube channel\, selling his own line of autocare products and much more\, Leno still manages to find time to perform more than 100 stand-up shows annually\, a testament to his dedication to the craft. His storied career has resulted in many honors\, including Emmy\, People’s Choice and TV Guide awards\, The Mark Twain Prize and a star on Hollywood’s Walk of Fame\, among many others.
URL:https://murphydeals.com/event/jay-leno-live-at-the-edge-pavilion/
LOCATION:Edge Pavilion\, 2020 S Casino Drive\, Laughlin\, 89029\, 89029
CATEGORIES:Comedy | Comedian,Event,Live On Location,Music | Concerts
ATTACH;FMTTYPE=image/png:https://murphydeals.com/wp-content/uploads/2024/08/jayleno.png
END:VEVENT
BEGIN:VEVENT
DTSTART;TZID=America/Phoenix:20241116T200000
DTEND;TZID=America/Phoenix:20241116T230000
DTSTAMP:20260423T055015
CREATED:20240821T221924Z
LAST-MODIFIED:20240821T222119Z
UID:10009918-1731787200-1731798000@murphydeals.com
SUMMARY:LAUGHS ON THE LAKE AT HEAT HOTEL PATIO BAR
DESCRIPTION:Laughs on the Lake at Heat Hotel Patio Bar!\nWe’re returning for more LAUGHS ON THE LAKE at Heat Hotel Patio Bar Saturday November 16th at 8pm! A standup showcase featuring a full roster of local Mohave Comedy talent\, along with surprise industry guests including an appearance by Stratosphere and Edgewater resident headliner James Michael The Redneck Comedy Magician!NO COVER!!Come enjoy the fun and awesome views at this outdoor show right beside the bridge!Drink specials during the night to add to the fun!Don’t miss this unique standup experience Havasu!!\n\nLooking for a place to stay? Check out room specials at the Heat Hotel at www.heathotel.com\nPrepare for an evening filled with laughter and memorable moments! \nClick Here to RSVP \n 
URL:https://murphydeals.com/event/38844/
LOCATION:Heat Hotel\, 1420 McCulloch Blvd N\, Lake Havasu City\, AZ\, 86404\, United States
CATEGORIES:Arts | Theatre,Comedy | Comedian,Live On Location
ATTACH;FMTTYPE=image/webp:https://murphydeals.com/wp-content/uploads/2024/08/laughsonthelake.webp
END:VEVENT
BEGIN:VEVENT
DTSTART;TZID=America/Phoenix:20241116T190000
DTEND;TZID=America/Phoenix:20241116T220000
DTSTAMP:20260423T055015
CREATED:20240806T192149Z
LAST-MODIFIED:20240806T192149Z
UID:10009828-1731783600-1731794400@murphydeals.com
SUMMARY:BLOOD\, SWEAT & TEARS - LIVE AT THE EDGE PAVILION
DESCRIPTION:Blood\, Sweat & Tears are best known for their influence on American rock-jazz through their unique incorporation of a horns section into their tracks. Throughout their 50 continuous years of touring\, which has even included playing the same day as Jimi Hendrix at the famed Woodstock\, the veteran band has had many configurations\, with each member being hand-selected by founding-member Bobby Colomby. Nominated for 10 Grammys resulting in three wins\, including beating out “Abbey Road” for 1970’s Album of the Year\, iconic tracks like “Spinning Wheel\,” “You’ve Made Me So Very Happy” and “When I Die\,” have endured for decades\, with their self-titled album being inducted into the Grammy Hall of Fame in 2002.
URL:https://murphydeals.com/event/blood-sweat-tears-live-at-the-edge-pavilion/
LOCATION:Edge Pavilion\, 2020 S Casino Drive\, Laughlin\, 89029\, 89029
CATEGORIES:Event,Live On Location,Music | Concerts
ATTACH;FMTTYPE=image/png:https://murphydeals.com/wp-content/uploads/2024/08/bst.png
END:VEVENT
BEGIN:VEVENT
DTSTART;TZID=America/Phoenix:20241109T063000
DTEND;TZID=America/Phoenix:20241109T170000
DTSTAMP:20260423T055015
CREATED:20240910T180142Z
LAST-MODIFIED:20240910T181454Z
UID:10009956-1731133800-1731171600@murphydeals.com
SUMMARY:"HAVASU HEROES" GOLF TOURNAMET
DESCRIPTION:REGISTER AT GirlFriend@havasis.com | Deadline to Register 11/1/2024  \nIt’s a Veteran’s Memorial Golf Tournament honoring SSgt William “Billy” Harrell. Golf\, raffle prizes\, live auction and more. Join in the fun! All proceeds to benefit local veterans. \nRegistration: 6:30am | Shotgun Start:  8:00am \n  \n 
URL:https://murphydeals.com/event/39373/
LOCATION:Lake Havasu Golf Club\, 2400 Clubhouse Drive\, Lake Havasu City\, AZ\, 86406\, United States
CATEGORIES:Charity | Benefits,Event,Golf Tournament,Sports | Activities
ATTACH;FMTTYPE=image/png:https://murphydeals.com/wp-content/uploads/2024/09/havasuherostourney.png
END:VEVENT
END:VCALENDAR