BEGIN:VCALENDAR
VERSION:2.0
PRODID:-//Murphy Deals - ECPv6.15.20//NONSGML v1.0//EN
CALSCALE:GREGORIAN
METHOD:PUBLISH
X-WR-CALNAME:Murphy Deals
X-ORIGINAL-URL:https://murphydeals.com
X-WR-CALDESC:Events for Murphy Deals
REFRESH-INTERVAL;VALUE=DURATION:PT1H
X-Robots-Tag:noindex
X-PUBLISHED-TTL:PT1H
BEGIN:VTIMEZONE
TZID:America/Phoenix
BEGIN:STANDARD
TZOFFSETFROM:-0700
TZOFFSETTO:-0700
TZNAME:MST
DTSTART:20220101T000000
END:STANDARD
END:VTIMEZONE
BEGIN:VEVENT
DTSTART;TZID=America/Phoenix:20240312T180000
DTEND;TZID=America/Phoenix:20240312T210000
DTSTAMP:20260425T145103
CREATED:20230224T201748Z
LAST-MODIFIED:20231227T210329Z
UID:10006977-1710266400-1710277200@murphydeals.com
SUMMARY:Open Mic Night at Best Brews Tap Room
DESCRIPTION:
URL:https://murphydeals.com/event/rickety-cricket-open-mic-night-2/2024-03-12/
LOCATION:Rickety Cricket\, 2068 McCulloch Blvd N Suite A\, Lake Havasu\, AZ\, 86403
CATEGORIES:Music | Concerts
ATTACH;FMTTYPE=image/jpeg:https://murphydeals.com/wp-content/uploads/2023/02/openmic-1-e1692133619437.jpg
END:VEVENT
BEGIN:VEVENT
DTSTART;TZID=America/Phoenix:20240309T130000
DTEND;TZID=America/Phoenix:20240309T170000
DTSTAMP:20260425T145103
CREATED:20220812T174413Z
LAST-MODIFIED:20240115T202901Z
UID:10001659-1709989200-1710003600@murphydeals.com
SUMMARY:3rd Annual Southwest Chowderfest
DESCRIPTION:Join Soroptimist International of Lake Havasu City for the ultimate comfort food and fun celebration!\nLocal Restaurants & Home Chefs\,  Breweries\,  Wineries\,  Distilleries\,  Vendors\,  Exhibits\,  Live Music\,  Chowder Samples\,  Beer and Wine Samples
URL:https://murphydeals.com/event/2nd-annual-southwest-chowderfest/
LOCATION:Lake Havasu State Park – Windsor 4\, 699 London Bridge Road\, Lake Havasu City\, AZ\, 86403\, United States
CATEGORIES:Festival
ATTACH;FMTTYPE=image/jpeg:https://murphydeals.com/wp-content/uploads/2022/08/Chowderfest-1-1-e1705350534301.jpg
END:VEVENT
BEGIN:VEVENT
DTSTART;TZID=America/Phoenix:20240309T090000
DTEND;TZID=America/Phoenix:20240309T110000
DTSTAMP:20260425T145103
CREATED:20240306T201306Z
LAST-MODIFIED:20240306T201827Z
UID:10008583-1709974800-1709982000@murphydeals.com
SUMMARY:Ron LaRue Pistol Shoot
DESCRIPTION:
URL:https://murphydeals.com/event/ron-larue-pistol-shoot/
LOCATION:AZ
CATEGORIES:Event
ATTACH;FMTTYPE=image/jpeg:https://murphydeals.com/wp-content/uploads/2024/03/Ron-LaRue-Pistol-Shoot-flyer-1-1-e1709756268787.jpg
END:VEVENT
BEGIN:VEVENT
DTSTART;TZID=America/Phoenix:20240305T180000
DTEND;TZID=America/Phoenix:20240305T210000
DTSTAMP:20260425T145103
CREATED:20230224T201748Z
LAST-MODIFIED:20231227T210329Z
UID:10006976-1709661600-1709672400@murphydeals.com
SUMMARY:Open Mic Night at Best Brews Tap Room
DESCRIPTION:
URL:https://murphydeals.com/event/rickety-cricket-open-mic-night-2/2024-03-05/
LOCATION:Rickety Cricket\, 2068 McCulloch Blvd N Suite A\, Lake Havasu\, AZ\, 86403
CATEGORIES:Music | Concerts
ATTACH;FMTTYPE=image/jpeg:https://murphydeals.com/wp-content/uploads/2023/02/openmic-1-e1692133619437.jpg
END:VEVENT
BEGIN:VEVENT
DTSTART;TZID=America/Phoenix:20240227T180000
DTEND;TZID=America/Phoenix:20240227T210000
DTSTAMP:20260425T145103
CREATED:20230224T201748Z
LAST-MODIFIED:20231227T210329Z
UID:10006975-1709056800-1709067600@murphydeals.com
SUMMARY:Open Mic Night at Best Brews Tap Room
DESCRIPTION:
URL:https://murphydeals.com/event/rickety-cricket-open-mic-night-2/2024-02-27/
LOCATION:Rickety Cricket\, 2068 McCulloch Blvd N Suite A\, Lake Havasu\, AZ\, 86403
CATEGORIES:Music | Concerts
ATTACH;FMTTYPE=image/jpeg:https://murphydeals.com/wp-content/uploads/2023/02/openmic-1-e1692133619437.jpg
END:VEVENT
BEGIN:VEVENT
DTSTART;TZID=America/Phoenix:20240220T180000
DTEND;TZID=America/Phoenix:20240220T210000
DTSTAMP:20260425T145103
CREATED:20230224T201748Z
LAST-MODIFIED:20231227T210329Z
UID:10006974-1708452000-1708462800@murphydeals.com
SUMMARY:Open Mic Night at Best Brews Tap Room
DESCRIPTION:
URL:https://murphydeals.com/event/rickety-cricket-open-mic-night-2/2024-02-20/
LOCATION:Rickety Cricket\, 2068 McCulloch Blvd N Suite A\, Lake Havasu\, AZ\, 86403
CATEGORIES:Music | Concerts
ATTACH;FMTTYPE=image/jpeg:https://murphydeals.com/wp-content/uploads/2023/02/openmic-1-e1692133619437.jpg
END:VEVENT
BEGIN:VEVENT
DTSTART;TZID=America/Phoenix:20240218T120000
DTEND;TZID=America/Phoenix:20240218T190000
DTSTAMP:20260425T145103
CREATED:20221010T215711Z
LAST-MODIFIED:20230724T214718Z
UID:10008261-1708257600-1708282800@murphydeals.com
SUMMARY:Rockabilly Reunion 2024 at Lake Havasu State Park
DESCRIPTION:It’s all about cool cats and chicks\, retro-fashion\, rock-n-roll oldies music\, rat-rods!\nGET TICKETS\nTake a three-day stroll down nostalgia lane with 150 vendors of all types\, food\, beer garden\, and the ever popular Pin-Up Girl contest. \nTHE LARGEST & THE BEST ROCKABILLY MUSIC FESTIVAL & CAR SHOW IN THE STATE OF ARIZONA \nThe Best 3 Day Event Around to Entertain All Ages \n\n600 plus Vehicles on display\nBest Food Court Ever with over 10-12 different menus\n150 plus vendors in the Vendor Village – ” SHOP TILL YOU DROP “\nLargest Pin Up Beauty Pageant West of the Mississippi\n19 Bands From all cross the country and Europe performing in 3 days – see band page for line ups and info\nHarley Davidson Motorcycle Stunt Show\nBeauty Salon / Barber Shop\nDry Camping – Motorhome & Trailers only – Sorry No Tenting\nSponsor Displays\nFull Bar with Special Rockabilly Drinks\n$4 Dollar Beers\nMimosa Bar\nSpecialty Drinks\nRockabilly Reunion Jell-O Shots\nVIP ALL ACCESS COUNTRY CLUB LOUNGE\nEvent Merchandise\nEvent Stage Giveaways\n\nLake Havasu State Park\n699 London Bridge Road\nWindsor 4 Beach Main Entrance Next To Hampton Inn\nLake Havasu City\, AZ 86403
URL:https://murphydeals.com/event/15th-annual-rockabilly-reunion-at-lake-havasu-state-park/2024-02-18/
LOCATION:Lake Havasu State Park – Windsor 4\, 699 London Bridge Road\, Lake Havasu City\, AZ\, 86403\, United States
CATEGORIES:Car Show,Event,Festival,Music | Concerts
ATTACH;FMTTYPE=image/webp:https://murphydeals.com/wp-content/uploads/2022/10/Rockabilly-e1690235098960.webp
END:VEVENT
BEGIN:VEVENT
DTSTART;TZID=America/Phoenix:20240217T120000
DTEND;TZID=America/Phoenix:20240217T190000
DTSTAMP:20260425T145103
CREATED:20221010T215711Z
LAST-MODIFIED:20230724T214718Z
UID:10008260-1708171200-1708196400@murphydeals.com
SUMMARY:Rockabilly Reunion 2024 at Lake Havasu State Park
DESCRIPTION:It’s all about cool cats and chicks\, retro-fashion\, rock-n-roll oldies music\, rat-rods!\nGET TICKETS\nTake a three-day stroll down nostalgia lane with 150 vendors of all types\, food\, beer garden\, and the ever popular Pin-Up Girl contest. \nTHE LARGEST & THE BEST ROCKABILLY MUSIC FESTIVAL & CAR SHOW IN THE STATE OF ARIZONA \nThe Best 3 Day Event Around to Entertain All Ages \n\n600 plus Vehicles on display\nBest Food Court Ever with over 10-12 different menus\n150 plus vendors in the Vendor Village – ” SHOP TILL YOU DROP “\nLargest Pin Up Beauty Pageant West of the Mississippi\n19 Bands From all cross the country and Europe performing in 3 days – see band page for line ups and info\nHarley Davidson Motorcycle Stunt Show\nBeauty Salon / Barber Shop\nDry Camping – Motorhome & Trailers only – Sorry No Tenting\nSponsor Displays\nFull Bar with Special Rockabilly Drinks\n$4 Dollar Beers\nMimosa Bar\nSpecialty Drinks\nRockabilly Reunion Jell-O Shots\nVIP ALL ACCESS COUNTRY CLUB LOUNGE\nEvent Merchandise\nEvent Stage Giveaways\n\nLake Havasu State Park\n699 London Bridge Road\nWindsor 4 Beach Main Entrance Next To Hampton Inn\nLake Havasu City\, AZ 86403
URL:https://murphydeals.com/event/15th-annual-rockabilly-reunion-at-lake-havasu-state-park/2024-02-17/
LOCATION:Lake Havasu State Park – Windsor 4\, 699 London Bridge Road\, Lake Havasu City\, AZ\, 86403\, United States
CATEGORIES:Car Show,Event,Festival,Music | Concerts
ATTACH;FMTTYPE=image/webp:https://murphydeals.com/wp-content/uploads/2022/10/Rockabilly-e1690235098960.webp
END:VEVENT
BEGIN:VEVENT
DTSTART;TZID=America/Phoenix:20240216T120000
DTEND;TZID=America/Phoenix:20240216T190000
DTSTAMP:20260425T145103
CREATED:20221010T215711Z
LAST-MODIFIED:20230724T214718Z
UID:10008259-1708084800-1708110000@murphydeals.com
SUMMARY:Rockabilly Reunion 2024 at Lake Havasu State Park
DESCRIPTION:It’s all about cool cats and chicks\, retro-fashion\, rock-n-roll oldies music\, rat-rods!\nGET TICKETS\nTake a three-day stroll down nostalgia lane with 150 vendors of all types\, food\, beer garden\, and the ever popular Pin-Up Girl contest. \nTHE LARGEST & THE BEST ROCKABILLY MUSIC FESTIVAL & CAR SHOW IN THE STATE OF ARIZONA \nThe Best 3 Day Event Around to Entertain All Ages \n\n600 plus Vehicles on display\nBest Food Court Ever with over 10-12 different menus\n150 plus vendors in the Vendor Village – ” SHOP TILL YOU DROP “\nLargest Pin Up Beauty Pageant West of the Mississippi\n19 Bands From all cross the country and Europe performing in 3 days – see band page for line ups and info\nHarley Davidson Motorcycle Stunt Show\nBeauty Salon / Barber Shop\nDry Camping – Motorhome & Trailers only – Sorry No Tenting\nSponsor Displays\nFull Bar with Special Rockabilly Drinks\n$4 Dollar Beers\nMimosa Bar\nSpecialty Drinks\nRockabilly Reunion Jell-O Shots\nVIP ALL ACCESS COUNTRY CLUB LOUNGE\nEvent Merchandise\nEvent Stage Giveaways\n\nLake Havasu State Park\n699 London Bridge Road\nWindsor 4 Beach Main Entrance Next To Hampton Inn\nLake Havasu City\, AZ 86403
URL:https://murphydeals.com/event/15th-annual-rockabilly-reunion-at-lake-havasu-state-park/2024-02-16/
LOCATION:Lake Havasu State Park – Windsor 4\, 699 London Bridge Road\, Lake Havasu City\, AZ\, 86403\, United States
CATEGORIES:Car Show,Event,Festival,Music | Concerts
ATTACH;FMTTYPE=image/webp:https://murphydeals.com/wp-content/uploads/2022/10/Rockabilly-e1690235098960.webp
END:VEVENT
BEGIN:VEVENT
DTSTART;TZID=America/Phoenix:20240213T180000
DTEND;TZID=America/Phoenix:20240213T210000
DTSTAMP:20260425T145103
CREATED:20230224T201748Z
LAST-MODIFIED:20231227T210329Z
UID:10006973-1707847200-1707858000@murphydeals.com
SUMMARY:Open Mic Night at Best Brews Tap Room
DESCRIPTION:
URL:https://murphydeals.com/event/rickety-cricket-open-mic-night-2/2024-02-13/
LOCATION:Rickety Cricket\, 2068 McCulloch Blvd N Suite A\, Lake Havasu\, AZ\, 86403
CATEGORIES:Music | Concerts
ATTACH;FMTTYPE=image/jpeg:https://murphydeals.com/wp-content/uploads/2023/02/openmic-1-e1692133619437.jpg
END:VEVENT
BEGIN:VEVENT
DTSTART;TZID=America/Phoenix:20240206T180000
DTEND;TZID=America/Phoenix:20240206T210000
DTSTAMP:20260425T145103
CREATED:20230224T201748Z
LAST-MODIFIED:20231227T210329Z
UID:10006972-1707242400-1707253200@murphydeals.com
SUMMARY:Open Mic Night at Best Brews Tap Room
DESCRIPTION:
URL:https://murphydeals.com/event/rickety-cricket-open-mic-night-2/2024-02-06/
LOCATION:Rickety Cricket\, 2068 McCulloch Blvd N Suite A\, Lake Havasu\, AZ\, 86403
CATEGORIES:Music | Concerts
ATTACH;FMTTYPE=image/jpeg:https://murphydeals.com/wp-content/uploads/2023/02/openmic-1-e1692133619437.jpg
END:VEVENT
BEGIN:VEVENT
DTSTART;TZID=America/Phoenix:20240204T090000
DTEND;TZID=America/Phoenix:20240204T140000
DTSTAMP:20260425T145103
CREATED:20240115T204629Z
LAST-MODIFIED:20240115T205712Z
UID:10008579-1707037200-1707055200@murphydeals.com
SUMMARY:Pioneer Country Gun & Knife Show
DESCRIPTION:
URL:https://murphydeals.com/event/pioneer-country-gun-knife-show/
LOCATION:College Park Community Center\, 1990 Jagerson Avenue\, Kingman\, AZ\, 86409
CATEGORIES:Event,Sports | Activities,Tradeshow | Expo
ATTACH;FMTTYPE=image/jpeg:https://murphydeals.com/wp-content/uploads/2022/05/Gun-Knife-Show-e1651620921352.jpg
END:VEVENT
BEGIN:VEVENT
DTSTART;TZID=America/Phoenix:20240203T110000
DTEND;TZID=America/Phoenix:20240203T150000
DTSTAMP:20260425T145103
CREATED:20240129T192407Z
LAST-MODIFIED:20240129T192407Z
UID:10008581-1706958000-1706972400@murphydeals.com
SUMMARY:Help Us Raise Funds For ZZ at The Pour House
DESCRIPTION:
URL:https://murphydeals.com/event/help-us-raise-funds-for-zz-at-the-pour-house/
LOCATION:The Pour House
CATEGORIES:Charity | Benefits
ATTACH;FMTTYPE=image/jpeg:https://murphydeals.com/wp-content/uploads/2024/01/Fundraiser-1-e1706556240217.jpg
END:VEVENT
BEGIN:VEVENT
DTSTART;TZID=America/Phoenix:20240203T100000
DTEND;TZID=America/Phoenix:20240203T140000
DTSTAMP:20260425T145103
CREATED:20240103T001456Z
LAST-MODIFIED:20240103T001950Z
UID:10008577-1706954400-1706968800@murphydeals.com
SUMMARY:Lake Havasu City Bike Rodeo
DESCRIPTION:
URL:https://murphydeals.com/event/lake-havasu-city-bike-rodeo/
LOCATION:Lake Havasu City Police Department\, 2630 McCulloch Blvd. N\, Lake Havasu City\, AZ\, 86403
CATEGORIES:Event
ATTACH;FMTTYPE=image/jpeg:https://murphydeals.com/wp-content/uploads/2024/01/IMG_20240102_143853886-1-1-e1704240857904.jpg
END:VEVENT
BEGIN:VEVENT
DTSTART;TZID=America/Phoenix:20240203T090000
DTEND;TZID=America/Phoenix:20240203T170000
DTSTAMP:20260425T145103
CREATED:20240115T204122Z
LAST-MODIFIED:20240115T204211Z
UID:10008578-1706950800-1706979600@murphydeals.com
SUMMARY:Pioneer Country Events Gun\, Knife\, Coins & Collectible Show
DESCRIPTION:Print the flyer below and get $1.00 off admission to the show!\nGun Show Schedule – \n \nPioneer Country Events has something for everyone!\nThere are new & old guns at this show\, Ammo\, U.S. Collectible Miltiary Knives\, Western Knives\, Custom made Knives by: Big Dog Knifeworks\, coins\, collectibles\, The Purse Hoarder with Concealed Carry Purses\, old and new jewelry\, Maui Designs Jewerly\, beautiful pearls and coral\, Scentsy by: Hayley Hollingsworth\, Many other vendors\, come out and see us!\nFood available on premises By: Olympus Diner a local Diner in Kingman\, AZEveryone is Welcome! \nThe College Park Community Center sets behind the College Park Community Church.\nNeed more information Call Lon @ 928/692-0937 or 928/279-4775 \nAll federal and local firearm laws and ordinances must be obeyed.
URL:https://murphydeals.com/event/kingman-gun-knife-coin-collectibles-show-2-2/
LOCATION:College Park Community Center\, 1990 Jagerson Avenue\, Kingman\, AZ\, 86409
CATEGORIES:Event,Tradeshow | Expo
ATTACH;FMTTYPE=image/jpeg:https://murphydeals.com/wp-content/uploads/2022/05/Gun-Knife-Show-e1651620921352.jpg
END:VEVENT
BEGIN:VEVENT
DTSTART;TZID=America/Phoenix:20240130T180000
DTEND;TZID=America/Phoenix:20240130T210000
DTSTAMP:20260425T145103
CREATED:20230224T201748Z
LAST-MODIFIED:20231227T210329Z
UID:10006971-1706637600-1706648400@murphydeals.com
SUMMARY:Open Mic Night at Best Brews Tap Room
DESCRIPTION:
URL:https://murphydeals.com/event/rickety-cricket-open-mic-night-2/2024-01-30/
LOCATION:Rickety Cricket\, 2068 McCulloch Blvd N Suite A\, Lake Havasu\, AZ\, 86403
CATEGORIES:Music | Concerts
ATTACH;FMTTYPE=image/jpeg:https://murphydeals.com/wp-content/uploads/2023/02/openmic-1-e1692133619437.jpg
END:VEVENT
BEGIN:VEVENT
DTSTART;TZID=America/Phoenix:20240130T070000
DTEND;TZID=America/Phoenix:20240130T070000
DTSTAMP:20260425T145103
CREATED:20240115T210437Z
LAST-MODIFIED:20240115T210805Z
UID:10008580-1706598000-1706598000@murphydeals.com
SUMMARY:Soroptimist Charity Golf Tournament
DESCRIPTION:
URL:https://murphydeals.com/event/soroptimist-charity-golf-tournament/
LOCATION:AZ
CATEGORIES:Charity | Benefits
ATTACH;FMTTYPE=image/jpeg:https://murphydeals.com/wp-content/uploads/2024/01/2024-Golf-Tournament-Flyer-1-PDF-1_page-0001-1-e1705352671757.jpg
END:VEVENT
BEGIN:VEVENT
DTSTART;TZID=America/Phoenix:20240123T180000
DTEND;TZID=America/Phoenix:20240123T210000
DTSTAMP:20260425T145103
CREATED:20230224T201748Z
LAST-MODIFIED:20231227T210329Z
UID:10006970-1706032800-1706043600@murphydeals.com
SUMMARY:Open Mic Night at Best Brews Tap Room
DESCRIPTION:
URL:https://murphydeals.com/event/rickety-cricket-open-mic-night-2/2024-01-23/
LOCATION:Rickety Cricket\, 2068 McCulloch Blvd N Suite A\, Lake Havasu\, AZ\, 86403
CATEGORIES:Music | Concerts
ATTACH;FMTTYPE=image/jpeg:https://murphydeals.com/wp-content/uploads/2023/02/openmic-1-e1692133619437.jpg
END:VEVENT
BEGIN:VEVENT
DTSTART;TZID=America/Phoenix:20240120T190000
DTEND;TZID=America/Phoenix:20240120T210000
DTSTAMP:20260425T145103
CREATED:20230626T191321Z
LAST-MODIFIED:20230626T191321Z
UID:10008299-1705777200-1705784400@murphydeals.com
SUMMARY:Dennis Johnson-Slide Guitarist at Jeremy's Juke Joint
DESCRIPTION:Dennis Johnson is one of the world class slide guitar players performing today. Guitar World calls him a “Slide Guitar Master.” \nHe and his band are a high energy\, groove driven\, slide guitar tour de force. The band elevates Blues\, Roots\, and Rock grooves to a stellar level that brings audiences to their feet. \nJohnson’s new album Revelation features legendary drummer Anton Fig (Joe Bonamassa\, Late Night with David Letterman)\, phenomenal keyboardist Bob Fridzema (Walter Trout\, Joanna Shaw Taylor)\, and grooving bassist Jonathan Stoyanoff. Chris Bell (Kenny Wayne Shepard\, Samantha Fish\, and The Eagles) mixed nine songs for the album. Kevin Shirley (Joe Bonnamassa\, Aerosmith\, and Led Zeppelin) mixed one of the songs for the album. His new album Revelation hit the #1 BLUES ROCK ALBUM on the Worldwide Roots Music Report Charts\, debuted as Crossroads Blues Radio’s album of the week\, and has enjoyed critical domestic and global acclaim. \n“…slide guitar master Dennis Johnson”\nVINTAGE GUITAR MAGAZINE \n“Dennis Johnson has built quite a reputation for slide guitar for himself\, and this song [Revelation] displays perhaps the most thoughtful slide …you’ve heard.”\nAMERICANA HIGHWAYS \n“One of the preeminent slide guitarists of our time”\nALL ABOUT JAZZ \n“Going Down’ is the sizzling slide single from Johnson’s upcoming album ‘Revelation’ …a world-class slide guitar player”\nAMERICAN BLUES SCENE \nJohnson’s evolution as a slide guitarist comes from years of dedicated work on pushing slide guitar to its limits. “In the past few years\, I have really focused on articulations with a slide – types of vibrato\, sliding up or down to a note\, and moving the slide at various angles like a lap steel player to connect notes – which my made my playing way more expressive.” Johnson explained. “This resulted from years of dedicated practice motivated by passion for slide guitar. I like to work on my weaknesses as a player and turn them into strengths.”
URL:https://murphydeals.com/event/dennis-johnson-slide-guitarist-at-jeremys-juke-joint/2024-01-20/
LOCATION:Jeremy’s Juke Joint\, 91 London Bridge Road\, ##103\, Lake Havasu City\, AZ\, 86403\, United States
CATEGORIES:Music | Concerts
ATTACH;FMTTYPE=image/jpeg:https://murphydeals.com/wp-content/uploads/2023/06/Dennis.Johnson-1-e1687806731271.jpg
END:VEVENT
BEGIN:VEVENT
DTSTART;TZID=America/Phoenix:20240120T084500
DTEND;TZID=America/Phoenix:20240120T130000
DTSTAMP:20260425T145103
CREATED:20221028T223324Z
LAST-MODIFIED:20231204T233752Z
UID:10006524-1705740300-1705755600@murphydeals.com
SUMMARY:Balloon Festival 5K/10K Fun Run/Walk
DESCRIPTION:
URL:https://murphydeals.com/event/balloon-festival-5k-10k-fun-run-walk/
LOCATION:Lake Havasu State Park – Windsor 4\, 699 London Bridge Road\, Lake Havasu City\, AZ\, 86403\, United States
CATEGORIES:Event,Sports | Activities
ATTACH;FMTTYPE=image/jpeg:https://murphydeals.com/wp-content/uploads/2022/10/11.4.23.Flyer-Balloon-Festival-510K-Fun-Run-1_page-0001-1-1-e1701730760171.jpg
END:VEVENT
BEGIN:VEVENT
DTSTART;TZID=America/Phoenix:20240119T190000
DTEND;TZID=America/Phoenix:20240119T210000
DTSTAMP:20260425T145103
CREATED:20230626T191321Z
LAST-MODIFIED:20230626T191321Z
UID:10008298-1705690800-1705698000@murphydeals.com
SUMMARY:Dennis Johnson-Slide Guitarist at Jeremy's Juke Joint
DESCRIPTION:Dennis Johnson is one of the world class slide guitar players performing today. Guitar World calls him a “Slide Guitar Master.” \nHe and his band are a high energy\, groove driven\, slide guitar tour de force. The band elevates Blues\, Roots\, and Rock grooves to a stellar level that brings audiences to their feet. \nJohnson’s new album Revelation features legendary drummer Anton Fig (Joe Bonamassa\, Late Night with David Letterman)\, phenomenal keyboardist Bob Fridzema (Walter Trout\, Joanna Shaw Taylor)\, and grooving bassist Jonathan Stoyanoff. Chris Bell (Kenny Wayne Shepard\, Samantha Fish\, and The Eagles) mixed nine songs for the album. Kevin Shirley (Joe Bonnamassa\, Aerosmith\, and Led Zeppelin) mixed one of the songs for the album. His new album Revelation hit the #1 BLUES ROCK ALBUM on the Worldwide Roots Music Report Charts\, debuted as Crossroads Blues Radio’s album of the week\, and has enjoyed critical domestic and global acclaim. \n“…slide guitar master Dennis Johnson”\nVINTAGE GUITAR MAGAZINE \n“Dennis Johnson has built quite a reputation for slide guitar for himself\, and this song [Revelation] displays perhaps the most thoughtful slide …you’ve heard.”\nAMERICANA HIGHWAYS \n“One of the preeminent slide guitarists of our time”\nALL ABOUT JAZZ \n“Going Down’ is the sizzling slide single from Johnson’s upcoming album ‘Revelation’ …a world-class slide guitar player”\nAMERICAN BLUES SCENE \nJohnson’s evolution as a slide guitarist comes from years of dedicated work on pushing slide guitar to its limits. “In the past few years\, I have really focused on articulations with a slide – types of vibrato\, sliding up or down to a note\, and moving the slide at various angles like a lap steel player to connect notes – which my made my playing way more expressive.” Johnson explained. “This resulted from years of dedicated practice motivated by passion for slide guitar. I like to work on my weaknesses as a player and turn them into strengths.”
URL:https://murphydeals.com/event/dennis-johnson-slide-guitarist-at-jeremys-juke-joint/2024-01-19/
LOCATION:Jeremy’s Juke Joint\, 91 London Bridge Road\, ##103\, Lake Havasu City\, AZ\, 86403\, United States
CATEGORIES:Music | Concerts
ATTACH;FMTTYPE=image/jpeg:https://murphydeals.com/wp-content/uploads/2023/06/Dennis.Johnson-1-e1687806731271.jpg
END:VEVENT
BEGIN:VEVENT
DTSTART;TZID=America/Phoenix:20240118T120000
DTEND;TZID=America/Phoenix:20240118T220000
DTSTAMP:20260425T145103
CREATED:20220929T194432Z
LAST-MODIFIED:20230927T232757Z
UID:10006224-1705579200-1705615200@murphydeals.com
SUMMARY:Havasu Balloon Festival and Fair
DESCRIPTION:Volunteers Needed – Click HERE to Volunteer\nJanuary 18th\, 19th\, 20th and 21st\, 2024 \nThis year’s theme is “Let’s Soar in 2024” \nThis year’s volunteer meeting will be on Saturday\, January 13th\, 2024\, from 9:00 am to noon (at the same location as previous years) Location:  London Bridge Resort\, 1477 Queens Bay\, Lake Havasu City\, AZ 86403 \nwebsite: HavasaBalloonFestival.com \nVolunteer Website: HavasuBalloonFest.org \n\n\n  \n  \n  \n  \n  \n  \n  \n  \n  \n  \n  \n  \n  \n  \n  \n  \n  \n  \n  \n  \n  \nJanuary 18 – 21\, 2024\nStarting Thursday at 12 noon through Sunday \nLake Havasu State Park (Windsor 4)\n171 London Bridge Road\,\nLake Havasu City\, AZ 86403
URL:https://murphydeals.com/event/havasu-balloon-festival-and-fair/
LOCATION:Lake Havasu State Park – Windsor 4\, 699 London Bridge Road\, Lake Havasu City\, AZ\, 86403\, United States
CATEGORIES:Event,Festival,Music | Concerts
ATTACH;FMTTYPE=image/jpeg:https://murphydeals.com/wp-content/uploads/2020/06/balloon_fest_2018-e1695857113569.jpg
END:VEVENT
BEGIN:VEVENT
DTSTART;TZID=America/Phoenix:20240116T180000
DTEND;TZID=America/Phoenix:20240116T210000
DTSTAMP:20260425T145103
CREATED:20230224T201748Z
LAST-MODIFIED:20231227T210329Z
UID:10006969-1705428000-1705438800@murphydeals.com
SUMMARY:Open Mic Night at Best Brews Tap Room
DESCRIPTION:
URL:https://murphydeals.com/event/rickety-cricket-open-mic-night-2/2024-01-16/
LOCATION:Rickety Cricket\, 2068 McCulloch Blvd N Suite A\, Lake Havasu\, AZ\, 86403
CATEGORIES:Music | Concerts
ATTACH;FMTTYPE=image/jpeg:https://murphydeals.com/wp-content/uploads/2023/02/openmic-1-e1692133619437.jpg
END:VEVENT
BEGIN:VEVENT
DTSTART;TZID=America/Phoenix:20240113T070000
DTEND;TZID=America/Phoenix:20240113T140000
DTSTAMP:20260425T145103
CREATED:20231204T235726Z
LAST-MODIFIED:20231204T235726Z
UID:10008576-1705129200-1705154400@murphydeals.com
SUMMARY:Havasu Balloon Festival Golf Tournament
DESCRIPTION:
URL:https://murphydeals.com/event/havasu-balloon-festival-golf-tournament/
LOCATION:Lake Havasu Golf Club – West Course\, 2400 Clubhouse Drive\, Lake Havasu City\, AZ\, 86406
CATEGORIES:Charity | Benefits
ATTACH;FMTTYPE=image/jpeg:https://murphydeals.com/wp-content/uploads/2023/12/2024-Havasu-Balloon-Festival-Golf-Flyer-1_page-0001-1-1-e1701733999161.jpg
END:VEVENT
BEGIN:VEVENT
DTSTART;TZID=America/Phoenix:20240109T180000
DTEND;TZID=America/Phoenix:20240109T210000
DTSTAMP:20260425T145103
CREATED:20230224T201748Z
LAST-MODIFIED:20231227T210329Z
UID:10006968-1704823200-1704834000@murphydeals.com
SUMMARY:Open Mic Night at Best Brews Tap Room
DESCRIPTION:
URL:https://murphydeals.com/event/rickety-cricket-open-mic-night-2/2024-01-09/
LOCATION:Rickety Cricket\, 2068 McCulloch Blvd N Suite A\, Lake Havasu\, AZ\, 86403
CATEGORIES:Music | Concerts
ATTACH;FMTTYPE=image/jpeg:https://murphydeals.com/wp-content/uploads/2023/02/openmic-1-e1692133619437.jpg
END:VEVENT
BEGIN:VEVENT
DTSTART;TZID=America/Phoenix:20240102T180000
DTEND;TZID=America/Phoenix:20240102T210000
DTSTAMP:20260425T145103
CREATED:20230224T201748Z
LAST-MODIFIED:20231227T210329Z
UID:10006967-1704218400-1704229200@murphydeals.com
SUMMARY:Open Mic Night at Best Brews Tap Room
DESCRIPTION:
URL:https://murphydeals.com/event/rickety-cricket-open-mic-night-2/2024-01-02/
LOCATION:Rickety Cricket\, 2068 McCulloch Blvd N Suite A\, Lake Havasu\, AZ\, 86403
CATEGORIES:Music | Concerts
ATTACH;FMTTYPE=image/jpeg:https://murphydeals.com/wp-content/uploads/2023/02/openmic-1-e1692133619437.jpg
END:VEVENT
BEGIN:VEVENT
DTSTART;TZID=America/Phoenix:20231226T180000
DTEND;TZID=America/Phoenix:20231226T210000
DTSTAMP:20260425T145103
CREATED:20230224T201748Z
LAST-MODIFIED:20231227T210329Z
UID:10006966-1703613600-1703624400@murphydeals.com
SUMMARY:Open Mic Night at Best Brews Tap Room
DESCRIPTION:
URL:https://murphydeals.com/event/rickety-cricket-open-mic-night-2/2023-12-26/
LOCATION:Rickety Cricket\, 2068 McCulloch Blvd N Suite A\, Lake Havasu\, AZ\, 86403
CATEGORIES:Music | Concerts
ATTACH;FMTTYPE=image/jpeg:https://murphydeals.com/wp-content/uploads/2023/02/openmic-1-e1692133619437.jpg
END:VEVENT
BEGIN:VEVENT
DTSTART;TZID=America/Phoenix:20231225T090000
DTEND;TZID=America/Phoenix:20231229T170000
DTSTAMP:20260425T145103
CREATED:20231106T191232Z
LAST-MODIFIED:20231106T191517Z
UID:10008566-1703494800-1703869200@murphydeals.com
SUMMARY:Food Drive in Bullhead - Donate Today!
DESCRIPTION:
URL:https://murphydeals.com/event/food-drive-in-bullhead-donate-today/2023-12-25/
LOCATION:Property Management Services\, 1834 Hwy 95\, Bullhead City\, AZ\, 86442
CATEGORIES:Charity | Benefits
ATTACH;FMTTYPE=image/jpeg:https://murphydeals.com/wp-content/uploads/2023/11/Brown-Orange-Yellow-Green-Colorful-Illustration-Creative-Food-Drive-Flyer-2_page-0001-1-e1699297157282.jpg
END:VEVENT
BEGIN:VEVENT
DTSTART;TZID=America/Phoenix:20231223T080000
DTEND;TZID=America/Phoenix:20231223T120000
DTSTAMP:20260425T145103
CREATED:20220829T224644Z
LAST-MODIFIED:20230120T165800Z
UID:10007072-1703318400-1703332800@murphydeals.com
SUMMARY:Lake Havasu Farmers Market
DESCRIPTION:The KAWS\n2144 McCulloch Blvd N\nLake Havasu City\, Arizona 86403 \n2nd & 4th Saturday\n8am – Noon\n\n\nthekawslhc.com | Admission Price: Free \n2023 Market Dates: \nJanuary 14 & 28\nFebruary 11 & 25\nMarch 11 & 25\nApril 8 & 22\nMay 13 & 27\nJune 10 & 24\nJuly 8 & 22\nAugust 12 & 26\nSeptember 9 & 23\nOctober 14 & 28\nNovember 11\nDecember 9 \n8 am – 12 pm
URL:https://murphydeals.com/event/lake-havasu-farmers-market/2023-12-23/
LOCATION:The KAWS\, 2144 McCulloch Boulevard North\, Lake Havasu City\, AZ\, 86403\, United States
CATEGORIES:Farmers Market
ATTACH;FMTTYPE=image/webp:https://murphydeals.com/wp-content/uploads/2022/08/Farmers-scaled-e1661813060398.webp
END:VEVENT
BEGIN:VEVENT
DTSTART;TZID=America/Phoenix:20231220T180000
DTEND;TZID=America/Phoenix:20231220T193000
DTSTAMP:20260425T145103
CREATED:20231122T163035Z
LAST-MODIFIED:20231122T163035Z
UID:10008572-1703095200-1703100600@murphydeals.com
SUMMARY:Advent Services at Mount Olive Lutheran Church
DESCRIPTION:
URL:https://murphydeals.com/event/advent-services-at-mount-olive-lutheran-church/
LOCATION:Mount Olive Lutheran Church\, 2170 Havasupai Blvd.\, Lake Havasu City\, AZ\, 86403
CATEGORIES:Event
ATTACH;FMTTYPE=image/png:https://murphydeals.com/wp-content/uploads/2023/11/Advent-Worship-23-1-e1700670578444.png
END:VEVENT
END:VCALENDAR