BEGIN:VCALENDAR
VERSION:2.0
PRODID:-//Murphy Deals - ECPv6.15.20//NONSGML v1.0//EN
CALSCALE:GREGORIAN
METHOD:PUBLISH
X-WR-CALNAME:Murphy Deals
X-ORIGINAL-URL:https://murphydeals.com
X-WR-CALDESC:Events for Murphy Deals
REFRESH-INTERVAL;VALUE=DURATION:PT1H
X-Robots-Tag:noindex
X-PUBLISHED-TTL:PT1H
BEGIN:VTIMEZONE
TZID:America/Phoenix
BEGIN:STANDARD
TZOFFSETFROM:-0700
TZOFFSETTO:-0700
TZNAME:MST
DTSTART:20220101T000000
END:STANDARD
END:VTIMEZONE
BEGIN:VEVENT
DTSTART;TZID=America/Phoenix:20230729T190000
DTEND;TZID=America/Phoenix:20230729T220000
DTSTAMP:20260425T135126
CREATED:20230619T214131Z
LAST-MODIFIED:20230619T214131Z
UID:10008287-1690657200-1690668000@murphydeals.com
SUMMARY:Aaron Wolf at Jeremy's Juke Joint
DESCRIPTION:Aaron Wolf is a nationally touring artist based out of San Diego\, CA that has become known as one of the fastest rising acts as he makes a name for himself in the American Reggae Scene. His music blends elements of reggae\, folk and hip-hop with conscious lyrics that are designed to uplift the listener. \nIn 2018\, Aaron independently released his first EP Greater Than Self which now has over 500K streams in total. Despite the Pandemic and the music industry shutting down\, he hit the road in 2020 to start touring and playing shows and festivals around the west coast including CA\, AZ\, CO\, UT\, and WY. \nSince then he has shared the stage with leading acts in the American Reggae scene including Slightly Stoopid\, KBong\, Brandon Hardesty\, Howi Spangler\, Fortunate Youth\, Vana Liya\, Sensi Trails\, the Elovaters\, Johnny Cosmic\, Kyle Smith and more. \nWith no signs of slowing down any time soon\, members of his Wolfpack community are eagerly awaiting new music\, merch\, upcoming shows and Collabs!
URL:https://murphydeals.com/event/aaron-wolf-at-jeremys-juke-joint/2023-07-29/
LOCATION:Jeremy’s Juke Joint\, 91 London Bridge Road\, ##103\, Lake Havasu City\, AZ\, 86403\, United States
CATEGORIES:Music | Concerts
ATTACH;FMTTYPE=image/jpeg:https://murphydeals.com/wp-content/uploads/2023/06/DSC00527-1-e1687210819105.jpg
END:VEVENT
BEGIN:VEVENT
DTSTART;TZID=America/Phoenix:20230728T190000
DTEND;TZID=America/Phoenix:20230728T220000
DTSTAMP:20260425T135126
CREATED:20230619T214131Z
LAST-MODIFIED:20230619T214131Z
UID:10008286-1690570800-1690581600@murphydeals.com
SUMMARY:Aaron Wolf at Jeremy's Juke Joint
DESCRIPTION:Aaron Wolf is a nationally touring artist based out of San Diego\, CA that has become known as one of the fastest rising acts as he makes a name for himself in the American Reggae Scene. His music blends elements of reggae\, folk and hip-hop with conscious lyrics that are designed to uplift the listener. \nIn 2018\, Aaron independently released his first EP Greater Than Self which now has over 500K streams in total. Despite the Pandemic and the music industry shutting down\, he hit the road in 2020 to start touring and playing shows and festivals around the west coast including CA\, AZ\, CO\, UT\, and WY. \nSince then he has shared the stage with leading acts in the American Reggae scene including Slightly Stoopid\, KBong\, Brandon Hardesty\, Howi Spangler\, Fortunate Youth\, Vana Liya\, Sensi Trails\, the Elovaters\, Johnny Cosmic\, Kyle Smith and more. \nWith no signs of slowing down any time soon\, members of his Wolfpack community are eagerly awaiting new music\, merch\, upcoming shows and Collabs!
URL:https://murphydeals.com/event/aaron-wolf-at-jeremys-juke-joint/2023-07-28/
LOCATION:Jeremy’s Juke Joint\, 91 London Bridge Road\, ##103\, Lake Havasu City\, AZ\, 86403\, United States
CATEGORIES:Music | Concerts
ATTACH;FMTTYPE=image/jpeg:https://murphydeals.com/wp-content/uploads/2023/06/DSC00527-1-e1687210819105.jpg
END:VEVENT
END:VCALENDAR