BEGIN:VCALENDAR
VERSION:2.0
PRODID:-//Murphy Deals - ECPv6.15.20//NONSGML v1.0//EN
CALSCALE:GREGORIAN
METHOD:PUBLISH
X-ORIGINAL-URL:https://murphydeals.com
X-WR-CALDESC:Events for Murphy Deals
REFRESH-INTERVAL;VALUE=DURATION:PT1H
X-Robots-Tag:noindex
X-PUBLISHED-TTL:PT1H
BEGIN:VTIMEZONE
TZID:America/Phoenix
BEGIN:STANDARD
TZOFFSETFROM:-0700
TZOFFSETTO:-0700
TZNAME:MST
DTSTART:20220101T000000
END:STANDARD
END:VTIMEZONE
BEGIN:VEVENT
DTSTART;TZID=America/Phoenix:20230218T190000
DTEND;TZID=America/Phoenix:20230218T233000
DTSTAMP:20260425T153744
CREATED:20230214T220403Z
LAST-MODIFIED:20230214T220540Z
UID:10007202-1676746800-1676763000@murphydeals.com
SUMMARY:Ag Session/Jenna's Arrival at Yucca North
DESCRIPTION:$5 at the door
URL:https://murphydeals.com/event/ag-session-jennas-arrival-at-yucca-north/
LOCATION:Yucca North\, 15 N WC Riles St\, Flagstaff\, AZ\, 86001\, United States
CATEGORIES:Music | Concerts
ATTACH;FMTTYPE=image/webp:https://murphydeals.com/wp-content/uploads/2023/02/yuccanorth-e1676412324630.webp
END:VEVENT
END:VCALENDAR