BEGIN:VCALENDAR
VERSION:2.0
PRODID:-//Murphy Deals - ECPv6.15.20//NONSGML v1.0//EN
CALSCALE:GREGORIAN
METHOD:PUBLISH
X-WR-CALNAME:Murphy Deals
X-ORIGINAL-URL:https://murphydeals.com
X-WR-CALDESC:Events for Murphy Deals
REFRESH-INTERVAL;VALUE=DURATION:PT1H
X-Robots-Tag:noindex
X-PUBLISHED-TTL:PT1H
BEGIN:VTIMEZONE
TZID:America/Phoenix
BEGIN:STANDARD
TZOFFSETFROM:-0700
TZOFFSETTO:-0700
TZNAME:MST
DTSTART:20220101T000000
END:STANDARD
END:VTIMEZONE
BEGIN:VEVENT
DTSTART;TZID=America/Phoenix:20230618T090000
DTEND;TZID=America/Phoenix:20230619T150000
DTSTAMP:20260425T160850
CREATED:20230606T211919Z
LAST-MODIFIED:20230606T212557Z
UID:10008226-1687078800-1687186800@murphydeals.com
SUMMARY:Mohave Gun Show
DESCRIPTION:Largest Gun Show in Mohave County!\nBUY ~ SELL ~ TRADE
URL:https://murphydeals.com/event/mohave-gun-show/2023-06-18/
LOCATION:Anderson Field House\, 3663 Bullhead Parkway\, Bullhead City\, AZ\, 86442\, United States
CATEGORIES:Event
ATTACH;FMTTYPE=image/webp:https://murphydeals.com/wp-content/uploads/2023/06/Gun-Show-June-2023-1-e1686086341609.webp
END:VEVENT
BEGIN:VEVENT
DTSTART;TZID=America/Phoenix:20230617T090000
DTEND;TZID=America/Phoenix:20230617T170000
DTSTAMP:20260425T160850
CREATED:20230606T211919Z
LAST-MODIFIED:20230606T212557Z
UID:10008225-1686992400-1687021200@murphydeals.com
SUMMARY:Mohave Gun Show
DESCRIPTION:Largest Gun Show in Mohave County!\nBUY ~ SELL ~ TRADE
URL:https://murphydeals.com/event/mohave-gun-show/2023-06-17/
LOCATION:Anderson Field House\, 3663 Bullhead Parkway\, Bullhead City\, AZ\, 86442\, United States
CATEGORIES:Event
ATTACH;FMTTYPE=image/webp:https://murphydeals.com/wp-content/uploads/2023/06/Gun-Show-June-2023-1-e1686086341609.webp
END:VEVENT
END:VCALENDAR