BEGIN:VCALENDAR
VERSION:2.0
PRODID:-//Murphy Deals - ECPv6.15.20//NONSGML v1.0//EN
CALSCALE:GREGORIAN
METHOD:PUBLISH
X-WR-CALNAME:Murphy Deals
X-ORIGINAL-URL:https://murphydeals.com
X-WR-CALDESC:Events for Murphy Deals
REFRESH-INTERVAL;VALUE=DURATION:PT1H
X-Robots-Tag:noindex
X-PUBLISHED-TTL:PT1H
BEGIN:VTIMEZONE
TZID:America/Phoenix
BEGIN:STANDARD
TZOFFSETFROM:-0700
TZOFFSETTO:-0700
TZNAME:MST
DTSTART:20220101T000000
END:STANDARD
END:VTIMEZONE
BEGIN:VEVENT
DTSTART;TZID=America/Phoenix:20230428T183000
DTEND;TZID=America/Phoenix:20230428T233000
DTSTAMP:20260425T093524
CREATED:20221206T185248Z
LAST-MODIFIED:20230113T221630Z
UID:10006795-1682706600-1682724600@murphydeals.com
SUMMARY:Count's 77 Friday Night at Anderson Auto Group Fieldhouse
DESCRIPTION:Count’s 77\nThis hard rock band hails from Las Vegas Nevada and was inspired by the music of the 70’s. Some of their greatest hits include Summer of 77\, Do You Feel Me\, My Detroit\, Soul Transfusion and Evil You Could Do. Count’s 77 will make their epic return to Anderson Fieldhouse on April 28\, 2023. The opening act will be legendary Little Bihlman\, The Legend of Hispter Billings.\nNO REFUNDS/NON-TRANSFERABLE\nPlease remember:\nNo food or drinks are allowed to be brought in.\nNo weapons including knives.\nNo backpacks or large bags. Small purses are allowed\, but will be searched.\nEveryone is subject to search.\nNo smoking\, including vaping\, allowed ANYWHERE inside the facility or on school grounds.\nNo video or audio recording is allowed. No professional video or audio equipment is allowed in the Fieldhouse.\nNo noise makers allowed in the facility.\nYOU MUST BRING YOUR TICKET VOUCHER TO ENTER THE FACILITY.\nThose who look under 40 will be carded when purchasing beer.\nNo animals are allowed unless CERTIFIED service animals.\nBUY TICKETS \n 
URL:https://murphydeals.com/event/3rd-annual-bullhead-river-run-friday-night-at-anderson-auto-group-fieldhouse/
LOCATION:Anderson Field House\, 3663 Bullhead Parkway\, Bullhead City\, AZ\, 86442\, United States
CATEGORIES:Event,Music | Concerts
ATTACH;FMTTYPE=image/jpeg:https://murphydeals.com/wp-content/uploads/2022/12/count-e1670354067248.jpg
END:VEVENT
BEGIN:VEVENT
DTSTART;TZID=America/Phoenix:20230624T100000
DTEND;TZID=America/Phoenix:20230624T160000
DTSTAMP:20260425T093524
CREATED:20230522T195559Z
LAST-MODIFIED:20230522T195559Z
UID:10007839-1687600800-1687622400@murphydeals.com
SUMMARY:5th Annual Family Fun Festival at Anderson Auto Group Fieldhouse
DESCRIPTION:We are so excited for our Annual Family Fun Festival! If you would like to be involved as a vendor or volunteer- reach out and call us at 928-219-3030! \n \n 
URL:https://murphydeals.com/event/5th-annual-family-fun-festival-at-anderson-auto-group-fieldhouse/
LOCATION:Anderson Field House\, 3663 Bullhead Parkway\, Bullhead City\, AZ\, 86442\, United States
CATEGORIES:Event
ATTACH;FMTTYPE=image/jpeg:https://murphydeals.com/wp-content/uploads/2023/05/family.fun_-e1684785304541.jpg
END:VEVENT
END:VCALENDAR