BEGIN:VCALENDAR
VERSION:2.0
PRODID:-//Murphy Deals - ECPv6.15.20//NONSGML v1.0//EN
CALSCALE:GREGORIAN
METHOD:PUBLISH
X-WR-CALNAME:Murphy Deals
X-ORIGINAL-URL:https://murphydeals.com
X-WR-CALDESC:Events for Murphy Deals
REFRESH-INTERVAL;VALUE=DURATION:PT1H
X-Robots-Tag:noindex
X-PUBLISHED-TTL:PT1H
BEGIN:VTIMEZONE
TZID:America/Phoenix
BEGIN:STANDARD
TZOFFSETFROM:-0700
TZOFFSETTO:-0700
TZNAME:MST
DTSTART:20220101T000000
END:STANDARD
END:VTIMEZONE
BEGIN:VEVENT
DTSTART;TZID=America/Phoenix:20230225T090000
DTEND;TZID=America/Phoenix:20230225T170000
DTSTAMP:20260425T174319
CREATED:20221230T233250Z
LAST-MODIFIED:20230105T160254Z
UID:10006875-1677315600-1677344400@murphydeals.com
SUMMARY:Havasu Art Trail
DESCRIPTION:You are invited to this year’s annual Havasu Art Trail! \nThis event will showcase different artists at multiple locations including artist studios all around Lake Havasu City! \nTravel the trail to explore the many artistic talents of various artists of Lake Havasu. \nArtists • About • Contact • Maps & Locations\nSaturday February 25th 2023 9:00 – 5:00\nSunday February 26th 2023 10:00 – 4:00 \nWe encouraged the artists to create groups at homes and studios around town to help meet several artists at once and see their creative projects and talents. We expect to exceed our previous artist count of 2022 by bringing in 50 artists at over 20 locations in 2023. \nThis event is free to the public. \nFor more information\, go to: www.HavasuArtTrail.com or email us at info@HavasuArtTrail.com.
URL:https://murphydeals.com/event/havasu-art-trail/2023-02-25/
CATEGORIES:Event
ATTACH;FMTTYPE=image/png:https://murphydeals.com/wp-content/uploads/2022/12/ArtTrail-e1672934464434.png
END:VEVENT
BEGIN:VEVENT
DTSTART;TZID=America/Phoenix:20230226T100000
DTEND;TZID=America/Phoenix:20230226T160000
DTSTAMP:20260425T174319
CREATED:20221230T233250Z
LAST-MODIFIED:20230105T160254Z
UID:10006876-1677405600-1677427200@murphydeals.com
SUMMARY:Havasu Art Trail
DESCRIPTION:You are invited to this year’s annual Havasu Art Trail! \nThis event will showcase different artists at multiple locations including artist studios all around Lake Havasu City! \nTravel the trail to explore the many artistic talents of various artists of Lake Havasu. \nArtists • About • Contact • Maps & Locations\nSaturday February 25th 2023 9:00 – 5:00\nSunday February 26th 2023 10:00 – 4:00 \nWe encouraged the artists to create groups at homes and studios around town to help meet several artists at once and see their creative projects and talents. We expect to exceed our previous artist count of 2022 by bringing in 50 artists at over 20 locations in 2023. \nThis event is free to the public. \nFor more information\, go to: www.HavasuArtTrail.com or email us at info@HavasuArtTrail.com.
URL:https://murphydeals.com/event/havasu-art-trail/2023-02-26/
CATEGORIES:Event
ATTACH;FMTTYPE=image/png:https://murphydeals.com/wp-content/uploads/2022/12/ArtTrail-e1672934464434.png
END:VEVENT
END:VCALENDAR