BEGIN:VCALENDAR
VERSION:2.0
PRODID:-//Murphy Deals - ECPv6.15.20//NONSGML v1.0//EN
CALSCALE:GREGORIAN
METHOD:PUBLISH
X-WR-CALNAME:Murphy Deals
X-ORIGINAL-URL:https://murphydeals.com
X-WR-CALDESC:Events for Murphy Deals
REFRESH-INTERVAL;VALUE=DURATION:PT1H
X-Robots-Tag:noindex
X-PUBLISHED-TTL:PT1H
BEGIN:VTIMEZONE
TZID:America/Phoenix
BEGIN:STANDARD
TZOFFSETFROM:-0700
TZOFFSETTO:-0700
TZNAME:MST
DTSTART:20210101T000000
END:STANDARD
END:VTIMEZONE
BEGIN:VEVENT
DTSTART;TZID=America/Phoenix:20231126T100000
DTEND;TZID=America/Phoenix:20231126T160000
DTSTAMP:20260425T133918
CREATED:20230501T230916Z
LAST-MODIFIED:20230501T230916Z
UID:10007769-1700992800-1701014400@murphydeals.com
SUMMARY:Havasu Art Guild Holiday Shoppe at Lake Havasu City Aquatic Center
DESCRIPTION:Looking for truly memorable holiday gifts? This annual showcase of unique and innovative arts and crafts for sale gives an opportunity to support local artisans and do some holiday shopping including pottery\, fiber arts\, jewelry\, wood crafts\, glass\, and paintings. Proceeds from baked goods sales will be generously donated to support the Havasu Art Guild’s scholarship program. \nEvent is held on both Saturday and Sunday. \n 
URL:https://murphydeals.com/event/havasu-art-guild-holiday-shoppe-at-lake-havasu-city-aquatic-center/2023-11-26/
LOCATION:Lake Havasu City Aquatic Center\, 100 Park Ave\, Lake Havasu City\, AZ\, 86403\, United States
CATEGORIES:Event
ATTACH;FMTTYPE=image/jpeg:https://murphydeals.com/wp-content/uploads/2023/05/holidayshoppe-e1682982501173.jpg
END:VEVENT
BEGIN:VEVENT
DTSTART;TZID=America/Phoenix:20231125T090000
DTEND;TZID=America/Phoenix:20231125T160000
DTSTAMP:20260425T133918
CREATED:20230501T230916Z
LAST-MODIFIED:20230501T230916Z
UID:10007768-1700902800-1700928000@murphydeals.com
SUMMARY:Havasu Art Guild Holiday Shoppe at Lake Havasu City Aquatic Center
DESCRIPTION:Looking for truly memorable holiday gifts? This annual showcase of unique and innovative arts and crafts for sale gives an opportunity to support local artisans and do some holiday shopping including pottery\, fiber arts\, jewelry\, wood crafts\, glass\, and paintings. Proceeds from baked goods sales will be generously donated to support the Havasu Art Guild’s scholarship program. \nEvent is held on both Saturday and Sunday. \n 
URL:https://murphydeals.com/event/havasu-art-guild-holiday-shoppe-at-lake-havasu-city-aquatic-center/2023-11-25/
LOCATION:Lake Havasu City Aquatic Center\, 100 Park Ave\, Lake Havasu City\, AZ\, 86403\, United States
CATEGORIES:Event
ATTACH;FMTTYPE=image/jpeg:https://murphydeals.com/wp-content/uploads/2023/05/holidayshoppe-e1682982501173.jpg
END:VEVENT
BEGIN:VEVENT
DTSTART;TZID=America/Phoenix:20221118T160000
DTEND;TZID=America/Phoenix:20221118T200000
DTSTAMP:20260425T133918
CREATED:20221108T190534Z
LAST-MODIFIED:20221115T195756Z
UID:10006575-1668787200-1668801600@murphydeals.com
SUMMARY:Western Welcome Club Annual Holiday Boutique at Lake Havasu City Aquatic Center
DESCRIPTION:Free cookies and coffee while you shop! \nHead over to the Aquatic Center for this free event presented by the Western Welcome Club of Arizona. Shop for beautiful handcrafted holiday and non-holiday items\, gifts\, home decor\, and baked goods. This is the perfect opportunity to purchase gifts for loved ones! There will be plenty of raffles for beautiful handmade items. \nWestern Welcome Club of Arizona is a non-profit organization\, and all proceeds from this event benefit the community of Lake Havasu City.
URL:https://murphydeals.com/event/western-welcome-club-annual-holiday-boutique-at-lake-havasu-city-aquatic-center/
LOCATION:Lake Havasu City Aquatic Center\, 100 Park Ave\, Lake Havasu City\, AZ\, 86403\, United States
CATEGORIES:Event
ATTACH;FMTTYPE=image/jpeg:https://murphydeals.com/wp-content/uploads/2022/11/portrait-of-smiling-young-woman-with-christmas-wre-2022-11-06-23-11-49-utc-1-e1668542215715.jpg
END:VEVENT
BEGIN:VEVENT
DTSTART;TZID=America/Phoenix:20221112T100000
DTEND;TZID=America/Phoenix:20221112T140000
DTSTAMP:20260425T133918
CREATED:20221107T211129Z
LAST-MODIFIED:20221107T211129Z
UID:10006571-1668247200-1668261600@murphydeals.com
SUMMARY:Second Saturday Sip & Shop Share at Miracle Mile Event Center in Bullhead City
DESCRIPTION:Loaded & Baked and The Event Station present the first and only MONTHLY\, INDOOR\, vendor opportunity! \nFREE ADMISSION – ALL AGES EVENT \nThe next ?Second Saturday Sip & Shop? will be held April 9\, 2022 (and every second Saturday there after!) from 10am-2pm at the Miracle Mile Event Center located at 2580 Miracle Mile Rd. in Bullhead City\, AZ 🍾 🥂 🛍\nOver 20 vendors made up of local small businesses\, unique handmade products\, crafters\, artisans\, bakers and more! \nThe first 25 shoppers get a FREE GIFT! \nEvery purchase enters you into the vendor raffle! \nDo you have a small business or home-based business you would like to promote to the community? Now is the time! 😃 \nWe are currently accepting applications for unique vendors in all categories! \n– Crafters & Artisans (Including but not limited to: Jewelry\, candles\, soaps & lotions\, baked goods etc.)\n-Artists/Artwork\n-Distributors/Direct Sales\n-Clothing & Retail\n-Cosmetics\, Skin Care & Health\n-Food Trucks/Carts/Concessions \nApply now at: loadedbakedcookies@gmail.com\nLimited space available! Vendor spaces available for $25 (indoors) $20 (patio)\nFor further info\, please shoot us a email
URL:https://murphydeals.com/event/second-saturday-sip-shop-share-at-miracle-mile-event-center-in-bullhead-city/
LOCATION:Miracle Mile Event Center\, 2580 S Miracle Mile\, Bullhead City\, AZ\, 86442\, United States
CATEGORIES:Event
ATTACH;FMTTYPE=image/jpeg:https://murphydeals.com/wp-content/uploads/2022/11/sipshop-e1667855263815.jpg
END:VEVENT
END:VCALENDAR