BEGIN:VCALENDAR
VERSION:2.0
PRODID:-//Murphy Deals - ECPv6.15.20//NONSGML v1.0//EN
CALSCALE:GREGORIAN
METHOD:PUBLISH
X-ORIGINAL-URL:https://murphydeals.com
X-WR-CALDESC:Events for Murphy Deals
REFRESH-INTERVAL;VALUE=DURATION:PT1H
X-Robots-Tag:noindex
X-PUBLISHED-TTL:PT1H
BEGIN:VTIMEZONE
TZID:America/Phoenix
BEGIN:STANDARD
TZOFFSETFROM:-0700
TZOFFSETTO:-0700
TZNAME:MST
DTSTART:20220101T000000
END:STANDARD
END:VTIMEZONE
BEGIN:VEVENT
DTSTART;TZID=America/Phoenix:20230208T193000
DTEND;TZID=America/Phoenix:20230208T210000
DTSTAMP:20260425T190224
CREATED:20230120T171956Z
LAST-MODIFIED:20230120T200617Z
UID:10007096-1675884600-1675890000@murphydeals.com
SUMMARY:Valentine's Dance Party
DESCRIPTION:FEBRUARY 8TH\, 2023\n\n\n\n\nSingles and Couples Welcome!\n\n\nLOTS of General Dancing – no partner or experience required! \nPotluck – bring your favorite snack\, dish\, or dessert! \nStudent showcase – you won’t want to miss it! \nNo sign-up required – just pop in and enjoy the warm and friendlly environment! \n\nEvent Details \n\n\n\n\n\n7:30pm – 9:00pm\n\n\nSwivel & Sway Ballroom
URL:https://murphydeals.com/event/valentines-dance-party/
LOCATION:Swivel & Sway Ballroom Dance\, 62 S. Lake Havasu Ave.\, #108\, LAKE HAVASU CITY\, AZ\, 86403\, United States
CATEGORIES:Event
ATTACH;FMTTYPE=image/jpeg:https://murphydeals.com/wp-content/uploads/2023/01/VDay-scaled-e1674244227919.jpg
END:VEVENT
END:VCALENDAR