BEGIN:VCALENDAR
VERSION:2.0
PRODID:-//Murphy Deals - ECPv6.15.20//NONSGML v1.0//EN
CALSCALE:GREGORIAN
METHOD:PUBLISH
X-WR-CALNAME:Murphy Deals
X-ORIGINAL-URL:https://murphydeals.com
X-WR-CALDESC:Events for Murphy Deals
REFRESH-INTERVAL;VALUE=DURATION:PT1H
X-Robots-Tag:noindex
X-PUBLISHED-TTL:PT1H
BEGIN:VTIMEZONE
TZID:America/Phoenix
BEGIN:STANDARD
TZOFFSETFROM:-0700
TZOFFSETTO:-0700
TZNAME:MST
DTSTART:20220101T000000
END:STANDARD
END:VTIMEZONE
BEGIN:VEVENT
DTSTART;TZID=America/Phoenix:20230326T150000
DTEND;TZID=America/Phoenix:20230326T170000
DTSTAMP:20260425T124259
CREATED:20230220T230345Z
LAST-MODIFIED:20230220T230345Z
UID:10007225-1679842800-1679850000@murphydeals.com
SUMMARY:Lake Havasu Stampede Rodeo at Sara Park
DESCRIPTION:Lake Havasu Stampede is back! \nThe top cowboys and cowgirls in the sport of pro rodeo make their way to Lake Havasu City to compete in all 7 major events of this Professional Rodeo Cowboys Association (PRCA) pro rodeo at the SARA Park Rodeo Grounds. \nCompetitors will take to the arena for bareback riding\, saddle bronc riding\, tie down roping\, steer wrestling\, team roping\, barrel racing\, bull riding\, and mutton busting! Typically\, any youth between ages 4 and 7 years old and weighing less than 80 pounds can sign up to ride a sheep\, but this year’s mutton busting registration is full! \nGeneral rodeo tickets can be purchase in advance online\, and with cash only at the gate the day of the event. There is an ATM on site. \nThere is outdoor bleacher-style seating\, so no need to bring your own seating. \nNo outside coolers are allowed. No dogs allowed. \nParking is free. \nFood and beverage vendors\, including alcohol\, will be available. Vendors take cash and cards. \nOn Friday and Saturday\, gates open at 5pm with the rodeo starting at 7pm; on Sunday\, gates open at 1pm with the rodeo starting at 3pm. \nBUY TICKETS\n 
URL:https://murphydeals.com/event/lake-havasu-stampede-rodeo-at-sara-park/2023-03-26/
LOCATION:Sara Park Rodeo Grounds\, 1740 McCulloch Blvd S\, Lake Havasu City\, AZ\, 86406
CATEGORIES:Event,Sports | Activities
ATTACH;FMTTYPE=image/jpeg:https://murphydeals.com/wp-content/uploads/2023/02/stampede-1-e1676932161104.jpg
END:VEVENT
BEGIN:VEVENT
DTSTART;TZID=America/Phoenix:20230325T190000
DTEND;TZID=America/Phoenix:20230325T213000
DTSTAMP:20260425T124259
CREATED:20230220T230345Z
LAST-MODIFIED:20230220T230345Z
UID:10007224-1679770800-1679779800@murphydeals.com
SUMMARY:Lake Havasu Stampede Rodeo at Sara Park
DESCRIPTION:Lake Havasu Stampede is back! \nThe top cowboys and cowgirls in the sport of pro rodeo make their way to Lake Havasu City to compete in all 7 major events of this Professional Rodeo Cowboys Association (PRCA) pro rodeo at the SARA Park Rodeo Grounds. \nCompetitors will take to the arena for bareback riding\, saddle bronc riding\, tie down roping\, steer wrestling\, team roping\, barrel racing\, bull riding\, and mutton busting! Typically\, any youth between ages 4 and 7 years old and weighing less than 80 pounds can sign up to ride a sheep\, but this year’s mutton busting registration is full! \nGeneral rodeo tickets can be purchase in advance online\, and with cash only at the gate the day of the event. There is an ATM on site. \nThere is outdoor bleacher-style seating\, so no need to bring your own seating. \nNo outside coolers are allowed. No dogs allowed. \nParking is free. \nFood and beverage vendors\, including alcohol\, will be available. Vendors take cash and cards. \nOn Friday and Saturday\, gates open at 5pm with the rodeo starting at 7pm; on Sunday\, gates open at 1pm with the rodeo starting at 3pm. \nBUY TICKETS\n 
URL:https://murphydeals.com/event/lake-havasu-stampede-rodeo-at-sara-park/2023-03-25/
LOCATION:Sara Park Rodeo Grounds\, 1740 McCulloch Blvd S\, Lake Havasu City\, AZ\, 86406
CATEGORIES:Event,Sports | Activities
ATTACH;FMTTYPE=image/jpeg:https://murphydeals.com/wp-content/uploads/2023/02/stampede-1-e1676932161104.jpg
END:VEVENT
BEGIN:VEVENT
DTSTART;TZID=America/Phoenix:20230324T190000
DTEND;TZID=America/Phoenix:20230324T213000
DTSTAMP:20260425T124259
CREATED:20230220T230345Z
LAST-MODIFIED:20230220T230345Z
UID:10007223-1679684400-1679693400@murphydeals.com
SUMMARY:Lake Havasu Stampede Rodeo at Sara Park
DESCRIPTION:Lake Havasu Stampede is back! \nThe top cowboys and cowgirls in the sport of pro rodeo make their way to Lake Havasu City to compete in all 7 major events of this Professional Rodeo Cowboys Association (PRCA) pro rodeo at the SARA Park Rodeo Grounds. \nCompetitors will take to the arena for bareback riding\, saddle bronc riding\, tie down roping\, steer wrestling\, team roping\, barrel racing\, bull riding\, and mutton busting! Typically\, any youth between ages 4 and 7 years old and weighing less than 80 pounds can sign up to ride a sheep\, but this year’s mutton busting registration is full! \nGeneral rodeo tickets can be purchase in advance online\, and with cash only at the gate the day of the event. There is an ATM on site. \nThere is outdoor bleacher-style seating\, so no need to bring your own seating. \nNo outside coolers are allowed. No dogs allowed. \nParking is free. \nFood and beverage vendors\, including alcohol\, will be available. Vendors take cash and cards. \nOn Friday and Saturday\, gates open at 5pm with the rodeo starting at 7pm; on Sunday\, gates open at 1pm with the rodeo starting at 3pm. \nBUY TICKETS\n 
URL:https://murphydeals.com/event/lake-havasu-stampede-rodeo-at-sara-park/2023-03-24/
LOCATION:Sara Park Rodeo Grounds\, 1740 McCulloch Blvd S\, Lake Havasu City\, AZ\, 86406
CATEGORIES:Event,Sports | Activities
ATTACH;FMTTYPE=image/jpeg:https://murphydeals.com/wp-content/uploads/2023/02/stampede-1-e1676932161104.jpg
END:VEVENT
END:VCALENDAR