BEGIN:VCALENDAR
VERSION:2.0
PRODID:-//Murphy Deals - ECPv6.15.20//NONSGML v1.0//EN
CALSCALE:GREGORIAN
METHOD:PUBLISH
X-WR-CALNAME:Murphy Deals
X-ORIGINAL-URL:https://murphydeals.com
X-WR-CALDESC:Events for Murphy Deals
REFRESH-INTERVAL;VALUE=DURATION:PT1H
X-Robots-Tag:noindex
X-PUBLISHED-TTL:PT1H
BEGIN:VTIMEZONE
TZID:America/Phoenix
BEGIN:STANDARD
TZOFFSETFROM:-0700
TZOFFSETTO:-0700
TZNAME:MST
DTSTART:20220101T000000
END:STANDARD
END:VTIMEZONE
BEGIN:VEVENT
DTSTART;TZID=America/Phoenix:20230708T170000
DTEND;TZID=America/Phoenix:20230708T220000
DTSTAMP:20260425T202905
CREATED:20230626T222919Z
LAST-MODIFIED:20230626T222919Z
UID:10008315-1688835600-1688853600@murphydeals.com
SUMMARY:Havasu Heat Collegiate Summer Baseball Game at John M. Wade Memorial Field
DESCRIPTION:It’s time to heat up the hits! Havasu Heat is back! Come out to watch college athletes from all over the country take to the bases right here in Havasu! \nEach baseball game is $5 cash at the door (children 12 and younger are free). \nFood vendors will be on site. Spectators can not bring in outside food or drink\, coolers or shade\, and sunflower seeds are prohibited inside of the event. Spectators are able to bring in their own chairs. \nFor a complete schedule click here!
URL:https://murphydeals.com/event/havasu-heat-collegiate-summer-baseball-game-at-john-m-wade-memorial-field/2023-07-08/
LOCATION:John M. Wade Memorial Field at Lake Havasu High School\, 2675 Palo Verde Blvd S.\, Lake Havasu City\, AZ\, 86403\, United States
CATEGORIES:Sports | Activities
ATTACH;FMTTYPE=image/jpeg:https://murphydeals.com/wp-content/uploads/2023/06/sports-equipment-for-baseball-game-2022-07-20-07-42-46-utc-scaled-e1687818529217.jpg
END:VEVENT
BEGIN:VEVENT
DTSTART;TZID=America/Phoenix:20230707T170000
DTEND;TZID=America/Phoenix:20230707T220000
DTSTAMP:20260425T202905
CREATED:20230626T222919Z
LAST-MODIFIED:20230626T222919Z
UID:10008314-1688749200-1688767200@murphydeals.com
SUMMARY:Havasu Heat Collegiate Summer Baseball Game at John M. Wade Memorial Field
DESCRIPTION:It’s time to heat up the hits! Havasu Heat is back! Come out to watch college athletes from all over the country take to the bases right here in Havasu! \nEach baseball game is $5 cash at the door (children 12 and younger are free). \nFood vendors will be on site. Spectators can not bring in outside food or drink\, coolers or shade\, and sunflower seeds are prohibited inside of the event. Spectators are able to bring in their own chairs. \nFor a complete schedule click here!
URL:https://murphydeals.com/event/havasu-heat-collegiate-summer-baseball-game-at-john-m-wade-memorial-field/2023-07-07/
LOCATION:John M. Wade Memorial Field at Lake Havasu High School\, 2675 Palo Verde Blvd S.\, Lake Havasu City\, AZ\, 86403\, United States
CATEGORIES:Sports | Activities
ATTACH;FMTTYPE=image/jpeg:https://murphydeals.com/wp-content/uploads/2023/06/sports-equipment-for-baseball-game-2022-07-20-07-42-46-utc-scaled-e1687818529217.jpg
END:VEVENT
BEGIN:VEVENT
DTSTART;TZID=America/Phoenix:20230706T170000
DTEND;TZID=America/Phoenix:20230706T220000
DTSTAMP:20260425T202905
CREATED:20230626T222919Z
LAST-MODIFIED:20230626T222919Z
UID:10008313-1688662800-1688680800@murphydeals.com
SUMMARY:Havasu Heat Collegiate Summer Baseball Game at John M. Wade Memorial Field
DESCRIPTION:It’s time to heat up the hits! Havasu Heat is back! Come out to watch college athletes from all over the country take to the bases right here in Havasu! \nEach baseball game is $5 cash at the door (children 12 and younger are free). \nFood vendors will be on site. Spectators can not bring in outside food or drink\, coolers or shade\, and sunflower seeds are prohibited inside of the event. Spectators are able to bring in their own chairs. \nFor a complete schedule click here!
URL:https://murphydeals.com/event/havasu-heat-collegiate-summer-baseball-game-at-john-m-wade-memorial-field/2023-07-06/
LOCATION:John M. Wade Memorial Field at Lake Havasu High School\, 2675 Palo Verde Blvd S.\, Lake Havasu City\, AZ\, 86403\, United States
CATEGORIES:Sports | Activities
ATTACH;FMTTYPE=image/jpeg:https://murphydeals.com/wp-content/uploads/2023/06/sports-equipment-for-baseball-game-2022-07-20-07-42-46-utc-scaled-e1687818529217.jpg
END:VEVENT
BEGIN:VEVENT
DTSTART;TZID=America/Phoenix:20230705T170000
DTEND;TZID=America/Phoenix:20230705T220000
DTSTAMP:20260425T202905
CREATED:20230626T222919Z
LAST-MODIFIED:20230626T222919Z
UID:10008312-1688576400-1688594400@murphydeals.com
SUMMARY:Havasu Heat Collegiate Summer Baseball Game at John M. Wade Memorial Field
DESCRIPTION:It’s time to heat up the hits! Havasu Heat is back! Come out to watch college athletes from all over the country take to the bases right here in Havasu! \nEach baseball game is $5 cash at the door (children 12 and younger are free). \nFood vendors will be on site. Spectators can not bring in outside food or drink\, coolers or shade\, and sunflower seeds are prohibited inside of the event. Spectators are able to bring in their own chairs. \nFor a complete schedule click here!
URL:https://murphydeals.com/event/havasu-heat-collegiate-summer-baseball-game-at-john-m-wade-memorial-field/2023-07-05/
LOCATION:John M. Wade Memorial Field at Lake Havasu High School\, 2675 Palo Verde Blvd S.\, Lake Havasu City\, AZ\, 86403\, United States
CATEGORIES:Sports | Activities
ATTACH;FMTTYPE=image/jpeg:https://murphydeals.com/wp-content/uploads/2023/06/sports-equipment-for-baseball-game-2022-07-20-07-42-46-utc-scaled-e1687818529217.jpg
END:VEVENT
BEGIN:VEVENT
DTSTART;TZID=America/Phoenix:20230630T170000
DTEND;TZID=America/Phoenix:20230630T220000
DTSTAMP:20260425T202905
CREATED:20230626T222919Z
LAST-MODIFIED:20230626T222919Z
UID:10008311-1688144400-1688162400@murphydeals.com
SUMMARY:Havasu Heat Collegiate Summer Baseball Game at John M. Wade Memorial Field
DESCRIPTION:It’s time to heat up the hits! Havasu Heat is back! Come out to watch college athletes from all over the country take to the bases right here in Havasu! \nEach baseball game is $5 cash at the door (children 12 and younger are free). \nFood vendors will be on site. Spectators can not bring in outside food or drink\, coolers or shade\, and sunflower seeds are prohibited inside of the event. Spectators are able to bring in their own chairs. \nFor a complete schedule click here!
URL:https://murphydeals.com/event/havasu-heat-collegiate-summer-baseball-game-at-john-m-wade-memorial-field/2023-06-30/
LOCATION:John M. Wade Memorial Field at Lake Havasu High School\, 2675 Palo Verde Blvd S.\, Lake Havasu City\, AZ\, 86403\, United States
CATEGORIES:Sports | Activities
ATTACH;FMTTYPE=image/jpeg:https://murphydeals.com/wp-content/uploads/2023/06/sports-equipment-for-baseball-game-2022-07-20-07-42-46-utc-scaled-e1687818529217.jpg
END:VEVENT
BEGIN:VEVENT
DTSTART;TZID=America/Phoenix:20230629T170000
DTEND;TZID=America/Phoenix:20230629T220000
DTSTAMP:20260425T202905
CREATED:20230626T222919Z
LAST-MODIFIED:20230626T222919Z
UID:10008310-1688058000-1688076000@murphydeals.com
SUMMARY:Havasu Heat Collegiate Summer Baseball Game at John M. Wade Memorial Field
DESCRIPTION:It’s time to heat up the hits! Havasu Heat is back! Come out to watch college athletes from all over the country take to the bases right here in Havasu! \nEach baseball game is $5 cash at the door (children 12 and younger are free). \nFood vendors will be on site. Spectators can not bring in outside food or drink\, coolers or shade\, and sunflower seeds are prohibited inside of the event. Spectators are able to bring in their own chairs. \nFor a complete schedule click here!
URL:https://murphydeals.com/event/havasu-heat-collegiate-summer-baseball-game-at-john-m-wade-memorial-field/2023-06-29/
LOCATION:John M. Wade Memorial Field at Lake Havasu High School\, 2675 Palo Verde Blvd S.\, Lake Havasu City\, AZ\, 86403\, United States
CATEGORIES:Sports | Activities
ATTACH;FMTTYPE=image/jpeg:https://murphydeals.com/wp-content/uploads/2023/06/sports-equipment-for-baseball-game-2022-07-20-07-42-46-utc-scaled-e1687818529217.jpg
END:VEVENT
BEGIN:VEVENT
DTSTART;TZID=America/Phoenix:20230609T170000
DTEND;TZID=America/Phoenix:20230609T190000
DTSTAMP:20260425T202905
CREATED:20220421T181212Z
LAST-MODIFIED:20230609T224754Z
UID:10007806-1686330000-1686337200@murphydeals.com
SUMMARY:Havasu Heat Baseball Season 2023
DESCRIPTION:The 2023 Summer season starts on May 30th against the California Jays for a 3 Game Series.\n \nWe will be playing around 60 games which include 25 home games that are scheduled along with the trips to Prescott\, Las Vegas\, Palm Springs\, and the World Series. \nThis year we have teams coming to Lake Havasu City from all over the Southwest and Midwest from as far away as Chicago\, Illinois. \nA very special Thank You goes out to all those who support the Havasu Heat and we are looking forward to seeing you at our Home Games and Scheduled Promotion Nights!
URL:https://murphydeals.com/event/havasu-heat-baseball-season-opening-game-is-on-5-31-2022-at-500-pm/2023-06-09/
LOCATION:Lake Havasu High School\, 2675 Palo Verde Blvd S\, Lake Havasu City\, Arizona\, 86403
CATEGORIES:Sports | Activities
ATTACH;FMTTYPE=image/jpeg:https://murphydeals.com/wp-content/uploads/2022/04/Havasu-Heat.jpg
END:VEVENT
BEGIN:VEVENT
DTSTART;TZID=America/Phoenix:20230602T170000
DTEND;TZID=America/Phoenix:20230602T190000
DTSTAMP:20260425T202905
CREATED:20220421T181212Z
LAST-MODIFIED:20230609T224754Z
UID:10007805-1685725200-1685732400@murphydeals.com
SUMMARY:Havasu Heat Baseball Season 2023
DESCRIPTION:The 2023 Summer season starts on May 30th against the California Jays for a 3 Game Series.\n \nWe will be playing around 60 games which include 25 home games that are scheduled along with the trips to Prescott\, Las Vegas\, Palm Springs\, and the World Series. \nThis year we have teams coming to Lake Havasu City from all over the Southwest and Midwest from as far away as Chicago\, Illinois. \nA very special Thank You goes out to all those who support the Havasu Heat and we are looking forward to seeing you at our Home Games and Scheduled Promotion Nights!
URL:https://murphydeals.com/event/havasu-heat-baseball-season-opening-game-is-on-5-31-2022-at-500-pm/2023-06-02/
LOCATION:Lake Havasu High School\, 2675 Palo Verde Blvd S\, Lake Havasu City\, Arizona\, 86403
CATEGORIES:Sports | Activities
ATTACH;FMTTYPE=image/jpeg:https://murphydeals.com/wp-content/uploads/2022/04/Havasu-Heat.jpg
END:VEVENT
BEGIN:VEVENT
DTSTART;TZID=America/Phoenix:20230530T190000
DTEND;TZID=America/Phoenix:20230530T210000
DTSTAMP:20260425T202905
CREATED:20220421T181212Z
LAST-MODIFIED:20230609T224754Z
UID:10001575-1685473200-1685480400@murphydeals.com
SUMMARY:Havasu Heat Baseball Season 2023
DESCRIPTION:The 2023 Summer season starts on May 30th against the California Jays for a 3 Game Series.\n \nWe will be playing around 60 games which include 25 home games that are scheduled along with the trips to Prescott\, Las Vegas\, Palm Springs\, and the World Series. \nThis year we have teams coming to Lake Havasu City from all over the Southwest and Midwest from as far away as Chicago\, Illinois. \nA very special Thank You goes out to all those who support the Havasu Heat and we are looking forward to seeing you at our Home Games and Scheduled Promotion Nights!
URL:https://murphydeals.com/event/havasu-heat-baseball-season-opening-game-is-on-5-31-2022-at-500-pm/2023-05-30/
LOCATION:Lake Havasu High School\, 2675 Palo Verde Blvd S\, Lake Havasu City\, Arizona\, 86403
CATEGORIES:Sports | Activities
ATTACH;FMTTYPE=image/jpeg:https://murphydeals.com/wp-content/uploads/2022/04/Havasu-Heat.jpg
END:VEVENT
END:VCALENDAR