BEGIN:VCALENDAR
VERSION:2.0
PRODID:-//Murphy Deals - ECPv6.15.20//NONSGML v1.0//EN
CALSCALE:GREGORIAN
METHOD:PUBLISH
X-ORIGINAL-URL:https://murphydeals.com
X-WR-CALDESC:Events for Murphy Deals
REFRESH-INTERVAL;VALUE=DURATION:PT1H
X-Robots-Tag:noindex
X-PUBLISHED-TTL:PT1H
BEGIN:VTIMEZONE
TZID:America/Phoenix
BEGIN:STANDARD
TZOFFSETFROM:-0700
TZOFFSETTO:-0700
TZNAME:MST
DTSTART:20220101T000000
END:STANDARD
END:VTIMEZONE
BEGIN:VEVENT
DTSTART;TZID=America/Phoenix:20230113T100000
DTEND;TZID=America/Phoenix:20230122T170000
DTSTAMP:20260425T123132
CREATED:20221114T231829Z
LAST-MODIFIED:20221130T213015Z
UID:10006602-1673604000-1674406800@murphydeals.com
SUMMARY:Gem\, Mineral\, Jewelry and Bead Show at Tropicana in Laughlin
DESCRIPTION:Dealers For This Show\nAnna’s Rock ‘n Shop\nB & C Fine Jewelry\nBeading House\nIndian  Enterprises\nJ & J Jewelry\nL & L Arts & Crafts\nMing’s Treasures\nMountain Air Crystals\nMystical Blue Lace\nO & O Jewelry\nPerfect Gem\nRaymond Zhen\nMore dealers will be added as they confirm
URL:https://murphydeals.com/event/gem-mineral-jewelry-and-bead-show-at-tropicana-hotel-casino-in-laughlin/
LOCATION:Tropicana Laughlin Hotel and Casino\, 2121 S Casino Dr\, Laughlin\, 89029\, United States
CATEGORIES:Event,Tradeshow | Expo
ATTACH;FMTTYPE=image/jpeg:https://murphydeals.com/wp-content/uploads/2022/11/Gems-e1681161847864.jpg
END:VEVENT
END:VCALENDAR