BEGIN:VCALENDAR
VERSION:2.0
PRODID:-//Murphy Deals - ECPv6.15.20//NONSGML v1.0//EN
CALSCALE:GREGORIAN
METHOD:PUBLISH
X-WR-CALNAME:Murphy Deals
X-ORIGINAL-URL:https://murphydeals.com
X-WR-CALDESC:Events for Murphy Deals
REFRESH-INTERVAL;VALUE=DURATION:PT1H
X-Robots-Tag:noindex
X-PUBLISHED-TTL:PT1H
BEGIN:VTIMEZONE
TZID:America/Phoenix
BEGIN:STANDARD
TZOFFSETFROM:-0700
TZOFFSETTO:-0700
TZNAME:MST
DTSTART:20220101T000000
END:STANDARD
END:VTIMEZONE
BEGIN:VEVENT
DTSTART;TZID=America/Phoenix:20230618T200000
DTEND;TZID=America/Phoenix:20230618T213000
DTSTAMP:20260425T113149
CREATED:20221114T234408Z
LAST-MODIFIED:20230324T220609Z
UID:10006607-1687118400-1687123800@murphydeals.com
SUMMARY:Australian Bee Gees at Don Laughlin's Riverside Resort
DESCRIPTION:Take a wonderful trip down memory lane with the amazing talent of The Australian Bee Gees! This Tribute to the Bee Gees will take you back to the music of Saturday Night Fever and the music that we all danced to! Enjoy all the music we danced to back when Disco was the craze! You will be out of your seat dancing in no time! \n\n\n\nPrice: $32 – $38\nRecurrence: Recurring daily\nDates: June 14\, 2023 – June 18\, 2023\nTime: 8:00 PM\nPhone: (702) 298-2535\n\nGET TICKETS
URL:https://murphydeals.com/event/australian-bee-gees-at-don-laughlins-riverside-resort-hotel-casino-in-laughlin/2023-06-18/
LOCATION:Don Laughlin’s Riverside Resort Hotel and Casino\, 1650 S Casino Drive\, Laughlin\, Nevada\, 89029
CATEGORIES:Event,Music | Concerts
ATTACH;FMTTYPE=image/jpeg:https://murphydeals.com/wp-content/uploads/2022/11/Bee-Gees-e1670012749908.jpg
END:VEVENT
BEGIN:VEVENT
DTSTART;TZID=America/Phoenix:20230617T200000
DTEND;TZID=America/Phoenix:20230617T213000
DTSTAMP:20260425T113149
CREATED:20221114T234408Z
LAST-MODIFIED:20230324T220609Z
UID:10006606-1687032000-1687037400@murphydeals.com
SUMMARY:Australian Bee Gees at Don Laughlin's Riverside Resort
DESCRIPTION:Take a wonderful trip down memory lane with the amazing talent of The Australian Bee Gees! This Tribute to the Bee Gees will take you back to the music of Saturday Night Fever and the music that we all danced to! Enjoy all the music we danced to back when Disco was the craze! You will be out of your seat dancing in no time! \n\n\n\nPrice: $32 – $38\nRecurrence: Recurring daily\nDates: June 14\, 2023 – June 18\, 2023\nTime: 8:00 PM\nPhone: (702) 298-2535\n\nGET TICKETS
URL:https://murphydeals.com/event/australian-bee-gees-at-don-laughlins-riverside-resort-hotel-casino-in-laughlin/2023-06-17/
LOCATION:Don Laughlin’s Riverside Resort Hotel and Casino\, 1650 S Casino Drive\, Laughlin\, Nevada\, 89029
CATEGORIES:Event,Music | Concerts
ATTACH;FMTTYPE=image/jpeg:https://murphydeals.com/wp-content/uploads/2022/11/Bee-Gees-e1670012749908.jpg
END:VEVENT
BEGIN:VEVENT
DTSTART;TZID=America/Phoenix:20230616T200000
DTEND;TZID=America/Phoenix:20230616T210000
DTSTAMP:20260425T113149
CREATED:20221114T234408Z
LAST-MODIFIED:20230324T220609Z
UID:10006605-1686945600-1686949200@murphydeals.com
SUMMARY:Australian Bee Gees at Don Laughlin's Riverside Resort
DESCRIPTION:Take a wonderful trip down memory lane with the amazing talent of The Australian Bee Gees! This Tribute to the Bee Gees will take you back to the music of Saturday Night Fever and the music that we all danced to! Enjoy all the music we danced to back when Disco was the craze! You will be out of your seat dancing in no time! \n\n\n\nPrice: $32 – $38\nRecurrence: Recurring daily\nDates: June 14\, 2023 – June 18\, 2023\nTime: 8:00 PM\nPhone: (702) 298-2535\n\nGET TICKETS
URL:https://murphydeals.com/event/australian-bee-gees-at-don-laughlins-riverside-resort-hotel-casino-in-laughlin/2023-06-16/
LOCATION:Don Laughlin’s Riverside Resort Hotel and Casino\, 1650 S Casino Drive\, Laughlin\, Nevada\, 89029
CATEGORIES:Event,Music | Concerts
ATTACH;FMTTYPE=image/jpeg:https://murphydeals.com/wp-content/uploads/2022/11/Bee-Gees-e1670012749908.jpg
END:VEVENT
BEGIN:VEVENT
DTSTART;TZID=America/Phoenix:20230615T200000
DTEND;TZID=America/Phoenix:20230615T213000
DTSTAMP:20260425T113149
CREATED:20221114T234408Z
LAST-MODIFIED:20230324T220609Z
UID:10006604-1686859200-1686864600@murphydeals.com
SUMMARY:Australian Bee Gees at Don Laughlin's Riverside Resort
DESCRIPTION:Take a wonderful trip down memory lane with the amazing talent of The Australian Bee Gees! This Tribute to the Bee Gees will take you back to the music of Saturday Night Fever and the music that we all danced to! Enjoy all the music we danced to back when Disco was the craze! You will be out of your seat dancing in no time! \n\n\n\nPrice: $32 – $38\nRecurrence: Recurring daily\nDates: June 14\, 2023 – June 18\, 2023\nTime: 8:00 PM\nPhone: (702) 298-2535\n\nGET TICKETS
URL:https://murphydeals.com/event/australian-bee-gees-at-don-laughlins-riverside-resort-hotel-casino-in-laughlin/2023-06-15/
LOCATION:Don Laughlin’s Riverside Resort Hotel and Casino\, 1650 S Casino Drive\, Laughlin\, Nevada\, 89029
CATEGORIES:Event,Music | Concerts
ATTACH;FMTTYPE=image/jpeg:https://murphydeals.com/wp-content/uploads/2022/11/Bee-Gees-e1670012749908.jpg
END:VEVENT
BEGIN:VEVENT
DTSTART;TZID=America/Phoenix:20230614T200000
DTEND;TZID=America/Phoenix:20230614T213000
DTSTAMP:20260425T113149
CREATED:20221114T234408Z
LAST-MODIFIED:20230324T220609Z
UID:10006603-1686772800-1686778200@murphydeals.com
SUMMARY:Australian Bee Gees at Don Laughlin's Riverside Resort
DESCRIPTION:Take a wonderful trip down memory lane with the amazing talent of The Australian Bee Gees! This Tribute to the Bee Gees will take you back to the music of Saturday Night Fever and the music that we all danced to! Enjoy all the music we danced to back when Disco was the craze! You will be out of your seat dancing in no time! \n\n\n\nPrice: $32 – $38\nRecurrence: Recurring daily\nDates: June 14\, 2023 – June 18\, 2023\nTime: 8:00 PM\nPhone: (702) 298-2535\n\nGET TICKETS
URL:https://murphydeals.com/event/australian-bee-gees-at-don-laughlins-riverside-resort-hotel-casino-in-laughlin/2023-06-14/
LOCATION:Don Laughlin’s Riverside Resort Hotel and Casino\, 1650 S Casino Drive\, Laughlin\, Nevada\, 89029
CATEGORIES:Event,Music | Concerts
ATTACH;FMTTYPE=image/jpeg:https://murphydeals.com/wp-content/uploads/2022/11/Bee-Gees-e1670012749908.jpg
END:VEVENT
END:VCALENDAR