BEGIN:VCALENDAR
VERSION:2.0
PRODID:-//Murphy Deals - ECPv6.15.20//NONSGML v1.0//EN
CALSCALE:GREGORIAN
METHOD:PUBLISH
X-ORIGINAL-URL:https://murphydeals.com
X-WR-CALDESC:Events for Murphy Deals
REFRESH-INTERVAL;VALUE=DURATION:PT1H
X-Robots-Tag:noindex
X-PUBLISHED-TTL:PT1H
BEGIN:VTIMEZONE
TZID:America/Phoenix
BEGIN:STANDARD
TZOFFSETFROM:-0700
TZOFFSETTO:-0700
TZNAME:MST
DTSTART:20210101T000000
END:STANDARD
END:VTIMEZONE
BEGIN:VEVENT
DTSTART;TZID=America/Phoenix:20231117T110000
DTEND;TZID=America/Phoenix:20231118T170000
DTSTAMP:20260425T121636
CREATED:20230414T173901Z
LAST-MODIFIED:20230414T173901Z
UID:10007512-1700218800-1700326800@murphydeals.com
SUMMARY:12th Annual Sand\, Water & RV Expo at Lake Havasu State Park\, Windsor 4
DESCRIPTION:Get ready for an unforgettable showcase of everything sand and water enthusiasts love! The highly-anticipated Sand\, Water\, and RV Expo is back\, and it promises to be bigger and better than ever before. With a vast array of toys and equipment on display\, this event is the ultimate destination for anyone who loves spending time by the beach or exploring the great outdoors in their RV. Don’t miss out on the chance to see the latest and greatest in watercraft\, beach gear\, and recreational vehicles\, all in one place! \nCONCESSIONS: \nFood\, beverages\, and a beer garden are offered on-site. \nNo off-site alcoholic beverages or glass containers are allowed. \nDogs are allowed on leash only. \n$8
URL:https://murphydeals.com/event/12th-annual-sand-water-rv-expo-at-lake-havasu-state-park-windsor-4/
LOCATION:Lake Havasu State Park – Windsor 4\, 699 London Bridge Road\, Lake Havasu City\, AZ\, 86403\, United States
CATEGORIES:Event
ATTACH;FMTTYPE=image/jpeg:https://murphydeals.com/wp-content/uploads/2023/04/Sand-Water-RV-Expo-e1681493776495.jpg
END:VEVENT
BEGIN:VEVENT
DTSTART;TZID=America/Phoenix:20230506T100000
DTEND;TZID=America/Phoenix:20230506T170000
DTSTAMP:20260425T121636
CREATED:20220502T214308Z
LAST-MODIFIED:20230404T204356Z
UID:10001598-1683367200-1683392400@murphydeals.com
SUMMARY:Burro BBQ at Rotary Park in Bullhead City
DESCRIPTION:72nd Annual Burro BBQ put on by the Rotary Club of Bullhead City. Fun for all\, deep pit BBQ beef and pork\, entertainment by Kid N Nic!
URL:https://murphydeals.com/event/burro-bbq-at-rotary-park-in-bullhead-city/
LOCATION:Rotary Park of Bullhead City\, 2315 Balboa Drive\, Bullhead City\, AZ\, 86442
CATEGORIES:Event
ATTACH;FMTTYPE=image/jpeg:https://murphydeals.com/wp-content/uploads/2022/05/burrobbq-1-e1680640706981.jpg
END:VEVENT
BEGIN:VEVENT
DTSTART;TZID=America/Phoenix:20230429T110000
DTEND;TZID=America/Phoenix:20230429T220000
DTSTAMP:20260425T121636
CREATED:20230411T171009Z
LAST-MODIFIED:20230411T172500Z
UID:10007494-1682766000-1682805600@murphydeals.com
SUMMARY:Outside/Inside Anderson Fieldhouse Events in Bullhead
DESCRIPTION:
URL:https://murphydeals.com/event/outside-inside-anderson-fieldhouse-events/2023-04-29/
LOCATION:Anderson Field House\, 3663 Bullhead Parkway\, Bullhead City\, AZ\, 86442\, United States
CATEGORIES:Event,Music | Concerts
ATTACH;FMTTYPE=image/jpeg:https://murphydeals.com/wp-content/uploads/2023/04/Image-3-1-e1681232946992.jpg
END:VEVENT
BEGIN:VEVENT
DTSTART;TZID=America/Phoenix:20230429T110000
DTEND;TZID=America/Phoenix:20230429T200000
DTSTAMP:20260425T121636
CREATED:20230411T165437Z
LAST-MODIFIED:20230411T165437Z
UID:10007490-1682766000-1682798400@murphydeals.com
SUMMARY:Bullhead City Community Park Events
DESCRIPTION:
URL:https://murphydeals.com/event/bullhead-city-community-park-events/2023-04-29/
LOCATION:Bullhead City Community Park\, 1251 AZ-95\, Bullhead City\, AZ\, 86429
CATEGORIES:Event
ATTACH;FMTTYPE=image/jpeg:https://murphydeals.com/wp-content/uploads/2023/04/Image-2-1-e1681231820520.jpg
END:VEVENT
BEGIN:VEVENT
DTSTART;TZID=America/Phoenix:20230428T110000
DTEND;TZID=America/Phoenix:20230428T220000
DTSTAMP:20260425T121636
CREATED:20230411T171009Z
LAST-MODIFIED:20230411T172500Z
UID:10007493-1682679600-1682719200@murphydeals.com
SUMMARY:Outside/Inside Anderson Fieldhouse Events in Bullhead
DESCRIPTION:
URL:https://murphydeals.com/event/outside-inside-anderson-fieldhouse-events/2023-04-28/
LOCATION:Anderson Field House\, 3663 Bullhead Parkway\, Bullhead City\, AZ\, 86442\, United States
CATEGORIES:Event,Music | Concerts
ATTACH;FMTTYPE=image/jpeg:https://murphydeals.com/wp-content/uploads/2023/04/Image-3-1-e1681232946992.jpg
END:VEVENT
BEGIN:VEVENT
DTSTART;TZID=America/Phoenix:20230428T110000
DTEND;TZID=America/Phoenix:20230428T200000
DTSTAMP:20260425T121636
CREATED:20230411T165437Z
LAST-MODIFIED:20230411T165437Z
UID:10007489-1682679600-1682712000@murphydeals.com
SUMMARY:Bullhead City Community Park Events
DESCRIPTION:
URL:https://murphydeals.com/event/bullhead-city-community-park-events/2023-04-28/
LOCATION:Bullhead City Community Park\, 1251 AZ-95\, Bullhead City\, AZ\, 86429
CATEGORIES:Event
ATTACH;FMTTYPE=image/jpeg:https://murphydeals.com/wp-content/uploads/2023/04/Image-2-1-e1681231820520.jpg
END:VEVENT
BEGIN:VEVENT
DTSTART;TZID=America/Phoenix:20230427T110000
DTEND;TZID=America/Phoenix:20230427T220000
DTSTAMP:20260425T121636
CREATED:20230411T171009Z
LAST-MODIFIED:20230411T172500Z
UID:10007492-1682593200-1682632800@murphydeals.com
SUMMARY:Outside/Inside Anderson Fieldhouse Events in Bullhead
DESCRIPTION:
URL:https://murphydeals.com/event/outside-inside-anderson-fieldhouse-events/2023-04-27/
LOCATION:Anderson Field House\, 3663 Bullhead Parkway\, Bullhead City\, AZ\, 86442\, United States
CATEGORIES:Event,Music | Concerts
ATTACH;FMTTYPE=image/jpeg:https://murphydeals.com/wp-content/uploads/2023/04/Image-3-1-e1681232946992.jpg
END:VEVENT
BEGIN:VEVENT
DTSTART;TZID=America/Phoenix:20230427T110000
DTEND;TZID=America/Phoenix:20230427T200000
DTSTAMP:20260425T121636
CREATED:20230411T165437Z
LAST-MODIFIED:20230411T165437Z
UID:10007488-1682593200-1682625600@murphydeals.com
SUMMARY:Bullhead City Community Park Events
DESCRIPTION:
URL:https://murphydeals.com/event/bullhead-city-community-park-events/2023-04-27/
LOCATION:Bullhead City Community Park\, 1251 AZ-95\, Bullhead City\, AZ\, 86429
CATEGORIES:Event
ATTACH;FMTTYPE=image/jpeg:https://murphydeals.com/wp-content/uploads/2023/04/Image-2-1-e1681231820520.jpg
END:VEVENT
BEGIN:VEVENT
DTSTART;TZID=America/Phoenix:20230426T110000
DTEND;TZID=America/Phoenix:20230426T220000
DTSTAMP:20260425T121636
CREATED:20230411T171009Z
LAST-MODIFIED:20230411T172500Z
UID:10007491-1682506800-1682546400@murphydeals.com
SUMMARY:Outside/Inside Anderson Fieldhouse Events in Bullhead
DESCRIPTION:
URL:https://murphydeals.com/event/outside-inside-anderson-fieldhouse-events/2023-04-26/
LOCATION:Anderson Field House\, 3663 Bullhead Parkway\, Bullhead City\, AZ\, 86442\, United States
CATEGORIES:Event,Music | Concerts
ATTACH;FMTTYPE=image/jpeg:https://murphydeals.com/wp-content/uploads/2023/04/Image-3-1-e1681232946992.jpg
END:VEVENT
BEGIN:VEVENT
DTSTART;TZID=America/Phoenix:20230426T110000
DTEND;TZID=America/Phoenix:20230426T200000
DTSTAMP:20260425T121636
CREATED:20230411T165437Z
LAST-MODIFIED:20230411T165437Z
UID:10007487-1682506800-1682539200@murphydeals.com
SUMMARY:Bullhead City Community Park Events
DESCRIPTION:
URL:https://murphydeals.com/event/bullhead-city-community-park-events/2023-04-26/
LOCATION:Bullhead City Community Park\, 1251 AZ-95\, Bullhead City\, AZ\, 86429
CATEGORIES:Event
ATTACH;FMTTYPE=image/jpeg:https://murphydeals.com/wp-content/uploads/2023/04/Image-2-1-e1681231820520.jpg
END:VEVENT
BEGIN:VEVENT
DTSTART;VALUE=DATE:20230426
DTEND;VALUE=DATE:20230430
DTSTAMP:20260425T121636
CREATED:20230414T160857Z
LAST-MODIFIED:20230414T161149Z
UID:10007510-1682467200-1682812799@murphydeals.com
SUMMARY:Ink mayhem tattoo convention 2023 at Anderson Fieldhouse in Bullhead
DESCRIPTION:Come check us out at the @ the 16th annual ink mayhem tattoo convention. Happening during the Bullhead River Run motorcycle rally. Mayhem the main event the tattoo convention will have 100+ tattoo artists from around the world. Yup. We have an artist coming from Italy and another artists from Spain At the evolution tattoo booth with our friend Steven van Paulk with our own local artists jason vancil and Jeremy alyn. Be \nInk Mayhem Tattoo Convention\nConcert Friday 28th (Counts 77)\nConcert Saturday 29th (Slaughter)\nThe tattoo convention will have daily tattoo competitions. Live tattooing\, custom designs.\nGames\, raffles\, music and more. \nThe rally is\nApril 26th thru 29th 2023\nBullhead city\, Az\n3 locations for events\nBeer garden\nVendors\nRv parking\nTent camping \nMayhem Charity poker run Friday \nMen of Fire MC veterans poker run Saturday. \nFind all your info @\nWww.Mayheminfo.com \n 
URL:https://murphydeals.com/event/ink-mayhem-tattoo-convention-2023-at-anderson-fieldhouse-in-bullhead/
LOCATION:Anderson Field House\, 3663 Bullhead Parkway\, Bullhead City\, AZ\, 86442\, United States
CATEGORIES:Event
ATTACH;FMTTYPE=image/jpeg:https://murphydeals.com/wp-content/uploads/2023/04/ink-mayhem-1-e1681488702370.jpg
END:VEVENT
BEGIN:VEVENT
DTSTART;TZID=America/Phoenix:20230204T090000
DTEND;TZID=America/Phoenix:20230205T160000
DTSTAMP:20260425T121636
CREATED:20221101T194308Z
LAST-MODIFIED:20230206T170123Z
UID:10006555-1675501200-1675612800@murphydeals.com
SUMMARY:Winterfest Street Festival 2023 in Lake Havasu
DESCRIPTION:Every year on the weekend in late February\, the folks flood the streets of downtown Lake Havasu City for the Winterfest Street Festival. Winters in the Southwestern desert are different from those in the northern regions\, yet locals know how to benefit from the warm weather—to hold a large fair on Main Street (McCulloch Blvd). \nVendors from all over the United States operate in 400 booths offering arts\, crafts\, jewelry\, home decor\, and clothing. Delicious street foods and a beer garden are there too. Along with the fair\, Lake Havasu’s Winterfest provides live entertainment by talented musicians\, pony rides\, and lots of fun for the youngsters. \nThe hours of operation are 9 or 10 am through 5 pm. Organizers offer free admission and free parking on Swanson and Mesquite Avenues. In case you need any additional information\, contact the Chamber of Commerce\, the event’s sponsor since 1986. \nLOCATION: Lake Havasu Downtown District\, McCulloch Blvd N\, Lake Havasu City\, AZ
URL:https://murphydeals.com/event/winterfest-street-festival-2023-in-lake-havasu/2023-02-04/
LOCATION:AZ
CATEGORIES:Event,Festival
ATTACH;FMTTYPE=image/jpeg:https://murphydeals.com/wp-content/uploads/2022/11/Winterfest-3-e1675353612951.jpg
END:VEVENT
BEGIN:VEVENT
DTSTART;TZID=America/Phoenix:20221119T090000
DTEND;TZID=America/Phoenix:20221119T170000
DTSTAMP:20260425T121636
CREATED:20221104T203957Z
LAST-MODIFIED:20221108T172227Z
UID:10006566-1668848400-1668877200@murphydeals.com
SUMMARY:Sand-Water-RV Expo in Lake Havasu
DESCRIPTION:DATE: NOVEMBER 18-19\, 2022 (Friday & Saturday) \nLOCATION:  Lake Havasu State Park\, Windsor 3 & 4\n171 London Bridge Rd. & Paseo del Sol between the Hampton Inn and Motel 6. \nSHOW HOURS:  (rain or shine)\nFriday — 11am – 5pm\nSaturday — 9am – 5pm\nClosed Sunday\nParking is free \nCONCESSIONS:  Food\, beverages and beer garden on-site.\nNo off-site alcoholic beverages or glass containers allowed.\nDogs on leash are okay \nADMISSION: FRIDAY & SATURDAY ONLY:\n$8.00 for each adult\, kids 6 & under free. (cash only please) 
URL:https://murphydeals.com/event/sand-water-rv-expo-in-lake-havasu/2022-11-19/
LOCATION:Lake Havasu State Park – Windsor 4\, 699 London Bridge Road\, Lake Havasu City\, AZ\, 86403\, United States
CATEGORIES:Event,Sports | Activities
ATTACH;FMTTYPE=image/jpeg:https://murphydeals.com/wp-content/uploads/2022/11/Expo-1-e1667927865365.jpg
END:VEVENT
BEGIN:VEVENT
DTSTART;TZID=America/Phoenix:20221118T110000
DTEND;TZID=America/Phoenix:20221118T170000
DTSTAMP:20260425T121636
CREATED:20221104T203957Z
LAST-MODIFIED:20221108T172227Z
UID:10006565-1668769200-1668790800@murphydeals.com
SUMMARY:Sand-Water-RV Expo in Lake Havasu
DESCRIPTION:DATE: NOVEMBER 18-19\, 2022 (Friday & Saturday) \nLOCATION:  Lake Havasu State Park\, Windsor 3 & 4\n171 London Bridge Rd. & Paseo del Sol between the Hampton Inn and Motel 6. \nSHOW HOURS:  (rain or shine)\nFriday — 11am – 5pm\nSaturday — 9am – 5pm\nClosed Sunday\nParking is free \nCONCESSIONS:  Food\, beverages and beer garden on-site.\nNo off-site alcoholic beverages or glass containers allowed.\nDogs on leash are okay \nADMISSION: FRIDAY & SATURDAY ONLY:\n$8.00 for each adult\, kids 6 & under free. (cash only please) 
URL:https://murphydeals.com/event/sand-water-rv-expo-in-lake-havasu/2022-11-18/
LOCATION:Lake Havasu State Park – Windsor 4\, 699 London Bridge Road\, Lake Havasu City\, AZ\, 86403\, United States
CATEGORIES:Event,Sports | Activities
ATTACH;FMTTYPE=image/jpeg:https://murphydeals.com/wp-content/uploads/2022/11/Expo-1-e1667927865365.jpg
END:VEVENT
END:VCALENDAR