BEGIN:VCALENDAR
VERSION:2.0
PRODID:-//Murphy Deals - ECPv6.15.20//NONSGML v1.0//EN
CALSCALE:GREGORIAN
METHOD:PUBLISH
X-WR-CALNAME:Murphy Deals
X-ORIGINAL-URL:https://murphydeals.com
X-WR-CALDESC:Events for Murphy Deals
REFRESH-INTERVAL;VALUE=DURATION:PT1H
X-Robots-Tag:noindex
X-PUBLISHED-TTL:PT1H
BEGIN:VTIMEZONE
TZID:America/Phoenix
BEGIN:STANDARD
TZOFFSETFROM:-0700
TZOFFSETTO:-0700
TZNAME:MST
DTSTART:20220101T000000
END:STANDARD
END:VTIMEZONE
BEGIN:VEVENT
DTSTART;TZID=America/Phoenix:20231019T100000
DTEND;TZID=America/Phoenix:20231022T220000
DTSTAMP:20260425T161459
CREATED:20230522T223657Z
LAST-MODIFIED:20230619T193556Z
UID:10007844-1697709600-1698012000@murphydeals.com
SUMMARY:ShineToberfest 2023-Moonshine\, Music & Chili Festival
DESCRIPTION:  \nCelebrating all things “Homemade\, Homegrown & Handcrafted”. \nCelebrating all things “homemade\, homegrown & handcrafted”. Join us for optional onsite camping\, live bands\, arts & crafts vendors\, campfire singalongs\, games\, contests\, nightly campfire parties and so much more….. \nTickets for ShineToberfest 2023 – Moonshine\, Music & Chili Festival can be booked here. \nGET TICKETS \n  \n\n\n\n\n\nTicket Information\nTicket Price\n\n\n\n\nWeekend Admission (with optional Tent Camping)\nUSD 35\n\n\nSaturday ONLY Pass (includes after dark parties)\nUSD 20\n\n\nCar/Truck Weekend Parking\nUSD 25\n\n\nRV/Trailer (up to 45′ including tow vehicle)\nUSD 50\n\n\nRV/Trailer PLUS (over 45′ including tow vehicle)\nUSD 75
URL:https://murphydeals.com/event/shinetoberfest-2023-moonshine-music-chili-festival/
LOCATION:Saddle Sore Ranch on Route 66 (milepost 36.5 on Oatman Hwy)\, Oatman Hwy\, Golden Valley\, AZ\, 86413\, United States
CATEGORIES:Event
ATTACH;FMTTYPE=image/jpeg:https://murphydeals.com/wp-content/uploads/2023/05/shinetoberfest-1-1-e1684794767590.jpg
END:VEVENT
END:VCALENDAR