BEGIN:VCALENDAR
VERSION:2.0
PRODID:-//Murphy Deals - ECPv6.15.20//NONSGML v1.0//EN
CALSCALE:GREGORIAN
METHOD:PUBLISH
X-ORIGINAL-URL:https://murphydeals.com
X-WR-CALDESC:Events for Murphy Deals
REFRESH-INTERVAL;VALUE=DURATION:PT1H
X-Robots-Tag:noindex
X-PUBLISHED-TTL:PT1H
BEGIN:VTIMEZONE
TZID:America/Phoenix
BEGIN:STANDARD
TZOFFSETFROM:-0700
TZOFFSETTO:-0700
TZNAME:MST
DTSTART:20220101T000000
END:STANDARD
END:VTIMEZONE
BEGIN:VEVENT
DTSTART;TZID=America/Phoenix:20230720T190000
DTEND;TZID=America/Phoenix:20230720T210000
DTSTAMP:20260425T202044
CREATED:20230626T194209Z
LAST-MODIFIED:20230626T194209Z
UID:10008300-1689879600-1689886800@murphydeals.com
SUMMARY:ZeeCeeKeely at Black Bridge Brewery
DESCRIPTION:ZeeCeeKeely has been winning the hearts and minds of alternative-reggae fans since their inception in Tucson\, AZ in 2018. Drawing inspiration from Sublime\, Katchafire\, 10 Ft Ganja Plant\, John Brown’s Body\, Peter Tosh\, Bob Marley\, Culture\, The Movement and so many more. ZeeCeeKeely is the new breed in American Reggae bringing a sound all their own and being the trailblazers of American Reggae while always honoring the past influences through Respect of those who’ve paved the way for us to actually be here playing the beautiful sound of reggae. We Blend Roots Rock Reggae Dub in a way that’s all our own and shaping the sound of tomorrow\, while always honoring the past. Today the band consists of founding member\, lead vocalist and guitarist Zachary Keely\, bassist Jay Ceballos\, drummer Robert Parisi\, Percussionist and Vocalist Mike “Mikey Shades” Clark\, Rhythm guitarist Justin Nazari and Saxophone Trey Bryant. Their second studio album “From Dark To Light” releases in 2023 and it’s one of our most complete album to date. Fightahs and Unitahs (2021) debuted at #4 in the Billboard Reggae Chart. \nThe only path is forward for ZeeCeeKeely; pushing the boundaries and the future of reggae we will spread the message of the music now and as long as we’re able to take another breath on this beautiful planet.\nblack
URL:https://murphydeals.com/event/zeeceekeely-at-black-bridge-brewery/
LOCATION:Black Bridge Brewery\, 421 E Beale St #5833\, Kingman\, AZ\, 86401
CATEGORIES:Music | Concerts
ATTACH;FMTTYPE=image/webp:https://murphydeals.com/wp-content/uploads/2023/06/zee.cee_.keely_-e1687808446102.webp
END:VEVENT
END:VCALENDAR