BEGIN:VCALENDAR
VERSION:2.0
PRODID:-//Murphy Deals - ECPv6.15.20//NONSGML v1.0//EN
CALSCALE:GREGORIAN
METHOD:PUBLISH
X-ORIGINAL-URL:https://murphydeals.com
X-WR-CALDESC:Events for Murphy Deals
REFRESH-INTERVAL;VALUE=DURATION:PT1H
X-Robots-Tag:noindex
X-PUBLISHED-TTL:PT1H
BEGIN:VTIMEZONE
TZID:America/Phoenix
BEGIN:STANDARD
TZOFFSETFROM:-0700
TZOFFSETTO:-0700
TZNAME:MST
DTSTART:20210101T000000
END:STANDARD
END:VTIMEZONE
BEGIN:VEVENT
DTSTART;TZID=America/Phoenix:20221203T163000
DTEND;TZID=America/Phoenix:20221203T233000
DTSTAMP:20260425T190230
CREATED:20221101T215830Z
LAST-MODIFIED:20221115T204652Z
UID:10006558-1670085000-1670110200@murphydeals.com
SUMMARY:Boat Parade of Lights in Lake Havasu
DESCRIPTION:Bring your blankets and lawn chairs\, because Lake Havasu State Park will again be offering free admission to the Windsor 4 event area for the Holiday Boat Parade of Lights! The entrance gate from Paseo Del Sol will be open at 4:30 p.m. on Saturday\, December 4. \nRestrooms will be open for public use\, and a limited number of picnic tables will be placed along the shoreline and available on a first-come\, first-served basis. \nPropane fire rings and grills will be permitted for responsible use. \nPlease leave your pets at home; dogs are not allowed on the white sand beach. All children 13 and under need to be accompanied by an adult. \nHoliday lights will adorn boats as they glitter and glisten through the famed Bridgewater Channel under the London Bridge as a new organizer continues to bring the community a 37-year-old tradition on Saturday night only! \n 
URL:https://murphydeals.com/event/boat-parade-of-lights-in-lake-havasu/
LOCATION:Lake Havasu State Park – Windsor 4\, 699 London Bridge Road\, Lake Havasu City\, AZ\, 86403\, United States
CATEGORIES:Event,Festival
ATTACH;FMTTYPE=image/jpeg:https://murphydeals.com/wp-content/uploads/2022/11/Boat-e1668545200746.jpg
END:VEVENT
BEGIN:VEVENT
DTSTART;TZID=America/Phoenix:20221217T133000
DTEND;TZID=America/Phoenix:20221217T153000
DTSTAMP:20260425T190230
CREATED:20221212T185458Z
LAST-MODIFIED:20221212T185458Z
UID:10006815-1671283800-1671291000@murphydeals.com
SUMMARY:Santa Paddle at Rotary Community Park
DESCRIPTION:December 17th\, 2022 @ 1:30pm – 3:30pm\nRotary Community Park\nAdmission Price:  Free\n\n\n\nDress like Mr. and Mrs. Clause and enjoy a paddle from Rotary Park through the Bridgewater Channel to the London Bridge.
URL:https://murphydeals.com/event/santa-paddle-at-rotary-community-park/
LOCATION:Rotary Park of Lake Havasu\, 1400 S Smoketree Avenue\, Lake Havasu City\, Arizona\, 86403
CATEGORIES:Event
ATTACH;FMTTYPE=image/jpeg:https://murphydeals.com/wp-content/uploads/2022/12/santa-e1670871178123.jpg
END:VEVENT
BEGIN:VEVENT
DTSTART;TZID=America/Phoenix:20231124T180000
DTEND;TZID=America/Phoenix:20231124T183000
DTSTAMP:20260425T190230
CREATED:20230414T201059Z
LAST-MODIFIED:20230414T201059Z
UID:10007519-1700848800-1700850600@murphydeals.com
SUMMARY:Swim Race Across Bridgewater Channel in Lake Havasu
DESCRIPTION:Enjoy an evening of entertainment as The Festival of Lights kicks off when the London Bridge Resort  hosts a swim race across the Bridgewater Channel. Free to enter and open to swimmers of all ages — residents and visitors compete for the fastest time and the honor of flipping the switch to turn on the Festival of Lights of the English Village . \nThe swim course will move a little south for the first time this year and take place in the Channel on the side of the London Bridge nearest to the London Bridge Resort! \nRegistration for the race takes place at 5pm on Nov 24 at the docks of the Heat Hotel\, located directly across the channel from London Bridge Resort. It is free to register. The swim will then finish at the docks by the Dixie Bell\, on the London Bridge Resort-side of the Channel. The swim race scheduled from 6-6:30pm with the Festival of Lights to commence immediately after. The first place swimmer will receive $250\, the second place will receive $100 and the third place will receive $50. \nCome out and brave the Bridgewater Channel! \nEvent dates and times are subject to change. Please contact event coordinator to verify information. \nFree
URL:https://murphydeals.com/event/swim-race-across-bridgewater-channel-in-lake-havasu/
CATEGORIES:Event
ATTACH;FMTTYPE=image/jpeg:https://murphydeals.com/wp-content/uploads/2023/04/swimrace-1-e1681502779837.jpg
END:VEVENT
END:VCALENDAR