BEGIN:VCALENDAR
VERSION:2.0
PRODID:-//Murphy Deals - ECPv6.15.20//NONSGML v1.0//EN
CALSCALE:GREGORIAN
METHOD:PUBLISH
X-ORIGINAL-URL:https://murphydeals.com
X-WR-CALDESC:Events for Murphy Deals
REFRESH-INTERVAL;VALUE=DURATION:PT1H
X-Robots-Tag:noindex
X-PUBLISHED-TTL:PT1H
BEGIN:VTIMEZONE
TZID:America/Phoenix
BEGIN:STANDARD
TZOFFSETFROM:-0700
TZOFFSETTO:-0700
TZNAME:MST
DTSTART:20220101T000000
END:STANDARD
END:VTIMEZONE
BEGIN:VEVENT
DTSTART;TZID=America/Phoenix:20230205T190000
DTEND;TZID=America/Phoenix:20230205T210000
DTSTAMP:20260425T075137
CREATED:20221206T180616Z
LAST-MODIFIED:20230116T205345Z
UID:10006794-1675623600-1675630800@murphydeals.com
SUMMARY:We’ve Only Just Begun ~ Carpenters Remembered in Laughlin
DESCRIPTION:We’ve Only Just Begun: Carpenters Remembered is the definitive celebration of the Carpenters’ songbook and an intimate behind-the-scenes portrait of one of the most successful recording acts of all time. Led by Michelle Berting Brett and accompanied by a live\, 7-piece Nashville band directed by Harry Sharpe\, the show re-creates the Carpenters’ original sound. Experience a beautiful words and music account of the pop music phenomenon that defined an era\, and sing along to hits that include “Close to You”\, “Yesterday Once More”\, “Rainy Days & Mondays”\, and many more! \n\n\n\nPrice: $35 – $42\nRecurrence: Recurring daily\nDates: February 1\, 2023 – February 5\, 2023\nTime: 7:00 PM\nPhone: (702) 298-2535\n\nBUY TICKETS
URL:https://murphydeals.com/event/weve-only-just-begun-carpenters-remembered-in-laughlin/2023-02-05/
LOCATION:Don Laughlin’s Riverside Resort Hotel and Casino\, 1650 S Casino Drive\, Laughlin\, Nevada\, 89029
CATEGORIES:Music | Concerts
ATTACH;FMTTYPE=image/jpeg:https://murphydeals.com/wp-content/uploads/2022/12/Carpenters-e1673899749830.jpg
END:VEVENT
BEGIN:VEVENT
DTSTART;TZID=America/Phoenix:20230204T190000
DTEND;TZID=America/Phoenix:20230204T210000
DTSTAMP:20260425T075137
CREATED:20221206T180616Z
LAST-MODIFIED:20230116T205345Z
UID:10006793-1675537200-1675544400@murphydeals.com
SUMMARY:We’ve Only Just Begun ~ Carpenters Remembered in Laughlin
DESCRIPTION:We’ve Only Just Begun: Carpenters Remembered is the definitive celebration of the Carpenters’ songbook and an intimate behind-the-scenes portrait of one of the most successful recording acts of all time. Led by Michelle Berting Brett and accompanied by a live\, 7-piece Nashville band directed by Harry Sharpe\, the show re-creates the Carpenters’ original sound. Experience a beautiful words and music account of the pop music phenomenon that defined an era\, and sing along to hits that include “Close to You”\, “Yesterday Once More”\, “Rainy Days & Mondays”\, and many more! \n\n\n\nPrice: $35 – $42\nRecurrence: Recurring daily\nDates: February 1\, 2023 – February 5\, 2023\nTime: 7:00 PM\nPhone: (702) 298-2535\n\nBUY TICKETS
URL:https://murphydeals.com/event/weve-only-just-begun-carpenters-remembered-in-laughlin/2023-02-04/
LOCATION:Don Laughlin’s Riverside Resort Hotel and Casino\, 1650 S Casino Drive\, Laughlin\, Nevada\, 89029
CATEGORIES:Music | Concerts
ATTACH;FMTTYPE=image/jpeg:https://murphydeals.com/wp-content/uploads/2022/12/Carpenters-e1673899749830.jpg
END:VEVENT
BEGIN:VEVENT
DTSTART;TZID=America/Phoenix:20230203T190000
DTEND;TZID=America/Phoenix:20230203T210000
DTSTAMP:20260425T075137
CREATED:20221206T180616Z
LAST-MODIFIED:20230116T205345Z
UID:10006792-1675450800-1675458000@murphydeals.com
SUMMARY:We’ve Only Just Begun ~ Carpenters Remembered in Laughlin
DESCRIPTION:We’ve Only Just Begun: Carpenters Remembered is the definitive celebration of the Carpenters’ songbook and an intimate behind-the-scenes portrait of one of the most successful recording acts of all time. Led by Michelle Berting Brett and accompanied by a live\, 7-piece Nashville band directed by Harry Sharpe\, the show re-creates the Carpenters’ original sound. Experience a beautiful words and music account of the pop music phenomenon that defined an era\, and sing along to hits that include “Close to You”\, “Yesterday Once More”\, “Rainy Days & Mondays”\, and many more! \n\n\n\nPrice: $35 – $42\nRecurrence: Recurring daily\nDates: February 1\, 2023 – February 5\, 2023\nTime: 7:00 PM\nPhone: (702) 298-2535\n\nBUY TICKETS
URL:https://murphydeals.com/event/weve-only-just-begun-carpenters-remembered-in-laughlin/2023-02-03/
LOCATION:Don Laughlin’s Riverside Resort Hotel and Casino\, 1650 S Casino Drive\, Laughlin\, Nevada\, 89029
CATEGORIES:Music | Concerts
ATTACH;FMTTYPE=image/jpeg:https://murphydeals.com/wp-content/uploads/2022/12/Carpenters-e1673899749830.jpg
END:VEVENT
BEGIN:VEVENT
DTSTART;TZID=America/Phoenix:20230202T190000
DTEND;TZID=America/Phoenix:20230202T210000
DTSTAMP:20260425T075137
CREATED:20221206T180616Z
LAST-MODIFIED:20230116T205345Z
UID:10006791-1675364400-1675371600@murphydeals.com
SUMMARY:We’ve Only Just Begun ~ Carpenters Remembered in Laughlin
DESCRIPTION:We’ve Only Just Begun: Carpenters Remembered is the definitive celebration of the Carpenters’ songbook and an intimate behind-the-scenes portrait of one of the most successful recording acts of all time. Led by Michelle Berting Brett and accompanied by a live\, 7-piece Nashville band directed by Harry Sharpe\, the show re-creates the Carpenters’ original sound. Experience a beautiful words and music account of the pop music phenomenon that defined an era\, and sing along to hits that include “Close to You”\, “Yesterday Once More”\, “Rainy Days & Mondays”\, and many more! \n\n\n\nPrice: $35 – $42\nRecurrence: Recurring daily\nDates: February 1\, 2023 – February 5\, 2023\nTime: 7:00 PM\nPhone: (702) 298-2535\n\nBUY TICKETS
URL:https://murphydeals.com/event/weve-only-just-begun-carpenters-remembered-in-laughlin/2023-02-02/
LOCATION:Don Laughlin’s Riverside Resort Hotel and Casino\, 1650 S Casino Drive\, Laughlin\, Nevada\, 89029
CATEGORIES:Music | Concerts
ATTACH;FMTTYPE=image/jpeg:https://murphydeals.com/wp-content/uploads/2022/12/Carpenters-e1673899749830.jpg
END:VEVENT
BEGIN:VEVENT
DTSTART;TZID=America/Phoenix:20230201T190000
DTEND;TZID=America/Phoenix:20230201T210000
DTSTAMP:20260425T075137
CREATED:20221206T180616Z
LAST-MODIFIED:20230116T205345Z
UID:10006790-1675278000-1675285200@murphydeals.com
SUMMARY:We’ve Only Just Begun ~ Carpenters Remembered in Laughlin
DESCRIPTION:We’ve Only Just Begun: Carpenters Remembered is the definitive celebration of the Carpenters’ songbook and an intimate behind-the-scenes portrait of one of the most successful recording acts of all time. Led by Michelle Berting Brett and accompanied by a live\, 7-piece Nashville band directed by Harry Sharpe\, the show re-creates the Carpenters’ original sound. Experience a beautiful words and music account of the pop music phenomenon that defined an era\, and sing along to hits that include “Close to You”\, “Yesterday Once More”\, “Rainy Days & Mondays”\, and many more! \n\n\n\nPrice: $35 – $42\nRecurrence: Recurring daily\nDates: February 1\, 2023 – February 5\, 2023\nTime: 7:00 PM\nPhone: (702) 298-2535\n\nBUY TICKETS
URL:https://murphydeals.com/event/weve-only-just-begun-carpenters-remembered-in-laughlin/2023-02-01/
LOCATION:Don Laughlin’s Riverside Resort Hotel and Casino\, 1650 S Casino Drive\, Laughlin\, Nevada\, 89029
CATEGORIES:Music | Concerts
ATTACH;FMTTYPE=image/jpeg:https://murphydeals.com/wp-content/uploads/2022/12/Carpenters-e1673899749830.jpg
END:VEVENT
END:VCALENDAR