BEGIN:VCALENDAR
VERSION:2.0
PRODID:-//Murphy Deals - ECPv6.15.20//NONSGML v1.0//EN
CALSCALE:GREGORIAN
METHOD:PUBLISH
X-WR-CALNAME:Murphy Deals
X-ORIGINAL-URL:https://murphydeals.com
X-WR-CALDESC:Events for Murphy Deals
REFRESH-INTERVAL;VALUE=DURATION:PT1H
X-Robots-Tag:noindex
X-PUBLISHED-TTL:PT1H
BEGIN:VTIMEZONE
TZID:America/Phoenix
BEGIN:STANDARD
TZOFFSETFROM:-0700
TZOFFSETTO:-0700
TZNAME:MST
DTSTART:20220101T000000
END:STANDARD
END:VTIMEZONE
BEGIN:VEVENT
DTSTART;TZID=America/Phoenix:20230704T210000
DTEND;TZID=America/Phoenix:20230704T220000
DTSTAMP:20260425T120422
CREATED:20230403T194325Z
LAST-MODIFIED:20230403T194325Z
UID:10007427-1688504400-1688508000@murphydeals.com
SUMMARY:Fireworks Over the Lake in Lake Havasu
DESCRIPTION:NOTE: CONSUMER FIREWORKS THAT EXPLODE OR SHOOT INTO THE AIR ARE ILLEGAL IN ARIZONA AND WILL BE ENFORCED DURING THE 2022 HOLIDAY. FOR MORE INFORMATION ON WHAT IS LEGAL\, PLEASE VISIT THE CITY OF LAKE HAVASU CITY’S WEBSITE.  Click here for a quick video on firework safety! \nGo Lake Havasu\, the Lake Havasu City Fire Department and the firework’s pyrotechnician are requesting that all Federal Aviation Administration (FAA)-certified drone pilots refrain from flying within 500 feet of Spectator Point during the show (see below map). \nAfter the sun goes down\, watch the sky light up over Thompson Bay with fellow boaters\, beach-goers and tailgaters. Get to your viewing location early and celebrate the magic and wonder of this Fourth of July fireworks spectacular\, or spend the day on the water and tie up with your fellow boaters in Thompson Bay to watch the fireworks from the comfort of your boat. See map below. \nPlease note\, officials are reminding pet owners to please keep pets at home and in a secure location. More pets are lost during July 4th than any other day of the year. \nBest Viewing Locations\nRotary Park (plenty of free parking\, straight view of the fireworks\, coolers allowed\, no alcohol or pets permitted) \nThe Nautical Beachfront Resort (on the island\, limited free parking and limited access starting at 8pm\, coolers and outside alcohol not permitted) \nLondon Bridge Beach (on the island\, free parking\, coolers allowed) \nThompson Bay (via boat*\, please anchor both bow and stern due to winds and current\, anchor early as Thompson Bay fills up) \nFireworks will be set off directly across the bay from Lookout Point on Spectator Point (at The Nautical Beachfront Resort). \nSilmulcast\nTune in to KNTR 980AM for a live simulcast with music set specifically to the fireworks display. \nLocation\nFireworks will be set off directly across the bay from Lookout Point on Spectator Point (at The Nautical Beachfront Resort). \n\nClick on map to expand or download a printable PDF. \nPets\nPlease leave pets at home and in a secure location. Fireworks are startling to them and can hurt their sensitive ears. More pets are lost during July 4th than any other day of the year. \n*Significant delays may occur at the boat ramps for retrieval after the fireworks show has ended. ALL WATERCRAFT\, INCLUDING PWCs\, MUST HAVE PROPER LIGHTS AT NIGHT (violation fines are $205). Please use caution when going through the Bridgewater Channel or around the Island at night. \nEvent dates\, times\, and/or details are subject to change. Please contact 928.453.3444 for more information. \nFree
URL:https://murphydeals.com/event/fireworks-over-the-lake-in-lake-havasu/
LOCATION:London Bridge Beach\, 1340 McCulloch Boulevard North\, Lake Havasu City\, AZ\, 86403\, United States
CATEGORIES:Event
ATTACH;FMTTYPE=image/jpeg:https://murphydeals.com/wp-content/uploads/2023/04/fireworks-1-e1680550964177.jpg
END:VEVENT
END:VCALENDAR