BEGIN:VCALENDAR
VERSION:2.0
PRODID:-//Murphy Deals - ECPv6.15.20//NONSGML v1.0//EN
CALSCALE:GREGORIAN
METHOD:PUBLISH
X-ORIGINAL-URL:https://murphydeals.com
X-WR-CALDESC:Events for Murphy Deals
REFRESH-INTERVAL;VALUE=DURATION:PT1H
X-Robots-Tag:noindex
X-PUBLISHED-TTL:PT1H
BEGIN:VTIMEZONE
TZID:America/Phoenix
BEGIN:STANDARD
TZOFFSETFROM:-0700
TZOFFSETTO:-0700
TZNAME:MST
DTSTART:20220101T000000
END:STANDARD
END:VTIMEZONE
BEGIN:VEVENT
DTSTART;TZID=America/Phoenix:20230415T080000
DTEND;TZID=America/Phoenix:20230415T140000
DTSTAMP:20260425T135202
CREATED:20230410T161755Z
LAST-MODIFIED:20230410T161947Z
UID:10007455-1681545600-1681567200@murphydeals.com
SUMMARY:REALTOR® Olympics Annual Charity Golf Tournament at Lake Havasu Golf Club
DESCRIPTION:REALTOR® Olympics Annual Charity Golf Tournament is set to Tee Off! \n100% of the ‘Green’ raised that day goes to local charities. \nSign up FORE a 4 person scramble at LHAR Office. $80 for Premier Members or $100 for non-members\, includes lunch.\nRegistration will start at 6:30am and Tee-off/Shotgun starts at 8:00am. \nWe will have a Side by Side as the prize for Hole in One\, sponsored by Anderson Toyota and a prize for longest drive along with 50/50 and other raffles. \nIf you have questions or would like to become a sponsor\, please reach out to the event chair: Lori Fairchild-Swartz @ 928-733-7440 \n 
URL:https://murphydeals.com/event/realtor-olympics-annual-charity-golf-tournament-at-lake-havasu-golf-club/
LOCATION:Lake Havasu Golf Club\, 2400 Clubhouse Drive\, Lake Havasu City\, AZ\, 86406\, United States
CATEGORIES:Event
ATTACH;FMTTYPE=image/jpeg:https://murphydeals.com/wp-content/uploads/2023/04/golf-e1681143579708.jpg
END:VEVENT
END:VCALENDAR