BEGIN:VCALENDAR
VERSION:2.0
PRODID:-//Murphy Deals - ECPv6.15.20//NONSGML v1.0//EN
CALSCALE:GREGORIAN
METHOD:PUBLISH
X-ORIGINAL-URL:https://murphydeals.com
X-WR-CALDESC:Events for Murphy Deals
REFRESH-INTERVAL;VALUE=DURATION:PT1H
X-Robots-Tag:noindex
X-PUBLISHED-TTL:PT1H
BEGIN:VTIMEZONE
TZID:America/Phoenix
BEGIN:STANDARD
TZOFFSETFROM:-0700
TZOFFSETTO:-0700
TZNAME:MST
DTSTART:20220101T000000
END:STANDARD
END:VTIMEZONE
BEGIN:VEVENT
DTSTART;TZID=America/Phoenix:20230325T190000
DTEND;TZID=America/Phoenix:20230325T203000
DTSTAMP:20260425T202034
CREATED:20230124T222544Z
LAST-MODIFIED:20230220T154002Z
UID:10007132-1679770800-1679776200@murphydeals.com
SUMMARY:Tommy Chong at The Edge Pavilion
DESCRIPTION:A Moderated Conversation with Tommy Chong \nKnown for their stand-up comedy and musical skits\, Cheech & Chong have become pop culture icons with their bold and free-spirited humor. After joining forces in 1968\, the duo began releasing comedy records\, including “Cheech and Chong\,” “Big Bambu” and GRAMMY Award-winning album\, “Los Cochinos\,” among others. Rising to superstardom in the 1970s\, Cheech & Chong lifted spirits with their satirical and light-hearted music roster\, selling more than two million albums to date. Cheech & Chong have toured hundreds of shows and continue to entertain fans from around the world. \nTheir early success culminated in the release of their highly successful first feature-length film\, “Up in Smoke\,” which they wrote\, directed and produced. They went on to star in additional box office hits\, including “Cheech and Chong’s Next Movie\,” “Still Smokin’\,” “Nice Dreams” and more. \n\n\n\nPrice: Starting from $45\nDates: March 25\, 2023\nTime: 7pm\nPhone: (702) 298-2453\n\nBUY TICKETS \n\n 
URL:https://murphydeals.com/event/cheech-chong-at-edgewater-e-center/
LOCATION:Edge Pavilion\, 2020 S Casino Drive\, Laughlin\, 89029\, 89029
CATEGORIES:Comedy | Comedian,Event
ATTACH;FMTTYPE=image/jpeg:https://murphydeals.com/wp-content/uploads/2023/01/tommy-chong-e1676906907510.jpg
END:VEVENT
END:VCALENDAR