BEGIN:VCALENDAR
VERSION:2.0
PRODID:-//Murphy Deals - ECPv6.15.20//NONSGML v1.0//EN
CALSCALE:GREGORIAN
METHOD:PUBLISH
X-ORIGINAL-URL:https://murphydeals.com
X-WR-CALDESC:Events for Murphy Deals
REFRESH-INTERVAL;VALUE=DURATION:PT1H
X-Robots-Tag:noindex
X-PUBLISHED-TTL:PT1H
BEGIN:VTIMEZONE
TZID:America/Phoenix
BEGIN:STANDARD
TZOFFSETFROM:-0700
TZOFFSETTO:-0700
TZNAME:MST
DTSTART:20210101T000000
END:STANDARD
END:VTIMEZONE
BEGIN:VEVENT
DTSTART;TZID=America/Phoenix:20221225T090000
DTEND;TZID=America/Phoenix:20221225T100000
DTSTAMP:20260425T202650
CREATED:20221201T192228Z
LAST-MODIFIED:20221201T192228Z
UID:10006776-1671958800-1671962400@murphydeals.com
SUMMARY:Christmas Day Worship at Mount Olive Lutheran Church
DESCRIPTION:Celebrate the birth of our Lord and Savior this day with glad and grateful hearts.\nAll are welcome to share this loving day with us.
URL:https://murphydeals.com/event/christmas-day-worship-at-mount-olive-lutheran-church/
LOCATION:Mount Olive Lutheran Church\, 2170 Havasupai Blvd.\, Lake Havasu City\, AZ\, 86403
CATEGORIES:Event
ATTACH;FMTTYPE=image/jpeg:https://murphydeals.com/wp-content/uploads/2022/12/Christmas-Day-Worship-9am-e1669922528613.jpg
END:VEVENT
BEGIN:VEVENT
DTSTART;TZID=America/Phoenix:20221224T220000
DTEND;TZID=America/Phoenix:20221224T230000
DTSTAMP:20260425T202650
CREATED:20221201T175454Z
LAST-MODIFIED:20221201T175647Z
UID:10006775-1671919200-1671922800@murphydeals.com
SUMMARY:Christmas Eve Worship at Mount Olive Lutheran Church
DESCRIPTION:Candlelight Christmas Eve Worship in the Sanctuary\n4pm- In person and Live Streaming on Facebook and YouTube \n6 & 10 pm in person Worship service only
URL:https://murphydeals.com/event/christmas-eve-worship-at-mount-olive-lutheran-church/2022-12-24/3/
LOCATION:Mount Olive Lutheran Church\, 2170 Havasupai Blvd.\, Lake Havasu City\, AZ\, 86403
CATEGORIES:Event
ATTACH;FMTTYPE=image/jpeg:https://murphydeals.com/wp-content/uploads/2022/12/Christmas-Eve-Service-e1669917281592.jpg
END:VEVENT
BEGIN:VEVENT
DTSTART;TZID=America/Phoenix:20221224T180000
DTEND;TZID=America/Phoenix:20221224T190000
DTSTAMP:20260425T202650
CREATED:20221201T175454Z
LAST-MODIFIED:20221201T175647Z
UID:10006774-1671904800-1671908400@murphydeals.com
SUMMARY:Christmas Eve Worship at Mount Olive Lutheran Church
DESCRIPTION:Candlelight Christmas Eve Worship in the Sanctuary\n4pm- In person and Live Streaming on Facebook and YouTube \n6 & 10 pm in person Worship service only
URL:https://murphydeals.com/event/christmas-eve-worship-at-mount-olive-lutheran-church/2022-12-24/2/
LOCATION:Mount Olive Lutheran Church\, 2170 Havasupai Blvd.\, Lake Havasu City\, AZ\, 86403
CATEGORIES:Event
ATTACH;FMTTYPE=image/jpeg:https://murphydeals.com/wp-content/uploads/2022/12/Christmas-Eve-Service-e1669917281592.jpg
END:VEVENT
BEGIN:VEVENT
DTSTART;TZID=America/Phoenix:20221224T160000
DTEND;TZID=America/Phoenix:20221224T170000
DTSTAMP:20260425T202650
CREATED:20221201T175454Z
LAST-MODIFIED:20221201T175647Z
UID:10006773-1671897600-1671901200@murphydeals.com
SUMMARY:Christmas Eve Worship at Mount Olive Lutheran Church
DESCRIPTION:Candlelight Christmas Eve Worship in the Sanctuary\n4pm- In person and Live Streaming on Facebook and YouTube \n6 & 10 pm in person Worship service only
URL:https://murphydeals.com/event/christmas-eve-worship-at-mount-olive-lutheran-church/2022-12-24/1/
LOCATION:Mount Olive Lutheran Church\, 2170 Havasupai Blvd.\, Lake Havasu City\, AZ\, 86403
CATEGORIES:Event
ATTACH;FMTTYPE=image/jpeg:https://murphydeals.com/wp-content/uploads/2022/12/Christmas-Eve-Service-e1669917281592.jpg
END:VEVENT
END:VCALENDAR