BEGIN:VCALENDAR
VERSION:2.0
PRODID:-//Murphy Deals - ECPv6.15.20//NONSGML v1.0//EN
CALSCALE:GREGORIAN
METHOD:PUBLISH
X-WR-CALNAME:Murphy Deals
X-ORIGINAL-URL:https://murphydeals.com
X-WR-CALDESC:Events for Murphy Deals
REFRESH-INTERVAL;VALUE=DURATION:PT1H
X-Robots-Tag:noindex
X-PUBLISHED-TTL:PT1H
BEGIN:VTIMEZONE
TZID:America/Phoenix
BEGIN:STANDARD
TZOFFSETFROM:-0700
TZOFFSETTO:-0700
TZNAME:MST
DTSTART:20210101T000000
END:STANDARD
END:VTIMEZONE
BEGIN:VEVENT
DTSTART;TZID=America/Phoenix:20231209T170000
DTEND;TZID=America/Phoenix:20231209T200000
DTSTAMP:20260425T091147
CREATED:20231122T163713Z
LAST-MODIFIED:20231122T163713Z
UID:10008573-1702141200-1702152000@murphydeals.com
SUMMARY:Go Christmas Caroling!
DESCRIPTION:m
URL:https://murphydeals.com/event/go-christmas-caroling/
LOCATION:Mount Olive Lutheran Church\, 2170 Havasupai Blvd.\, Lake Havasu City\, AZ\, 86403
CATEGORIES:Event
ATTACH;FMTTYPE=image/png:https://murphydeals.com/wp-content/uploads/2023/11/Caroling-23-1-e1700671010833.png
END:VEVENT
BEGIN:VEVENT
DTSTART;TZID=America/Phoenix:20231202T063000
DTEND;TZID=America/Phoenix:20231202T130000
DTSTAMP:20260425T091147
CREATED:20221019T193207Z
LAST-MODIFIED:20231128T000706Z
UID:10006492-1701498600-1701522000@murphydeals.com
SUMMARY:Toys for Tots Golf Tournament in Lake Havasu
DESCRIPTION:We are looking for teams\, sponsors\, raffles\, auction items and more.  We are expecting even more kids that will need to be provided a Christmas this year.  Last year we had about 900 kids and we were told it could be as many as 1200+ this year. \nPlayers are all asked to bring a new\, unwrapped toy to be handed out at our distribution \nSpecial sponsors are needed to help with the cost of donuts\, coffee and items for goodie bags.  This is a great way for local businesses to advertise and show their community support.  All donations stay in Lake Havasu to be used for our local children. \nWe work directly with our local schools and organizations. We will be giving gifts to teenagers\, special needs children and our little ones. \nThank you for all of your help\, support and consideration!
URL:https://murphydeals.com/event/46th-annual-toys-for-tots-golf-tournament/
LOCATION:Lake Havasu Golf Club\, 2400 Clubhouse Drive\, Lake Havasu City\, AZ\, 86406\, United States
CATEGORIES:Charity | Benefits
ATTACH;FMTTYPE=image/webp:https://murphydeals.com/wp-content/uploads/2022/10/toys4tots-e1666208035128.webp
END:VEVENT
BEGIN:VEVENT
DTSTART;TZID=America/Phoenix:20221211T140000
DTEND;TZID=America/Phoenix:20221211T160000
DTSTAMP:20260425T091147
CREATED:20220914T223046Z
LAST-MODIFIED:20221115T213010Z
UID:10005394-1670767200-1670774400@murphydeals.com
SUMMARY:The Little Town of Christmas - A Ghost Light Production
DESCRIPTION:RIVER CITIES COMMUNITY THEATER PLAYERS\nThe Little Town of Christmas by Pat Cook\nFeatures yuletide sketches depicting holiday happenings in the delightful place known as Christmastown. A few favorite scenes include Advice From Mrs. Claus\,  3 Kids Window Shopping & Interview With a Reindeer. \n\nDECEMBER 8\, 9. 10 & 11\, 2022\nSUDDENLINK COMMUNITY CENTER\n2380 Suddenlink Way\nBullhead City\, AZ 86442\n\nTHU DEC 8\, 2022 AT 7:00 PM\n\nFRI DEC 9\, 2022 AT 7:00 PM \nSAT DEC 10\, 2022 AT 2:00 PM \nSUN DEC 11\, 2022 AT 2:00 PM \n\nTickets are $15 for adults\n$5 for students ages 5-18\,  \nunder 5 are free.  \nSeasons passes available! \nView Performances
URL:https://murphydeals.com/event/the-little-town-of-christmas/2022-12-11/
LOCATION:Ghost Light Children’s Theater\, 2380 Suddenlink Way\, Bullhead City\, AZ\, 86442
CATEGORIES:Arts | Theatre
ATTACH;FMTTYPE=image/png:https://murphydeals.com/wp-content/uploads/2022/09/Littletown-e1668547502601.png
END:VEVENT
BEGIN:VEVENT
DTSTART;TZID=America/Phoenix:20221210T140000
DTEND;TZID=America/Phoenix:20221210T160000
DTSTAMP:20260425T091147
CREATED:20220914T223046Z
LAST-MODIFIED:20221115T213010Z
UID:10005393-1670680800-1670688000@murphydeals.com
SUMMARY:The Little Town of Christmas - A Ghost Light Production
DESCRIPTION:RIVER CITIES COMMUNITY THEATER PLAYERS\nThe Little Town of Christmas by Pat Cook\nFeatures yuletide sketches depicting holiday happenings in the delightful place known as Christmastown. A few favorite scenes include Advice From Mrs. Claus\,  3 Kids Window Shopping & Interview With a Reindeer. \n\nDECEMBER 8\, 9. 10 & 11\, 2022\nSUDDENLINK COMMUNITY CENTER\n2380 Suddenlink Way\nBullhead City\, AZ 86442\n\nTHU DEC 8\, 2022 AT 7:00 PM\n\nFRI DEC 9\, 2022 AT 7:00 PM \nSAT DEC 10\, 2022 AT 2:00 PM \nSUN DEC 11\, 2022 AT 2:00 PM \n\nTickets are $15 for adults\n$5 for students ages 5-18\,  \nunder 5 are free.  \nSeasons passes available! \nView Performances
URL:https://murphydeals.com/event/the-little-town-of-christmas/2022-12-10/
LOCATION:Ghost Light Children’s Theater\, 2380 Suddenlink Way\, Bullhead City\, AZ\, 86442
CATEGORIES:Arts | Theatre
ATTACH;FMTTYPE=image/png:https://murphydeals.com/wp-content/uploads/2022/09/Littletown-e1668547502601.png
END:VEVENT
BEGIN:VEVENT
DTSTART;TZID=America/Phoenix:20221209T190000
DTEND;TZID=America/Phoenix:20221209T210000
DTSTAMP:20260425T091147
CREATED:20220914T223046Z
LAST-MODIFIED:20221115T213010Z
UID:10005392-1670612400-1670619600@murphydeals.com
SUMMARY:The Little Town of Christmas - A Ghost Light Production
DESCRIPTION:RIVER CITIES COMMUNITY THEATER PLAYERS\nThe Little Town of Christmas by Pat Cook\nFeatures yuletide sketches depicting holiday happenings in the delightful place known as Christmastown. A few favorite scenes include Advice From Mrs. Claus\,  3 Kids Window Shopping & Interview With a Reindeer. \n\nDECEMBER 8\, 9. 10 & 11\, 2022\nSUDDENLINK COMMUNITY CENTER\n2380 Suddenlink Way\nBullhead City\, AZ 86442\n\nTHU DEC 8\, 2022 AT 7:00 PM\n\nFRI DEC 9\, 2022 AT 7:00 PM \nSAT DEC 10\, 2022 AT 2:00 PM \nSUN DEC 11\, 2022 AT 2:00 PM \n\nTickets are $15 for adults\n$5 for students ages 5-18\,  \nunder 5 are free.  \nSeasons passes available! \nView Performances
URL:https://murphydeals.com/event/the-little-town-of-christmas/2022-12-09/
LOCATION:Ghost Light Children’s Theater\, 2380 Suddenlink Way\, Bullhead City\, AZ\, 86442
CATEGORIES:Arts | Theatre
ATTACH;FMTTYPE=image/png:https://murphydeals.com/wp-content/uploads/2022/09/Littletown-e1668547502601.png
END:VEVENT
BEGIN:VEVENT
DTSTART;TZID=America/Phoenix:20221208T190000
DTEND;TZID=America/Phoenix:20221208T210000
DTSTAMP:20260425T091147
CREATED:20220914T223046Z
LAST-MODIFIED:20221115T213010Z
UID:10005391-1670526000-1670533200@murphydeals.com
SUMMARY:The Little Town of Christmas - A Ghost Light Production
DESCRIPTION:RIVER CITIES COMMUNITY THEATER PLAYERS\nThe Little Town of Christmas by Pat Cook\nFeatures yuletide sketches depicting holiday happenings in the delightful place known as Christmastown. A few favorite scenes include Advice From Mrs. Claus\,  3 Kids Window Shopping & Interview With a Reindeer. \n\nDECEMBER 8\, 9. 10 & 11\, 2022\nSUDDENLINK COMMUNITY CENTER\n2380 Suddenlink Way\nBullhead City\, AZ 86442\n\nTHU DEC 8\, 2022 AT 7:00 PM\n\nFRI DEC 9\, 2022 AT 7:00 PM \nSAT DEC 10\, 2022 AT 2:00 PM \nSUN DEC 11\, 2022 AT 2:00 PM \n\nTickets are $15 for adults\n$5 for students ages 5-18\,  \nunder 5 are free.  \nSeasons passes available! \nView Performances
URL:https://murphydeals.com/event/the-little-town-of-christmas/2022-12-08/
LOCATION:Ghost Light Children’s Theater\, 2380 Suddenlink Way\, Bullhead City\, AZ\, 86442
CATEGORIES:Arts | Theatre
ATTACH;FMTTYPE=image/png:https://murphydeals.com/wp-content/uploads/2022/09/Littletown-e1668547502601.png
END:VEVENT
BEGIN:VEVENT
DTSTART;TZID=America/Phoenix:20221204T180000
DTEND;TZID=America/Phoenix:20221204T190000
DTSTAMP:20260425T091147
CREATED:20221108T205720Z
LAST-MODIFIED:20221129T211738Z
UID:10006578-1670176800-1670180400@murphydeals.com
SUMMARY:Christmas Tree Lighting Ceremony at Wheeler Park in Lake Havasu City
DESCRIPTION:Gather round for this special holiday moment when the community tree is lit at Wheeler Park! \nThe annual Christmas Tree Lighting will feature “Twas the Night Before Christmas\,” along with greetings from the Mayor\, and a visit from Santa\, who will be escorted by the Lake Havasu City Fire Department! \nWheeler Park is located in the roundabout on McCulloch Blvd.\, adjacent to the Lake Havasu City library. \nEvent dates and times are subject to change. Please contact Radio Central to verify information 928-855-9336.
URL:https://murphydeals.com/event/wheeler-park-christmas-tree-lighting-ceremony-at-wheeler-park-in-lake-havasu-city/
LOCATION:Wheeler Park\, 1801 McCulloch Blvd N\, Lake Havasu City\, AZ\, 86403\, United States
CATEGORIES:Event
ATTACH;FMTTYPE=image/jpeg:https://murphydeals.com/wp-content/uploads/2022/11/Ctree-e1669756437435.jpg
END:VEVENT
BEGIN:VEVENT
DTSTART;TZID=America/Phoenix:20221203T130000
DTEND;TZID=America/Phoenix:20221203T170000
DTSTAMP:20260425T091147
CREATED:20221118T162744Z
LAST-MODIFIED:20221118T200847Z
UID:10006621-1670072400-1670086800@murphydeals.com
SUMMARY:Sunrise Family Extended Black Friday Holiday Shopping
DESCRIPTION:
URL:https://murphydeals.com/event/holiday-shopping/
LOCATION:AZ
CATEGORIES:Event
ATTACH;FMTTYPE=image/jpeg:https://murphydeals.com/wp-content/uploads/2022/11/SunriseShop-e1668788946547.jpg
END:VEVENT
BEGIN:VEVENT
DTSTART;TZID=America/Phoenix:20221202T180000
DTEND;TZID=America/Phoenix:20221225T223000
DTSTAMP:20260425T091147
CREATED:20221212T180423Z
LAST-MODIFIED:20221213T153422Z
UID:10006813-1670004000-1672007400@murphydeals.com
SUMMARY:Havasu Christmas Tree Lane Map
DESCRIPTION:Christmas Tree Lane map\nDecember 2nd\, 2022 – December 25th\, 2022
URL:https://murphydeals.com/event/havasu-christmas-tree-lane/
LOCATION:AZ
CATEGORIES:Event
ATTACH;FMTTYPE=image/jpeg:https://murphydeals.com/wp-content/uploads/2022/12/xmaslight-e1670867574433.jpg
END:VEVENT
BEGIN:VEVENT
DTSTART;TZID=America/Phoenix:20221126T190000
DTEND;TZID=America/Phoenix:20221126T230000
DTSTAMP:20260425T091147
CREATED:20221003T184107Z
LAST-MODIFIED:20221129T232623Z
UID:10006423-1669489200-1669503600@murphydeals.com
SUMMARY:Kenny & Dolly Christmas Special at Don Laughlin's Riverside Resort
DESCRIPTION:Together again!  Kenny Rogers and Dolly Parton are brought together on stage in this fantastic tribute production you won’t want to miss.  Wendy Engler and Dave Karl star in this tribute to Country Legends. Relive the heyday of country music with the songs that painted our lives\, sung by two of the biggest superstars of their era. Backed by a live band\, Kenny and Dolly sing the hits that made them famous in this stage production that has toured the country for years to sold-out audiences.  This authentic concert recreation will leave you breathless from singing along to all the hits.\n\nKenny & Dolly Christmas Special\n\nWed\, Nov 23 – Sat\, Nov 26\nDon Laughlin’s Riverside Resort Hotel and Casino\, 1650 S Casino Dr\nLaughlin\, NV\n\n\nShow Time 7:00 PM PST\nFloor Seats: $40.00 + $4.36 SVC CHG + Tax\nRiser Seats: $35.00 + $4.36 SVC CHG + Tax\nLocals: Floor Seats $35.00 + $4.36 SVC CHG + Tax\nLocals: Riser Seats $30.00 + $4.36 SVC CHG + Tax\n\nGET TICKETS
URL:https://murphydeals.com/event/kenny-dolly-christmas-special-at-don-laughlins-riverside-resort/2022-11-26/
LOCATION:Don Laughlin’s Riverside Resort Hotel and Casino\, 1650 S Casino Drive\, Laughlin\, Nevada\, 89029
CATEGORIES:Music | Concerts
ATTACH;FMTTYPE=image/png:https://murphydeals.com/wp-content/uploads/2022/10/KennyDolly630x350-500x278-1-e1665502212652.png
END:VEVENT
BEGIN:VEVENT
DTSTART;TZID=America/Phoenix:20221124T190000
DTEND;TZID=America/Phoenix:20221124T230000
DTSTAMP:20260425T091147
CREATED:20221003T184107Z
LAST-MODIFIED:20221129T232623Z
UID:10006422-1669316400-1669330800@murphydeals.com
SUMMARY:Kenny & Dolly Christmas Special at Don Laughlin's Riverside Resort
DESCRIPTION:Together again!  Kenny Rogers and Dolly Parton are brought together on stage in this fantastic tribute production you won’t want to miss.  Wendy Engler and Dave Karl star in this tribute to Country Legends. Relive the heyday of country music with the songs that painted our lives\, sung by two of the biggest superstars of their era. Backed by a live band\, Kenny and Dolly sing the hits that made them famous in this stage production that has toured the country for years to sold-out audiences.  This authentic concert recreation will leave you breathless from singing along to all the hits.\n\nKenny & Dolly Christmas Special\n\nWed\, Nov 23 – Sat\, Nov 26\nDon Laughlin’s Riverside Resort Hotel and Casino\, 1650 S Casino Dr\nLaughlin\, NV\n\n\nShow Time 7:00 PM PST\nFloor Seats: $40.00 + $4.36 SVC CHG + Tax\nRiser Seats: $35.00 + $4.36 SVC CHG + Tax\nLocals: Floor Seats $35.00 + $4.36 SVC CHG + Tax\nLocals: Riser Seats $30.00 + $4.36 SVC CHG + Tax\n\nGET TICKETS
URL:https://murphydeals.com/event/kenny-dolly-christmas-special-at-don-laughlins-riverside-resort/2022-11-24/
LOCATION:Don Laughlin’s Riverside Resort Hotel and Casino\, 1650 S Casino Drive\, Laughlin\, Nevada\, 89029
CATEGORIES:Music | Concerts
ATTACH;FMTTYPE=image/png:https://murphydeals.com/wp-content/uploads/2022/10/KennyDolly630x350-500x278-1-e1665502212652.png
END:VEVENT
BEGIN:VEVENT
DTSTART;TZID=America/Phoenix:20221123T190000
DTEND;TZID=America/Phoenix:20221123T230000
DTSTAMP:20260425T091147
CREATED:20221003T184107Z
LAST-MODIFIED:20221129T232623Z
UID:10006216-1669230000-1669244400@murphydeals.com
SUMMARY:Kenny & Dolly Christmas Special at Don Laughlin's Riverside Resort
DESCRIPTION:Together again!  Kenny Rogers and Dolly Parton are brought together on stage in this fantastic tribute production you won’t want to miss.  Wendy Engler and Dave Karl star in this tribute to Country Legends. Relive the heyday of country music with the songs that painted our lives\, sung by two of the biggest superstars of their era. Backed by a live band\, Kenny and Dolly sing the hits that made them famous in this stage production that has toured the country for years to sold-out audiences.  This authentic concert recreation will leave you breathless from singing along to all the hits.\n\nKenny & Dolly Christmas Special\n\nWed\, Nov 23 – Sat\, Nov 26\nDon Laughlin’s Riverside Resort Hotel and Casino\, 1650 S Casino Dr\nLaughlin\, NV\n\n\nShow Time 7:00 PM PST\nFloor Seats: $40.00 + $4.36 SVC CHG + Tax\nRiser Seats: $35.00 + $4.36 SVC CHG + Tax\nLocals: Floor Seats $35.00 + $4.36 SVC CHG + Tax\nLocals: Riser Seats $30.00 + $4.36 SVC CHG + Tax\n\nGET TICKETS
URL:https://murphydeals.com/event/kenny-dolly-christmas-special-at-don-laughlins-riverside-resort/2022-11-23/
LOCATION:Don Laughlin’s Riverside Resort Hotel and Casino\, 1650 S Casino Drive\, Laughlin\, Nevada\, 89029
CATEGORIES:Music | Concerts
ATTACH;FMTTYPE=image/png:https://murphydeals.com/wp-content/uploads/2022/10/KennyDolly630x350-500x278-1-e1665502212652.png
END:VEVENT
BEGIN:VEVENT
DTSTART;TZID=America/Phoenix:20221119T090000
DTEND;TZID=America/Phoenix:20221119T160000
DTSTAMP:20260425T091147
CREATED:20220808T175812Z
LAST-MODIFIED:20220812T191100Z
UID:10001658-1668848400-1668873600@murphydeals.com
SUMMARY:Havasu Christmas Craft & Gift Show
DESCRIPTION:Havasu Christmas Craft & Gift Show\n\nIt is back due to the demand – at the Springberg McAndrew Park in downtown Lake Havasu City. Bring the family and gear up or start your 2022 Holiday shopping to help support our local vendors. \nProceeds to help support the Mohave County First Responders Foundation and Havasu Silent Witness. \nYes – Santa will be on site again this year. Come join the fun.
URL:https://murphydeals.com/event/havasu-christmas-craft-gift-show/
LOCATION:Springberg McAndrew
CATEGORIES:Event
ATTACH;FMTTYPE=image/webp:https://murphydeals.com/wp-content/uploads/2022/08/ChristmasFair-e1660326786653.webp
END:VEVENT
END:VCALENDAR