BEGIN:VCALENDAR
VERSION:2.0
PRODID:-//Murphy Deals - ECPv6.15.20//NONSGML v1.0//EN
CALSCALE:GREGORIAN
METHOD:PUBLISH
X-WR-CALNAME:Murphy Deals
X-ORIGINAL-URL:https://murphydeals.com
X-WR-CALDESC:Events for Murphy Deals
REFRESH-INTERVAL;VALUE=DURATION:PT1H
X-Robots-Tag:noindex
X-PUBLISHED-TTL:PT1H
BEGIN:VTIMEZONE
TZID:America/Phoenix
BEGIN:STANDARD
TZOFFSETFROM:-0700
TZOFFSETTO:-0700
TZNAME:MST
DTSTART:20220101T000000
END:STANDARD
END:VTIMEZONE
BEGIN:VEVENT
DTSTART;VALUE=DATE:20230504
DTEND;VALUE=DATE:20230507
DTSTAMP:20260425T144924
CREATED:20230410T153304Z
LAST-MODIFIED:20230505T160545Z
UID:10007452-1683158400-1683417599@murphydeals.com
SUMMARY:Cinco De Mayo Weekend at the Tropicana in Laughlin
DESCRIPTION:IT’S A FIESTA WEEKEND\n\n\n\nCelebrate Cinco de Mayo at an event packed weekend at Tropicana Laughlin. Events and live entertainment all weekend long\, big prize drawings\, sombrero contest\, car show\, and more.\n\n\n\nEnjoy traditional sounds from Mariachis Sol De Las Vegas as they stroll through the property enhancing the party. \n\n\nCINCO CELEBRATION CAR SHOW\n\n\n\n9 AM – 5 PM\n\n\n\nFriday\, May 5 and Saturday\, May 6 \nGather with your fellow classic low rider lovers and enjoy two days filled with four wheeled fun in the Tropicana north parking lot. Tunes provided by DJ Pete Nice & MC Loco Leonard. \n\n\n\n\n\n\n\n\nPLAY\, EARN & WIN\n\n\n\nPinata Drawing | May 4\n\n\n\nEarning Period | 4 AM – 5:45 PM \nActivation Period | Noon – 5:45 PM \nDrawings | 5:55 PM \nClink-o de Mayo | May 5 & 6 \nTen Caesars Rewards® members will have the chance to win up to $1\,000 free casino play. Earn a share of $500 Free Casino Play by bringing your own sombrero for our Sombrero Contest. \nEarning Period | 4 AM – 5:45 PM \nActivation Period | Noon – 5:45 PM \nHourly Drawings | 3 PM – 6 PM \nMargarita Glass Play and Earn | May 5 & 6 \nEarn to redeem your commemorative Cinco de Mayo Margarita Glass. \nEarning Period | 4 AM – 5:30 PM \nGift Redemption | Noon – 6 PM | Caesars Rewards \n$5\,000 Cinco de Mayo Hot Seat | May 6 \nCaesars Rewards members actively playing on a slot machine or table game will have the chance to win Free Casino Play every hour. \nEarning Period | 4 AM – 1:45 PM \nDrawing Activation | 8 AM – 1:45 PM | Promotional Kiosk \nDrawing Period | Noon – 2 PM | Casino Floor \nSee Caesars Rewards® for details. \n\n\n\n\n\nLIVE MUSIC & DANCING\n\n\n\nParty all weekend long with live entertainment in Victory Plaza and Tango’s Lounge.\n\n\n\nVictory Plaza Live Entertainment \nFriday 4 PM – 8 PM | Thee Champagne Band \nFriday 9 PM – 1 AM | Smooth Groove \nSaturday 4 PM – 8 PM | Smooth Groove \nSaturday 9 PM – 1 AM | Thee Champagne Band \nTango’s Lounge Live Music \nFriday 4:30 PM – 8:30 PM | Kings of Rythym \nFriday 9 PM – 1 AM | New Beginnings/Frances Rueda \nSaturday 4:30 PM – 8:30 PM | New Beginnings/Frances Rueda \nSaturday 9 PM – 1 AM | Kings of Rythym \n 
URL:https://murphydeals.com/event/cinco-de-mayo-at-the-tropicana-in-laughlin/
LOCATION:Tropicana Laughlin Hotel and Casino\, 2121 S Casino Dr\, Laughlin\, 89029\, United States
CATEGORIES:Event
ATTACH;FMTTYPE=image/jpeg:https://murphydeals.com/wp-content/uploads/2023/04/Cinco-e1683301200920.jpg
END:VEVENT
END:VCALENDAR