BEGIN:VCALENDAR
VERSION:2.0
PRODID:-//Murphy Deals - ECPv6.15.20//NONSGML v1.0//EN
CALSCALE:GREGORIAN
METHOD:PUBLISH
X-WR-CALNAME:Murphy Deals
X-ORIGINAL-URL:https://murphydeals.com
X-WR-CALDESC:Events for Murphy Deals
REFRESH-INTERVAL;VALUE=DURATION:PT1H
X-Robots-Tag:noindex
X-PUBLISHED-TTL:PT1H
BEGIN:VTIMEZONE
TZID:America/Phoenix
BEGIN:STANDARD
TZOFFSETFROM:-0700
TZOFFSETTO:-0700
TZNAME:MST
DTSTART:20210101T000000
END:STANDARD
END:VTIMEZONE
BEGIN:VEVENT
DTSTART;TZID=America/Phoenix:20230611T200000
DTEND;TZID=America/Phoenix:20230611T230000
DTSTAMP:20260425T095511
CREATED:20230424T182944Z
LAST-MODIFIED:20230424T182944Z
UID:10007603-1686513600-1686524400@murphydeals.com
SUMMARY:Mick Adams and The Stones at Don Laughlin's Riverside Resort in Laughlin
DESCRIPTION:Named one of the top ten tribute bands in the World by Backstage Magazine\, Mick Adams and The Stones® have appeared on National Televisions\, ​The World’s Greatest Tribute Bands\, as the world’s greatest tribute to The Rolling Stones twice with Mick Adams appearing on the show two additional times as the World’s Greatest Mick Jagger impersonator. The band has also won the Ultimate Music Challenge held by Viejas Casino and came in number one against forty other tribute bands. Mick Jagger himself sent his personal assistant to a Mick Adams and The Stones® show to record Mick Adams and sent back a big thumbs up! Not only is Mick Adams a dead-ringer for Mick Jagger\, but he also brings Mick Jagger’s intense energy to each and every performance. Mick Adams and The Stones® are endorsed by former Atlantic Records President Jerry Greenberg who said\, “This band must be seen to be believed. It doesn’t get any closer than this!” Mick Adams has every move\, every look and every nuance of Mick Jagger down to perfection! Mick Adams and The Stones® have performed for Brad Pitt\, David Spade\, Jack Black\, Jack McBrayer (Talladega Nights and 30 Rock) Academy Award-winning actress Amy Adams\, Flava Flav\, Will Ferrell\, Mark Cuban\, Ryan Seacrest\, Judd Apatow\, Leslie Bibb\, and more. The band is a complete authentic recreation of The Rolling Stones LIVE in concert! Mick Adams and The Stones® feature all look alike performers\, custom made replica costumes and replica instruments\, full choreography\, and an incredible video show that accompanies each song. As the former lead vocalist for Bo Donaldson and the Heywoods\, Mick toured the United States in support of their GOLD record and NUMBER ONE HIT\, “Billy Don’t Be A Hero.” Mick has toured with the likes of Tommy James\, The Turtles\, The Monkees\, The Association\, The Lovin’ Spoonful\, The Buckinghams\, Herman’s Hermits\, and The Rascals to name a few. Mick has also performed with Spencer Davis\, Rick Springfield\, Johnny Rivers\, Neil Sedaka\, and rock and roll Hall-of-Famer Sam Moore. He has recorded with Mark Kendall of Great White as well as Ronnie James Dio’s guitarist\, Tracy G\, and has also done voice-over work for MADD TV. \n 
URL:https://murphydeals.com/event/mick-adams-and-the-stones-at-don-laughlins-riverside-resort-in-laughlin/2023-06-11/
LOCATION:Don Laughlin’s Riverside Resort Hotel and Casino\, 1650 S Casino Drive\, Laughlin\, Nevada\, 89029
CATEGORIES:Event,Music | Concerts
ATTACH;FMTTYPE=image/jpeg:https://murphydeals.com/wp-content/uploads/2022/12/Mick-Adams-Stones-AJPAC-1130x650-1-e1670955259854.jpg
END:VEVENT
BEGIN:VEVENT
DTSTART;TZID=America/Phoenix:20230610T200000
DTEND;TZID=America/Phoenix:20230610T230000
DTSTAMP:20260425T095511
CREATED:20230424T182944Z
LAST-MODIFIED:20230424T182944Z
UID:10007602-1686427200-1686438000@murphydeals.com
SUMMARY:Mick Adams and The Stones at Don Laughlin's Riverside Resort in Laughlin
DESCRIPTION:Named one of the top ten tribute bands in the World by Backstage Magazine\, Mick Adams and The Stones® have appeared on National Televisions\, ​The World’s Greatest Tribute Bands\, as the world’s greatest tribute to The Rolling Stones twice with Mick Adams appearing on the show two additional times as the World’s Greatest Mick Jagger impersonator. The band has also won the Ultimate Music Challenge held by Viejas Casino and came in number one against forty other tribute bands. Mick Jagger himself sent his personal assistant to a Mick Adams and The Stones® show to record Mick Adams and sent back a big thumbs up! Not only is Mick Adams a dead-ringer for Mick Jagger\, but he also brings Mick Jagger’s intense energy to each and every performance. Mick Adams and The Stones® are endorsed by former Atlantic Records President Jerry Greenberg who said\, “This band must be seen to be believed. It doesn’t get any closer than this!” Mick Adams has every move\, every look and every nuance of Mick Jagger down to perfection! Mick Adams and The Stones® have performed for Brad Pitt\, David Spade\, Jack Black\, Jack McBrayer (Talladega Nights and 30 Rock) Academy Award-winning actress Amy Adams\, Flava Flav\, Will Ferrell\, Mark Cuban\, Ryan Seacrest\, Judd Apatow\, Leslie Bibb\, and more. The band is a complete authentic recreation of The Rolling Stones LIVE in concert! Mick Adams and The Stones® feature all look alike performers\, custom made replica costumes and replica instruments\, full choreography\, and an incredible video show that accompanies each song. As the former lead vocalist for Bo Donaldson and the Heywoods\, Mick toured the United States in support of their GOLD record and NUMBER ONE HIT\, “Billy Don’t Be A Hero.” Mick has toured with the likes of Tommy James\, The Turtles\, The Monkees\, The Association\, The Lovin’ Spoonful\, The Buckinghams\, Herman’s Hermits\, and The Rascals to name a few. Mick has also performed with Spencer Davis\, Rick Springfield\, Johnny Rivers\, Neil Sedaka\, and rock and roll Hall-of-Famer Sam Moore. He has recorded with Mark Kendall of Great White as well as Ronnie James Dio’s guitarist\, Tracy G\, and has also done voice-over work for MADD TV. \n 
URL:https://murphydeals.com/event/mick-adams-and-the-stones-at-don-laughlins-riverside-resort-in-laughlin/2023-06-10/
LOCATION:Don Laughlin’s Riverside Resort Hotel and Casino\, 1650 S Casino Drive\, Laughlin\, Nevada\, 89029
CATEGORIES:Event,Music | Concerts
ATTACH;FMTTYPE=image/jpeg:https://murphydeals.com/wp-content/uploads/2022/12/Mick-Adams-Stones-AJPAC-1130x650-1-e1670955259854.jpg
END:VEVENT
BEGIN:VEVENT
DTSTART;TZID=America/Phoenix:20230609T200000
DTEND;TZID=America/Phoenix:20230609T230000
DTSTAMP:20260425T095511
CREATED:20230424T182944Z
LAST-MODIFIED:20230424T182944Z
UID:10007601-1686340800-1686351600@murphydeals.com
SUMMARY:Mick Adams and The Stones at Don Laughlin's Riverside Resort in Laughlin
DESCRIPTION:Named one of the top ten tribute bands in the World by Backstage Magazine\, Mick Adams and The Stones® have appeared on National Televisions\, ​The World’s Greatest Tribute Bands\, as the world’s greatest tribute to The Rolling Stones twice with Mick Adams appearing on the show two additional times as the World’s Greatest Mick Jagger impersonator. The band has also won the Ultimate Music Challenge held by Viejas Casino and came in number one against forty other tribute bands. Mick Jagger himself sent his personal assistant to a Mick Adams and The Stones® show to record Mick Adams and sent back a big thumbs up! Not only is Mick Adams a dead-ringer for Mick Jagger\, but he also brings Mick Jagger’s intense energy to each and every performance. Mick Adams and The Stones® are endorsed by former Atlantic Records President Jerry Greenberg who said\, “This band must be seen to be believed. It doesn’t get any closer than this!” Mick Adams has every move\, every look and every nuance of Mick Jagger down to perfection! Mick Adams and The Stones® have performed for Brad Pitt\, David Spade\, Jack Black\, Jack McBrayer (Talladega Nights and 30 Rock) Academy Award-winning actress Amy Adams\, Flava Flav\, Will Ferrell\, Mark Cuban\, Ryan Seacrest\, Judd Apatow\, Leslie Bibb\, and more. The band is a complete authentic recreation of The Rolling Stones LIVE in concert! Mick Adams and The Stones® feature all look alike performers\, custom made replica costumes and replica instruments\, full choreography\, and an incredible video show that accompanies each song. As the former lead vocalist for Bo Donaldson and the Heywoods\, Mick toured the United States in support of their GOLD record and NUMBER ONE HIT\, “Billy Don’t Be A Hero.” Mick has toured with the likes of Tommy James\, The Turtles\, The Monkees\, The Association\, The Lovin’ Spoonful\, The Buckinghams\, Herman’s Hermits\, and The Rascals to name a few. Mick has also performed with Spencer Davis\, Rick Springfield\, Johnny Rivers\, Neil Sedaka\, and rock and roll Hall-of-Famer Sam Moore. He has recorded with Mark Kendall of Great White as well as Ronnie James Dio’s guitarist\, Tracy G\, and has also done voice-over work for MADD TV. \n 
URL:https://murphydeals.com/event/mick-adams-and-the-stones-at-don-laughlins-riverside-resort-in-laughlin/2023-06-09/
LOCATION:Don Laughlin’s Riverside Resort Hotel and Casino\, 1650 S Casino Drive\, Laughlin\, Nevada\, 89029
CATEGORIES:Event,Music | Concerts
ATTACH;FMTTYPE=image/jpeg:https://murphydeals.com/wp-content/uploads/2022/12/Mick-Adams-Stones-AJPAC-1130x650-1-e1670955259854.jpg
END:VEVENT
BEGIN:VEVENT
DTSTART;TZID=America/Phoenix:20230608T200000
DTEND;TZID=America/Phoenix:20230608T230000
DTSTAMP:20260425T095511
CREATED:20230424T182944Z
LAST-MODIFIED:20230424T182944Z
UID:10007600-1686254400-1686265200@murphydeals.com
SUMMARY:Mick Adams and The Stones at Don Laughlin's Riverside Resort in Laughlin
DESCRIPTION:Named one of the top ten tribute bands in the World by Backstage Magazine\, Mick Adams and The Stones® have appeared on National Televisions\, ​The World’s Greatest Tribute Bands\, as the world’s greatest tribute to The Rolling Stones twice with Mick Adams appearing on the show two additional times as the World’s Greatest Mick Jagger impersonator. The band has also won the Ultimate Music Challenge held by Viejas Casino and came in number one against forty other tribute bands. Mick Jagger himself sent his personal assistant to a Mick Adams and The Stones® show to record Mick Adams and sent back a big thumbs up! Not only is Mick Adams a dead-ringer for Mick Jagger\, but he also brings Mick Jagger’s intense energy to each and every performance. Mick Adams and The Stones® are endorsed by former Atlantic Records President Jerry Greenberg who said\, “This band must be seen to be believed. It doesn’t get any closer than this!” Mick Adams has every move\, every look and every nuance of Mick Jagger down to perfection! Mick Adams and The Stones® have performed for Brad Pitt\, David Spade\, Jack Black\, Jack McBrayer (Talladega Nights and 30 Rock) Academy Award-winning actress Amy Adams\, Flava Flav\, Will Ferrell\, Mark Cuban\, Ryan Seacrest\, Judd Apatow\, Leslie Bibb\, and more. The band is a complete authentic recreation of The Rolling Stones LIVE in concert! Mick Adams and The Stones® feature all look alike performers\, custom made replica costumes and replica instruments\, full choreography\, and an incredible video show that accompanies each song. As the former lead vocalist for Bo Donaldson and the Heywoods\, Mick toured the United States in support of their GOLD record and NUMBER ONE HIT\, “Billy Don’t Be A Hero.” Mick has toured with the likes of Tommy James\, The Turtles\, The Monkees\, The Association\, The Lovin’ Spoonful\, The Buckinghams\, Herman’s Hermits\, and The Rascals to name a few. Mick has also performed with Spencer Davis\, Rick Springfield\, Johnny Rivers\, Neil Sedaka\, and rock and roll Hall-of-Famer Sam Moore. He has recorded with Mark Kendall of Great White as well as Ronnie James Dio’s guitarist\, Tracy G\, and has also done voice-over work for MADD TV. \n 
URL:https://murphydeals.com/event/mick-adams-and-the-stones-at-don-laughlins-riverside-resort-in-laughlin/2023-06-08/
LOCATION:Don Laughlin’s Riverside Resort Hotel and Casino\, 1650 S Casino Drive\, Laughlin\, Nevada\, 89029
CATEGORIES:Event,Music | Concerts
ATTACH;FMTTYPE=image/jpeg:https://murphydeals.com/wp-content/uploads/2022/12/Mick-Adams-Stones-AJPAC-1130x650-1-e1670955259854.jpg
END:VEVENT
BEGIN:VEVENT
DTSTART;TZID=America/Phoenix:20230416T123000
DTEND;TZID=America/Phoenix:20230416T163000
DTSTAMP:20260425T095511
CREATED:20230410T234406Z
LAST-MODIFIED:20230410T234944Z
UID:10007480-1681648200-1681662600@murphydeals.com
SUMMARY:Jay Gordon and Blues Venom at the Old Town Saloon in Laughlin
DESCRIPTION:Join us for the hottest Blues Rock Party on Casino Drive. Full Bar\, great food and plenty of parking. Jay will be rockin’ the blues and classic rock.
URL:https://murphydeals.com/event/jay-gordon-and-blues-venom-at-the-old-town-saloon-in-laughlin/
LOCATION:Old Town Saloon\, 2850 S Casino Dr\, Laughlin\, NV\, 89029\, United States
CATEGORIES:Event,Music | Concerts
ATTACH;FMTTYPE=image/jpeg:https://murphydeals.com/wp-content/uploads/2023/04/1710185-p-e1681170531434.jpg
END:VEVENT
BEGIN:VEVENT
DTSTART;TZID=America/Phoenix:20230330T190000
DTEND;TZID=America/Phoenix:20230330T220000
DTSTAMP:20260425T095511
CREATED:20230224T145925Z
LAST-MODIFIED:20230224T145925Z
UID:10007256-1680202800-1680213600@murphydeals.com
SUMMARY:Jason "Gordo" Gordon at Jeremy's Juke Joint
DESCRIPTION:Jason “Gordo” Gordon does an absolutely amazing\, MUST SEE\, solo live looping show. Whether you’re familiar with looping or not\, it is guaranteed\, his show is unlike any other. \nGordo has reinvented the art of the “One Man Band”\, and truly brings live looping to a whole new level. He plays\, records (on the fly)\, and loops every instrument completely live (rhythm guitar\, lead guitar\, bass\, keyboards\, drums\, horns\, harmonica\, lead and harmony vocals). \nAgain\, this is a live\, interactive show. Nothing is pre-recorded! He really is a modern day “One Man Band”. His show includes a wide range of genres that cater to any crowd. He does everything from mellow acoustic music to Classic Rock\, to Reggae\, to Motown\, to Bluegrass\, to Blues\, & Originals. Gordo tours and performs all over the United States.
URL:https://murphydeals.com/event/jason-gordo-gordon-at-jeremys-juke-joint/
LOCATION:Jeremy’s Juke Joint\, 91 London Bridge Road\, ##103\, Lake Havasu City\, AZ\, 86403\, United States
CATEGORIES:Event
ATTACH;FMTTYPE=image/jpeg:https://murphydeals.com/wp-content/uploads/2022/04/jj-lhc-scaled-e1686598385877.jpg
END:VEVENT
BEGIN:VEVENT
DTSTART;TZID=America/Phoenix:20230318T170000
DTEND;TZID=America/Phoenix:20230318T210000
DTSTAMP:20260425T095511
CREATED:20230224T144416Z
LAST-MODIFIED:20230224T144416Z
UID:10007254-1679158800-1679173200@murphydeals.com
SUMMARY:Midnight Rebel at Hangar 24
DESCRIPTION:MIDNIGHT REBEL brings Rock and Roll to HANGER 24 for “One Night Only” on Saturday March 18th @ 5pm. Come out and enjoy craft beer and classic rock in a cool aviation theme venue. No cover charge. \n 
URL:https://murphydeals.com/event/midnight-rebel-at-hangar-24/
LOCATION:Hangar 24 Lake Havasu City\, AZ\, 5600 Arizona 95\, Lake Havasu City\, AZ\, 86404\, United States
CATEGORIES:Event
ATTACH;FMTTYPE=image/webp:https://murphydeals.com/wp-content/uploads/2022/11/Rebel-e1686613774148.webp
END:VEVENT
BEGIN:VEVENT
DTSTART;TZID=America/Phoenix:20230222T180000
DTEND;TZID=America/Phoenix:20230222T210000
DTSTAMP:20260425T095511
CREATED:20230213T233331Z
LAST-MODIFIED:20230220T154234Z
UID:10007186-1677088800-1677099600@murphydeals.com
SUMMARY:Blackcat X at the Flying X Saloon
DESCRIPTION:
URL:https://murphydeals.com/event/25342/
LOCATION:Flying X Saloon\, 2030 McCulloch Blvd N\, Lake Havasu City\, AZ\, 86403
ATTACH;FMTTYPE=image/jpeg:https://murphydeals.com/wp-content/uploads/2023/01/flyingxsaloon-e1674513036257.jpg
END:VEVENT
BEGIN:VEVENT
DTSTART;TZID=America/Phoenix:20230120T190000
DTEND;TZID=America/Phoenix:20230120T220000
DTSTAMP:20260425T095511
CREATED:20230110T185218Z
LAST-MODIFIED:20230110T185218Z
UID:10006911-1674241200-1674252000@murphydeals.com
SUMMARY:Lake Havasu Cigars Presents: Gypsy Wagyn!
DESCRIPTION:Gypsy Wagyn will be performing LIVE at Lake Havasu Cigars on: \nFriday\, Jan. 20 (7-10pm) \nWe are SUPER Excited to announce that we will be BACK in ARIZONA in 2023! \nWe’ve missed you ALL so much! ! Join us and let’s PARTY at Lake Havasu Cigars! \n*Gypsy Wagyn is a multi-award winning powerhouse duo that plays a variety of music ranging from memorable Original music and Popular cover songs\, Rock & Roll\, Classic Rock\, Funk\, Folk\, Dance\, Pop\, Reggae\, Country and More! \nSee YOU there!
URL:https://murphydeals.com/event/lake-havasu-cigars-presents-gypsy-wagyn/
LOCATION:Lake Havasu Cigars\, 2038 McCulloch Blvd N\, Lake Havasu City\, AZ\, 86403\, United States
CATEGORIES:Event
ATTACH;FMTTYPE=image/jpeg:https://murphydeals.com/wp-content/uploads/2023/01/gypsy-e1673376685270.jpg
END:VEVENT
BEGIN:VEVENT
DTSTART;TZID=America/Phoenix:20221231T180000
DTEND;TZID=America/Phoenix:20221231T233000
DTSTAMP:20260425T095511
CREATED:20221108T222823Z
LAST-MODIFIED:20221129T222827Z
UID:10006579-1672509600-1672529400@murphydeals.com
SUMMARY:Midnight Rebel "New Years Eve" live at The Dirty Dough in Kingman
DESCRIPTION:Celebrate “New Years Eve” with MIDNIGHT REBEL rocking the outdoor stage for a night of classic rock and one big party in Kingman\, Arizona at the Dirty Dough Pizzeria and Brew Pub. Details to follow! \n 
URL:https://murphydeals.com/event/midnight-rebel-new-years-eve-live-at-the-dirty-dough-in-kingman/
LOCATION:Dirty Dough Co\, 532 E Beale St\, Kingman\, AZ\, 86401\, United States
CATEGORIES:Event,Music | Concerts
ATTACH;FMTTYPE=image/webp:https://murphydeals.com/wp-content/uploads/2022/11/Rebel-e1686613774148.webp
END:VEVENT
END:VCALENDAR