BEGIN:VCALENDAR
VERSION:2.0
PRODID:-//Murphy Deals - ECPv6.15.20//NONSGML v1.0//EN
CALSCALE:GREGORIAN
METHOD:PUBLISH
X-WR-CALNAME:Murphy Deals
X-ORIGINAL-URL:https://murphydeals.com
X-WR-CALDESC:Events for Murphy Deals
REFRESH-INTERVAL;VALUE=DURATION:PT1H
X-Robots-Tag:noindex
X-PUBLISHED-TTL:PT1H
BEGIN:VTIMEZONE
TZID:America/Phoenix
BEGIN:STANDARD
TZOFFSETFROM:-0700
TZOFFSETTO:-0700
TZNAME:MST
DTSTART:20220101T000000
END:STANDARD
END:VTIMEZONE
BEGIN:VEVENT
DTSTART;TZID=America/Phoenix:20230708T190000
DTEND;TZID=America/Phoenix:20230708T213000
DTSTAMP:20260425T144306
CREATED:20230320T155309Z
LAST-MODIFIED:20230320T155309Z
UID:10007307-1688842800-1688851800@murphydeals.com
SUMMARY:Clay Walker at Edge Pavilion
DESCRIPTION:Tickets from $50 \nKnown for hit songs like “What’s It To You” and “She Won’t Be Lonely Long\,” Walker has garnered 11 No. 1 songs\, 31 charted singles\, four RIAA PLATINUM albums\, two Certified GOLD albums and more\, and he has established himself as a country music staple. Discovered in a Beaumont area bar by noted producer and head of Giant Records James Stroud\, Walker was in his early twenties when he started rattling off a string of smash hits including “Live Until I Die\,” “Dreaming With My Eyes Open\,” “This Woman And This Man\,” “Hypnotize The Moon\,” “Rumor Has It\,” “Then What\,” “I Can’t Sleep” and many more. \nBUY TICKETS \n 
URL:https://murphydeals.com/event/clay-walker-at-edge-pavilion/
LOCATION:Edge Pavilion\, 2020 S Casino Drive\, Laughlin\, 89029\, 89029
CATEGORIES:Music | Concerts
ATTACH;FMTTYPE=image/jpeg:https://murphydeals.com/wp-content/uploads/2023/03/claywalker-1-e1679327443219.jpg
END:VEVENT
END:VCALENDAR