BEGIN:VCALENDAR
VERSION:2.0
PRODID:-//Murphy Deals - ECPv6.15.20//NONSGML v1.0//EN
CALSCALE:GREGORIAN
METHOD:PUBLISH
X-ORIGINAL-URL:https://murphydeals.com
X-WR-CALDESC:Events for Murphy Deals
REFRESH-INTERVAL;VALUE=DURATION:PT1H
X-Robots-Tag:noindex
X-PUBLISHED-TTL:PT1H
BEGIN:VTIMEZONE
TZID:America/Phoenix
BEGIN:STANDARD
TZOFFSETFROM:-0700
TZOFFSETTO:-0700
TZNAME:MST
DTSTART:20210101T000000
END:STANDARD
END:VTIMEZONE
BEGIN:VEVENT
DTSTART;TZID=America/Phoenix:20221119T080000
DTEND;TZID=America/Phoenix:20221119T140000
DTSTAMP:20260425T191231
CREATED:20220922T161321Z
LAST-MODIFIED:20220922T161536Z
UID:10006013-1668844800-1668866400@murphydeals.com
SUMMARY:Arizona Concealed Weapons Permit Classes
DESCRIPTION:Sam’s Shooters Emporium offers classes to all levels of shooters from beginners to advanced.  Whether you are simply seeking to sharpen your skills or just need a refresher course\, everyone is welcome!  We also offer private instruction for those not comfortable in a group setting. Sam’s Shooters Emporium has several NRA certified instructors on staff to serve your needs. \nSam’s Shooters Emporium offers the Arizona concealed weapons permit (CWP) class three times each month. This concealed weapons permit class is 8 hours in duration and completed easily in one day.  For those whose schedule does not allow for a one day class\, we offer the concealed weapons permit class in two evening sessions. Class sizes are kept small to ensure you get the individual attention you deserve. \nDuring the class each student will spend about 6 hours in the classroom setting and then an additional two hours on the range.  During the range portion of the class students will fire 7 different handguns.  Sam’s Shooters Emporium provides all firearms needed for the class. Students may bring their own firearm\, however it is not required.  Sam’s Shooters Emporium also offers CWP classes for the state of Utah. \nOur instructor also offers the option of private classes\, at your convenience\, for groups of at least 5 people. Private classes DO NOT cost any extra\, and allow for those who prefer a small class size to truly enjoy and get the most out of their time. \nClass Dates\nOctober 2022:  Saturday 8th\, Sunday 9th\nNovember 2022: Sunday 6th\, Saturday 19th\, Sunday 20th\nDecember 2022: Saturday 10th\, Sunday 11th\, Saturday 17th
URL:https://murphydeals.com/event/arizona-concealed-weapons-permit-classes/2022-11-19/
LOCATION:Sam’s Shooter Emporium\, 2183 McCulloch Blvd\, Lake Havasu City\, AZ\, 86403
CATEGORIES:Event
ATTACH;FMTTYPE=image/jpeg:https://murphydeals.com/wp-content/uploads/2022/09/Permits-e1663863000936.jpg
END:VEVENT
BEGIN:VEVENT
DTSTART;TZID=America/Phoenix:20221120T080000
DTEND;TZID=America/Phoenix:20221120T140000
DTSTAMP:20260425T191231
CREATED:20220922T161321Z
LAST-MODIFIED:20220922T161536Z
UID:10006014-1668931200-1668952800@murphydeals.com
SUMMARY:Arizona Concealed Weapons Permit Classes
DESCRIPTION:Sam’s Shooters Emporium offers classes to all levels of shooters from beginners to advanced.  Whether you are simply seeking to sharpen your skills or just need a refresher course\, everyone is welcome!  We also offer private instruction for those not comfortable in a group setting. Sam’s Shooters Emporium has several NRA certified instructors on staff to serve your needs. \nSam’s Shooters Emporium offers the Arizona concealed weapons permit (CWP) class three times each month. This concealed weapons permit class is 8 hours in duration and completed easily in one day.  For those whose schedule does not allow for a one day class\, we offer the concealed weapons permit class in two evening sessions. Class sizes are kept small to ensure you get the individual attention you deserve. \nDuring the class each student will spend about 6 hours in the classroom setting and then an additional two hours on the range.  During the range portion of the class students will fire 7 different handguns.  Sam’s Shooters Emporium provides all firearms needed for the class. Students may bring their own firearm\, however it is not required.  Sam’s Shooters Emporium also offers CWP classes for the state of Utah. \nOur instructor also offers the option of private classes\, at your convenience\, for groups of at least 5 people. Private classes DO NOT cost any extra\, and allow for those who prefer a small class size to truly enjoy and get the most out of their time. \nClass Dates\nOctober 2022:  Saturday 8th\, Sunday 9th\nNovember 2022: Sunday 6th\, Saturday 19th\, Sunday 20th\nDecember 2022: Saturday 10th\, Sunday 11th\, Saturday 17th
URL:https://murphydeals.com/event/arizona-concealed-weapons-permit-classes/2022-11-20/
LOCATION:Sam’s Shooter Emporium\, 2183 McCulloch Blvd\, Lake Havasu City\, AZ\, 86403
CATEGORIES:Event
ATTACH;FMTTYPE=image/jpeg:https://murphydeals.com/wp-content/uploads/2022/09/Permits-e1663863000936.jpg
END:VEVENT
BEGIN:VEVENT
DTSTART;TZID=America/Phoenix:20221210T080000
DTEND;TZID=America/Phoenix:20221210T140000
DTSTAMP:20260425T191231
CREATED:20220922T161321Z
LAST-MODIFIED:20220922T161536Z
UID:10006015-1670659200-1670680800@murphydeals.com
SUMMARY:Arizona Concealed Weapons Permit Classes
DESCRIPTION:Sam’s Shooters Emporium offers classes to all levels of shooters from beginners to advanced.  Whether you are simply seeking to sharpen your skills or just need a refresher course\, everyone is welcome!  We also offer private instruction for those not comfortable in a group setting. Sam’s Shooters Emporium has several NRA certified instructors on staff to serve your needs. \nSam’s Shooters Emporium offers the Arizona concealed weapons permit (CWP) class three times each month. This concealed weapons permit class is 8 hours in duration and completed easily in one day.  For those whose schedule does not allow for a one day class\, we offer the concealed weapons permit class in two evening sessions. Class sizes are kept small to ensure you get the individual attention you deserve. \nDuring the class each student will spend about 6 hours in the classroom setting and then an additional two hours on the range.  During the range portion of the class students will fire 7 different handguns.  Sam’s Shooters Emporium provides all firearms needed for the class. Students may bring their own firearm\, however it is not required.  Sam’s Shooters Emporium also offers CWP classes for the state of Utah. \nOur instructor also offers the option of private classes\, at your convenience\, for groups of at least 5 people. Private classes DO NOT cost any extra\, and allow for those who prefer a small class size to truly enjoy and get the most out of their time. \nClass Dates\nOctober 2022:  Saturday 8th\, Sunday 9th\nNovember 2022: Sunday 6th\, Saturday 19th\, Sunday 20th\nDecember 2022: Saturday 10th\, Sunday 11th\, Saturday 17th
URL:https://murphydeals.com/event/arizona-concealed-weapons-permit-classes/2022-12-10/
LOCATION:Sam’s Shooter Emporium\, 2183 McCulloch Blvd\, Lake Havasu City\, AZ\, 86403
CATEGORIES:Event
ATTACH;FMTTYPE=image/jpeg:https://murphydeals.com/wp-content/uploads/2022/09/Permits-e1663863000936.jpg
END:VEVENT
BEGIN:VEVENT
DTSTART;TZID=America/Phoenix:20221211T080000
DTEND;TZID=America/Phoenix:20221211T140000
DTSTAMP:20260425T191231
CREATED:20220922T161321Z
LAST-MODIFIED:20220922T161536Z
UID:10006016-1670745600-1670767200@murphydeals.com
SUMMARY:Arizona Concealed Weapons Permit Classes
DESCRIPTION:Sam’s Shooters Emporium offers classes to all levels of shooters from beginners to advanced.  Whether you are simply seeking to sharpen your skills or just need a refresher course\, everyone is welcome!  We also offer private instruction for those not comfortable in a group setting. Sam’s Shooters Emporium has several NRA certified instructors on staff to serve your needs. \nSam’s Shooters Emporium offers the Arizona concealed weapons permit (CWP) class three times each month. This concealed weapons permit class is 8 hours in duration and completed easily in one day.  For those whose schedule does not allow for a one day class\, we offer the concealed weapons permit class in two evening sessions. Class sizes are kept small to ensure you get the individual attention you deserve. \nDuring the class each student will spend about 6 hours in the classroom setting and then an additional two hours on the range.  During the range portion of the class students will fire 7 different handguns.  Sam’s Shooters Emporium provides all firearms needed for the class. Students may bring their own firearm\, however it is not required.  Sam’s Shooters Emporium also offers CWP classes for the state of Utah. \nOur instructor also offers the option of private classes\, at your convenience\, for groups of at least 5 people. Private classes DO NOT cost any extra\, and allow for those who prefer a small class size to truly enjoy and get the most out of their time. \nClass Dates\nOctober 2022:  Saturday 8th\, Sunday 9th\nNovember 2022: Sunday 6th\, Saturday 19th\, Sunday 20th\nDecember 2022: Saturday 10th\, Sunday 11th\, Saturday 17th
URL:https://murphydeals.com/event/arizona-concealed-weapons-permit-classes/2022-12-11/
LOCATION:Sam’s Shooter Emporium\, 2183 McCulloch Blvd\, Lake Havasu City\, AZ\, 86403
CATEGORIES:Event
ATTACH;FMTTYPE=image/jpeg:https://murphydeals.com/wp-content/uploads/2022/09/Permits-e1663863000936.jpg
END:VEVENT
BEGIN:VEVENT
DTSTART;TZID=America/Phoenix:20221217T080000
DTEND;TZID=America/Phoenix:20221217T140000
DTSTAMP:20260425T191231
CREATED:20220922T161321Z
LAST-MODIFIED:20220922T161536Z
UID:10006017-1671264000-1671285600@murphydeals.com
SUMMARY:Arizona Concealed Weapons Permit Classes
DESCRIPTION:Sam’s Shooters Emporium offers classes to all levels of shooters from beginners to advanced.  Whether you are simply seeking to sharpen your skills or just need a refresher course\, everyone is welcome!  We also offer private instruction for those not comfortable in a group setting. Sam’s Shooters Emporium has several NRA certified instructors on staff to serve your needs. \nSam’s Shooters Emporium offers the Arizona concealed weapons permit (CWP) class three times each month. This concealed weapons permit class is 8 hours in duration and completed easily in one day.  For those whose schedule does not allow for a one day class\, we offer the concealed weapons permit class in two evening sessions. Class sizes are kept small to ensure you get the individual attention you deserve. \nDuring the class each student will spend about 6 hours in the classroom setting and then an additional two hours on the range.  During the range portion of the class students will fire 7 different handguns.  Sam’s Shooters Emporium provides all firearms needed for the class. Students may bring their own firearm\, however it is not required.  Sam’s Shooters Emporium also offers CWP classes for the state of Utah. \nOur instructor also offers the option of private classes\, at your convenience\, for groups of at least 5 people. Private classes DO NOT cost any extra\, and allow for those who prefer a small class size to truly enjoy and get the most out of their time. \nClass Dates\nOctober 2022:  Saturday 8th\, Sunday 9th\nNovember 2022: Sunday 6th\, Saturday 19th\, Sunday 20th\nDecember 2022: Saturday 10th\, Sunday 11th\, Saturday 17th
URL:https://murphydeals.com/event/arizona-concealed-weapons-permit-classes/2022-12-17/
LOCATION:Sam’s Shooter Emporium\, 2183 McCulloch Blvd\, Lake Havasu City\, AZ\, 86403
CATEGORIES:Event
ATTACH;FMTTYPE=image/jpeg:https://murphydeals.com/wp-content/uploads/2022/09/Permits-e1663863000936.jpg
END:VEVENT
END:VCALENDAR