BEGIN:VCALENDAR
VERSION:2.0
PRODID:-//Murphy Deals - ECPv6.15.20//NONSGML v1.0//EN
CALSCALE:GREGORIAN
METHOD:PUBLISH
X-ORIGINAL-URL:https://murphydeals.com
X-WR-CALDESC:Events for Murphy Deals
REFRESH-INTERVAL;VALUE=DURATION:PT1H
X-Robots-Tag:noindex
X-PUBLISHED-TTL:PT1H
BEGIN:VTIMEZONE
TZID:America/Phoenix
BEGIN:STANDARD
TZOFFSETFROM:-0700
TZOFFSETTO:-0700
TZNAME:MST
DTSTART:20220101T000000
END:STANDARD
END:VTIMEZONE
BEGIN:VEVENT
DTSTART;TZID=America/Phoenix:20230604T203000
DTEND;TZID=America/Phoenix:20230604T233000
DTSTAMP:20260425T161716
CREATED:20230113T225205Z
LAST-MODIFIED:20230317T213413Z
UID:10007305-1685910600-1685921400@murphydeals.com
SUMMARY:Journey USA at Don Laughlin's Riverside Resort
DESCRIPTION:June 1 – 4\, 2023\n\n\nJourney USA is the closest thing to ‘70s & ‘80s Journey music you’ll ever hear! \n\nShow Time 8:00 PM PST\nFloor Seats: $38.00 + $4.36 SVC CHG + Tax\nRiser Seats: $32.00 + $4.36 SVC CHG + Tax\nLocals: Floor Seats $33.00 + $4.36 SVC CHG + Tax\nLocals: Riser Seats $28.00 + $4.36 SVC CHG + Tax\n\nStar with a singer who was hired to sing for Steve Perry during his solo career in the 90’s. Add the rest of the band—a keyboardist with 20 years of experience mastering Journey’s signature sounds\, a guitarist who played and penned multiple hits for Great White in the ‘80s MTV era\, a drummer who\, alongside the guitarist\, tours with Great White today—and you have Journey USA!  \nWith an emphasis on crowd participation and high-energy performances\, this talent-packed Journey tribute band captures the signature sound of the supergroup with hits like Don’t Stop Believing\, Open Arms\, Separate Ways\, and Any Way You Want It\, every song executed with stunning precision!  \nSince its inception\, Journey USA has delivered dynamic performances to thousands of fans at casinos\, fairs\, festivals\, private functions and corporate events\, its members frequently appearing on AXS TV’s World’s Greatest Tribute Bands.  \nIf you want the best possible Journey experience out there\, look no further—it’s Journey USA!
URL:https://murphydeals.com/event/journey-usa-at-don-laughlins-riverside-resort/2023-06-04/
LOCATION:Don Laughlin’s Riverside Resort Hotel and Casino\, 1650 S Casino Drive\, Laughlin\, Nevada\, 89029
CATEGORIES:Music | Concerts
ATTACH;FMTTYPE=image/webp:https://murphydeals.com/wp-content/uploads/2023/01/Journey-e1673650302170.webp
END:VEVENT
BEGIN:VEVENT
DTSTART;TZID=America/Phoenix:20230603T200000
DTEND;TZID=America/Phoenix:20230603T233000
DTSTAMP:20260425T161716
CREATED:20230113T225205Z
LAST-MODIFIED:20230317T213413Z
UID:10007304-1685822400-1685835000@murphydeals.com
SUMMARY:Journey USA at Don Laughlin's Riverside Resort
DESCRIPTION:June 1 – 4\, 2023\n\n\nJourney USA is the closest thing to ‘70s & ‘80s Journey music you’ll ever hear! \n\nShow Time 8:00 PM PST\nFloor Seats: $38.00 + $4.36 SVC CHG + Tax\nRiser Seats: $32.00 + $4.36 SVC CHG + Tax\nLocals: Floor Seats $33.00 + $4.36 SVC CHG + Tax\nLocals: Riser Seats $28.00 + $4.36 SVC CHG + Tax\n\nStar with a singer who was hired to sing for Steve Perry during his solo career in the 90’s. Add the rest of the band—a keyboardist with 20 years of experience mastering Journey’s signature sounds\, a guitarist who played and penned multiple hits for Great White in the ‘80s MTV era\, a drummer who\, alongside the guitarist\, tours with Great White today—and you have Journey USA!  \nWith an emphasis on crowd participation and high-energy performances\, this talent-packed Journey tribute band captures the signature sound of the supergroup with hits like Don’t Stop Believing\, Open Arms\, Separate Ways\, and Any Way You Want It\, every song executed with stunning precision!  \nSince its inception\, Journey USA has delivered dynamic performances to thousands of fans at casinos\, fairs\, festivals\, private functions and corporate events\, its members frequently appearing on AXS TV’s World’s Greatest Tribute Bands.  \nIf you want the best possible Journey experience out there\, look no further—it’s Journey USA!
URL:https://murphydeals.com/event/journey-usa-at-don-laughlins-riverside-resort/2023-06-03/
LOCATION:Don Laughlin’s Riverside Resort Hotel and Casino\, 1650 S Casino Drive\, Laughlin\, Nevada\, 89029
CATEGORIES:Music | Concerts
ATTACH;FMTTYPE=image/webp:https://murphydeals.com/wp-content/uploads/2023/01/Journey-e1673650302170.webp
END:VEVENT
BEGIN:VEVENT
DTSTART;TZID=America/Phoenix:20230602T200000
DTEND;TZID=America/Phoenix:20230602T233000
DTSTAMP:20260425T161716
CREATED:20230113T225205Z
LAST-MODIFIED:20230317T213413Z
UID:10007303-1685736000-1685748600@murphydeals.com
SUMMARY:Journey USA at Don Laughlin's Riverside Resort
DESCRIPTION:June 1 – 4\, 2023\n\n\nJourney USA is the closest thing to ‘70s & ‘80s Journey music you’ll ever hear! \n\nShow Time 8:00 PM PST\nFloor Seats: $38.00 + $4.36 SVC CHG + Tax\nRiser Seats: $32.00 + $4.36 SVC CHG + Tax\nLocals: Floor Seats $33.00 + $4.36 SVC CHG + Tax\nLocals: Riser Seats $28.00 + $4.36 SVC CHG + Tax\n\nStar with a singer who was hired to sing for Steve Perry during his solo career in the 90’s. Add the rest of the band—a keyboardist with 20 years of experience mastering Journey’s signature sounds\, a guitarist who played and penned multiple hits for Great White in the ‘80s MTV era\, a drummer who\, alongside the guitarist\, tours with Great White today—and you have Journey USA!  \nWith an emphasis on crowd participation and high-energy performances\, this talent-packed Journey tribute band captures the signature sound of the supergroup with hits like Don’t Stop Believing\, Open Arms\, Separate Ways\, and Any Way You Want It\, every song executed with stunning precision!  \nSince its inception\, Journey USA has delivered dynamic performances to thousands of fans at casinos\, fairs\, festivals\, private functions and corporate events\, its members frequently appearing on AXS TV’s World’s Greatest Tribute Bands.  \nIf you want the best possible Journey experience out there\, look no further—it’s Journey USA!
URL:https://murphydeals.com/event/journey-usa-at-don-laughlins-riverside-resort/2023-06-02/
LOCATION:Don Laughlin’s Riverside Resort Hotel and Casino\, 1650 S Casino Drive\, Laughlin\, Nevada\, 89029
CATEGORIES:Music | Concerts
ATTACH;FMTTYPE=image/webp:https://murphydeals.com/wp-content/uploads/2023/01/Journey-e1673650302170.webp
END:VEVENT
BEGIN:VEVENT
DTSTART;TZID=America/Phoenix:20230601T200000
DTEND;TZID=America/Phoenix:20230601T233000
DTSTAMP:20260425T161716
CREATED:20230113T225205Z
LAST-MODIFIED:20230317T213413Z
UID:10007015-1685649600-1685662200@murphydeals.com
SUMMARY:Journey USA at Don Laughlin's Riverside Resort
DESCRIPTION:June 1 – 4\, 2023\n\n\nJourney USA is the closest thing to ‘70s & ‘80s Journey music you’ll ever hear! \n\nShow Time 8:00 PM PST\nFloor Seats: $38.00 + $4.36 SVC CHG + Tax\nRiser Seats: $32.00 + $4.36 SVC CHG + Tax\nLocals: Floor Seats $33.00 + $4.36 SVC CHG + Tax\nLocals: Riser Seats $28.00 + $4.36 SVC CHG + Tax\n\nStar with a singer who was hired to sing for Steve Perry during his solo career in the 90’s. Add the rest of the band—a keyboardist with 20 years of experience mastering Journey’s signature sounds\, a guitarist who played and penned multiple hits for Great White in the ‘80s MTV era\, a drummer who\, alongside the guitarist\, tours with Great White today—and you have Journey USA!  \nWith an emphasis on crowd participation and high-energy performances\, this talent-packed Journey tribute band captures the signature sound of the supergroup with hits like Don’t Stop Believing\, Open Arms\, Separate Ways\, and Any Way You Want It\, every song executed with stunning precision!  \nSince its inception\, Journey USA has delivered dynamic performances to thousands of fans at casinos\, fairs\, festivals\, private functions and corporate events\, its members frequently appearing on AXS TV’s World’s Greatest Tribute Bands.  \nIf you want the best possible Journey experience out there\, look no further—it’s Journey USA!
URL:https://murphydeals.com/event/journey-usa-at-don-laughlins-riverside-resort/2023-06-01/
LOCATION:Don Laughlin’s Riverside Resort Hotel and Casino\, 1650 S Casino Drive\, Laughlin\, Nevada\, 89029
CATEGORIES:Music | Concerts
ATTACH;FMTTYPE=image/webp:https://murphydeals.com/wp-content/uploads/2023/01/Journey-e1673650302170.webp
END:VEVENT
BEGIN:VEVENT
DTSTART;TZID=America/Phoenix:20230520T190000
DTEND;TZID=America/Phoenix:20230520T220000
DTSTAMP:20260425T161716
CREATED:20230113T232130Z
LAST-MODIFIED:20230114T000453Z
UID:10007017-1684609200-1684620000@murphydeals.com
SUMMARY:Aaron Lewis at Harrah's Laughlin
DESCRIPTION:Aaron Lewis playing at the Rio Vista Outdoor Amphitheater at Harrah’s Laughlin\nMay. 20th\, 2023\nTickets starting at $38.07\nGET TICKETS HERE
URL:https://murphydeals.com/event/aaron-lewis-at-harrahs-laughlin/
LOCATION:Harrah’s Laughlin Beach Resort & Casino\, 2900 S Casino Dr\, Laughlin\, NV\, 89029\, United States
CATEGORIES:Music | Concerts
ATTACH;FMTTYPE=image/jpeg:https://murphydeals.com/wp-content/uploads/2023/01/AaronLewis-e1673651846170.jpg
END:VEVENT
BEGIN:VEVENT
DTSTART;TZID=America/Phoenix:20230429T203000
DTEND;TZID=America/Phoenix:20230429T233000
DTSTAMP:20260425T161716
CREATED:20230406T172830Z
LAST-MODIFIED:20230406T174744Z
UID:10007451-1682800200-1682811000@murphydeals.com
SUMMARY:A Tribute to Pantera by Trendkill Revolution
DESCRIPTION:A Tribute to Pantera by Trendkill Revolution!\nDoors at 8:30PM\n21+\n$10 Presale / $15 Door
URL:https://murphydeals.com/event/a-tribute-to-pantera-by-trendkill-revolution-2/
LOCATION:Havasu Concert Lounge\, 1519 Queens Bay\, Lake Havasu City\, AZ\, 86403\, United States
CATEGORIES:Music | Concerts
ATTACH;FMTTYPE=image/jpeg:https://murphydeals.com/wp-content/uploads/2023/04/16eb5390761c70c36e71c84dce991883-e1680802309108.jpg
END:VEVENT
BEGIN:VEVENT
DTSTART;TZID=America/Phoenix:20230326T200000
DTEND;TZID=America/Phoenix:20230326T220000
DTSTAMP:20260425T161716
CREATED:20230113T230652Z
LAST-MODIFIED:20230123T153402Z
UID:10007121-1679860800-1679868000@murphydeals.com
SUMMARY:The Troubadour Experience at Don Laughlin's Riverside Resort Hotel & Casino
DESCRIPTION:In an industry so often dominated by technology and gimmicks\, The Troubadour Experience prefers to do things the original way\, the purest way\, the George Strait way\, live and personal! Carrying on in true George Strait tradition\, The Troubadour Experience welcomes you to a live authentic tribute to country music’s most legendary performer\, spanning a 32-year career and charting more #1 hits than any other artist\, in any genre at 60 and counting.  The Troubadour Experience features authentic performances of many George Strait  #1 hits and several more including  “Amarillo By Morning”\, “All My Exes Live In Texas”\, “Ocean Front Property”\, “The Cowboy Rides Away”\, “Here For A Good Time” and many more! Incorporating all of the real concert production it will look\, sound and feel as if you are truly at a George Strait concert. \nEvery time the band takes the stage\, they bring a true passion and love for traditional country music.  The members of The Troubadour Experience are no stranger to the big stage.  They have opened for and or been a band member of National Acts such as The Gatlin Brothers\, The Judds\, Ray Price\, Darius Rucker\, Sammy Kershaw\, Blake Shelton\, Tracy Lawrence\, Pat Green\, Mark Wills\, Gary Allan\, The Bellamy Brothers\, Tracy Byrd\, Chris Ledoux\, Deana Carter and Blackhawk to name a few. \nFor the millions of George Strait fans and country music lovers alike\, The Troubadour Experience is a must see!  Come on out and re-live your favorite memories and make new ones as you’re entertained in true George Strait and The Ace In The Hole Band fashion. \n\nShow Time 8:00 PM PST\nFloor Seats: $38.00 + $4.36 SVC CHG + Tax\nRiser Seats: $32.00 + $4.36 SVC CHG + Tax\nLocals: Floor Seats $33.00 + $4.36 SVC CHG + Tax\nLocals: Riser Seats $28.00 + $4.36 SVC CHG + Tax\n\nBUY TICKETS
URL:https://murphydeals.com/event/the-troubadour-experience-the-george-strait-way/2023-03-26/
LOCATION:Don Laughlin’s Riverside Resort Hotel and Casino\, 1650 S Casino Drive\, Laughlin\, Nevada\, 89029
CATEGORIES:Music | Concerts
ATTACH;FMTTYPE=image/jpeg:https://murphydeals.com/wp-content/uploads/2023/01/The-Troubadour-Experience1-e1673651159998.jpg
END:VEVENT
BEGIN:VEVENT
DTSTART;TZID=America/Phoenix:20230325T200000
DTEND;TZID=America/Phoenix:20230325T220000
DTSTAMP:20260425T161716
CREATED:20230113T230652Z
LAST-MODIFIED:20230123T153402Z
UID:10007120-1679774400-1679781600@murphydeals.com
SUMMARY:The Troubadour Experience at Don Laughlin's Riverside Resort Hotel & Casino
DESCRIPTION:In an industry so often dominated by technology and gimmicks\, The Troubadour Experience prefers to do things the original way\, the purest way\, the George Strait way\, live and personal! Carrying on in true George Strait tradition\, The Troubadour Experience welcomes you to a live authentic tribute to country music’s most legendary performer\, spanning a 32-year career and charting more #1 hits than any other artist\, in any genre at 60 and counting.  The Troubadour Experience features authentic performances of many George Strait  #1 hits and several more including  “Amarillo By Morning”\, “All My Exes Live In Texas”\, “Ocean Front Property”\, “The Cowboy Rides Away”\, “Here For A Good Time” and many more! Incorporating all of the real concert production it will look\, sound and feel as if you are truly at a George Strait concert. \nEvery time the band takes the stage\, they bring a true passion and love for traditional country music.  The members of The Troubadour Experience are no stranger to the big stage.  They have opened for and or been a band member of National Acts such as The Gatlin Brothers\, The Judds\, Ray Price\, Darius Rucker\, Sammy Kershaw\, Blake Shelton\, Tracy Lawrence\, Pat Green\, Mark Wills\, Gary Allan\, The Bellamy Brothers\, Tracy Byrd\, Chris Ledoux\, Deana Carter and Blackhawk to name a few. \nFor the millions of George Strait fans and country music lovers alike\, The Troubadour Experience is a must see!  Come on out and re-live your favorite memories and make new ones as you’re entertained in true George Strait and The Ace In The Hole Band fashion. \n\nShow Time 8:00 PM PST\nFloor Seats: $38.00 + $4.36 SVC CHG + Tax\nRiser Seats: $32.00 + $4.36 SVC CHG + Tax\nLocals: Floor Seats $33.00 + $4.36 SVC CHG + Tax\nLocals: Riser Seats $28.00 + $4.36 SVC CHG + Tax\n\nBUY TICKETS
URL:https://murphydeals.com/event/the-troubadour-experience-the-george-strait-way/2023-03-25/
LOCATION:Don Laughlin’s Riverside Resort Hotel and Casino\, 1650 S Casino Drive\, Laughlin\, Nevada\, 89029
CATEGORIES:Music | Concerts
ATTACH;FMTTYPE=image/jpeg:https://murphydeals.com/wp-content/uploads/2023/01/The-Troubadour-Experience1-e1673651159998.jpg
END:VEVENT
BEGIN:VEVENT
DTSTART;TZID=America/Phoenix:20230325T190000
DTEND;TZID=America/Phoenix:20230325T213000
DTSTAMP:20260425T161716
CREATED:20230220T193313Z
LAST-MODIFIED:20230323T223150Z
UID:10007209-1679770800-1679779800@murphydeals.com
SUMMARY:Shine On Floyd: A Tribute to Pink Floyd at Lake Havasu Performing Arts Center
DESCRIPTION:March 25th\, 2023 @ 7:00pm – 9:30pm\nWIN TICKETS\nLake Havasu High School Performing Arts Center\nshineonfloyd.com | Admission Price: $40-$45\nGet ready Pink Floyd lovers … a real Pink Floyd experience is coming to the Lake Havasu Performing Arts Center. \nShine On Floyd is one of the best Pink Floyd tribute bands in the U.S. performing songs from the albums Animals\, The Wall\, and Wish You Were Here\, plus the entire album The Dark Side of the Moon – note-for-note along with a laser light show\, video wall\, backup singers\, and special effects. \nTickets must be purchased at ShineOnFloyd.com. Doors open at 6pm.
URL:https://murphydeals.com/event/shine-on-floyd-a-tribute-to-pink-floyd-lake-havasu-high-school-performing-arts-center/
LOCATION:Lake Havasu Performing Arts Center\, 2675 S. Palo Verde Blvd.\, Lake Havasu City\, AZ\, 86403
CATEGORIES:Event,Music | Concerts
ATTACH;FMTTYPE=image/jpeg:https://murphydeals.com/wp-content/uploads/2023/02/ShineOnFloyd-EventListingGraphic-e1679411881884.jpg
END:VEVENT
BEGIN:VEVENT
DTSTART;TZID=America/Phoenix:20230325T100000
DTEND;TZID=America/Phoenix:20230325T170000
DTSTAMP:20260425T161716
CREATED:20230323T173955Z
LAST-MODIFIED:20230323T180742Z
UID:10007343-1679738400-1679763600@murphydeals.com
SUMMARY:Woodystock Blues Festival
DESCRIPTION:GET TICKETS\nDescription: Are you ready for some great music? We’ve got you covered if you find yourself in Arizona on March 25th 2023! The coolest Blues Festival- WOODYSTOCK has a new home at Lake Havasu State Park! \nGates Open: Doors open at 10am \nOur Lineup: JIMMY CARPENTER BAND• JAY GORDON AND THE BLUES VENOM • KENNY BIG DADDY WILLIAMS BAND • STOMP DOWN RIDERS • CATBONE
URL:https://murphydeals.com/event/woodystock-blues-festival/
LOCATION:Lake Havasu State Park\, 699 London Bridge Rd\, Lake Havasu City\, Arizona\, 86403
CATEGORIES:Event,Festival,Music | Concerts
ATTACH;FMTTYPE=image/jpeg:https://murphydeals.com/wp-content/uploads/2023/03/woodystock_new-1-e1679593173164.jpg
END:VEVENT
BEGIN:VEVENT
DTSTART;TZID=America/Phoenix:20230324T200000
DTEND;TZID=America/Phoenix:20230324T220000
DTSTAMP:20260425T161716
CREATED:20230113T230652Z
LAST-MODIFIED:20230123T153402Z
UID:10007119-1679688000-1679695200@murphydeals.com
SUMMARY:The Troubadour Experience at Don Laughlin's Riverside Resort Hotel & Casino
DESCRIPTION:In an industry so often dominated by technology and gimmicks\, The Troubadour Experience prefers to do things the original way\, the purest way\, the George Strait way\, live and personal! Carrying on in true George Strait tradition\, The Troubadour Experience welcomes you to a live authentic tribute to country music’s most legendary performer\, spanning a 32-year career and charting more #1 hits than any other artist\, in any genre at 60 and counting.  The Troubadour Experience features authentic performances of many George Strait  #1 hits and several more including  “Amarillo By Morning”\, “All My Exes Live In Texas”\, “Ocean Front Property”\, “The Cowboy Rides Away”\, “Here For A Good Time” and many more! Incorporating all of the real concert production it will look\, sound and feel as if you are truly at a George Strait concert. \nEvery time the band takes the stage\, they bring a true passion and love for traditional country music.  The members of The Troubadour Experience are no stranger to the big stage.  They have opened for and or been a band member of National Acts such as The Gatlin Brothers\, The Judds\, Ray Price\, Darius Rucker\, Sammy Kershaw\, Blake Shelton\, Tracy Lawrence\, Pat Green\, Mark Wills\, Gary Allan\, The Bellamy Brothers\, Tracy Byrd\, Chris Ledoux\, Deana Carter and Blackhawk to name a few. \nFor the millions of George Strait fans and country music lovers alike\, The Troubadour Experience is a must see!  Come on out and re-live your favorite memories and make new ones as you’re entertained in true George Strait and The Ace In The Hole Band fashion. \n\nShow Time 8:00 PM PST\nFloor Seats: $38.00 + $4.36 SVC CHG + Tax\nRiser Seats: $32.00 + $4.36 SVC CHG + Tax\nLocals: Floor Seats $33.00 + $4.36 SVC CHG + Tax\nLocals: Riser Seats $28.00 + $4.36 SVC CHG + Tax\n\nBUY TICKETS
URL:https://murphydeals.com/event/the-troubadour-experience-the-george-strait-way/2023-03-24/
LOCATION:Don Laughlin’s Riverside Resort Hotel and Casino\, 1650 S Casino Drive\, Laughlin\, Nevada\, 89029
CATEGORIES:Music | Concerts
ATTACH;FMTTYPE=image/jpeg:https://murphydeals.com/wp-content/uploads/2023/01/The-Troubadour-Experience1-e1673651159998.jpg
END:VEVENT
BEGIN:VEVENT
DTSTART;TZID=America/Phoenix:20230323T200000
DTEND;TZID=America/Phoenix:20230323T220000
DTSTAMP:20260425T161716
CREATED:20230113T230652Z
LAST-MODIFIED:20230123T153402Z
UID:10007118-1679601600-1679608800@murphydeals.com
SUMMARY:The Troubadour Experience at Don Laughlin's Riverside Resort Hotel & Casino
DESCRIPTION:In an industry so often dominated by technology and gimmicks\, The Troubadour Experience prefers to do things the original way\, the purest way\, the George Strait way\, live and personal! Carrying on in true George Strait tradition\, The Troubadour Experience welcomes you to a live authentic tribute to country music’s most legendary performer\, spanning a 32-year career and charting more #1 hits than any other artist\, in any genre at 60 and counting.  The Troubadour Experience features authentic performances of many George Strait  #1 hits and several more including  “Amarillo By Morning”\, “All My Exes Live In Texas”\, “Ocean Front Property”\, “The Cowboy Rides Away”\, “Here For A Good Time” and many more! Incorporating all of the real concert production it will look\, sound and feel as if you are truly at a George Strait concert. \nEvery time the band takes the stage\, they bring a true passion and love for traditional country music.  The members of The Troubadour Experience are no stranger to the big stage.  They have opened for and or been a band member of National Acts such as The Gatlin Brothers\, The Judds\, Ray Price\, Darius Rucker\, Sammy Kershaw\, Blake Shelton\, Tracy Lawrence\, Pat Green\, Mark Wills\, Gary Allan\, The Bellamy Brothers\, Tracy Byrd\, Chris Ledoux\, Deana Carter and Blackhawk to name a few. \nFor the millions of George Strait fans and country music lovers alike\, The Troubadour Experience is a must see!  Come on out and re-live your favorite memories and make new ones as you’re entertained in true George Strait and The Ace In The Hole Band fashion. \n\nShow Time 8:00 PM PST\nFloor Seats: $38.00 + $4.36 SVC CHG + Tax\nRiser Seats: $32.00 + $4.36 SVC CHG + Tax\nLocals: Floor Seats $33.00 + $4.36 SVC CHG + Tax\nLocals: Riser Seats $28.00 + $4.36 SVC CHG + Tax\n\nBUY TICKETS
URL:https://murphydeals.com/event/the-troubadour-experience-the-george-strait-way/2023-03-23/
LOCATION:Don Laughlin’s Riverside Resort Hotel and Casino\, 1650 S Casino Drive\, Laughlin\, Nevada\, 89029
CATEGORIES:Music | Concerts
ATTACH;FMTTYPE=image/jpeg:https://murphydeals.com/wp-content/uploads/2023/01/The-Troubadour-Experience1-e1673651159998.jpg
END:VEVENT
BEGIN:VEVENT
DTSTART;TZID=America/Phoenix:20230322T200000
DTEND;TZID=America/Phoenix:20230322T220000
DTSTAMP:20260425T161716
CREATED:20230113T230652Z
LAST-MODIFIED:20230123T153402Z
UID:10007117-1679515200-1679522400@murphydeals.com
SUMMARY:The Troubadour Experience at Don Laughlin's Riverside Resort Hotel & Casino
DESCRIPTION:In an industry so often dominated by technology and gimmicks\, The Troubadour Experience prefers to do things the original way\, the purest way\, the George Strait way\, live and personal! Carrying on in true George Strait tradition\, The Troubadour Experience welcomes you to a live authentic tribute to country music’s most legendary performer\, spanning a 32-year career and charting more #1 hits than any other artist\, in any genre at 60 and counting.  The Troubadour Experience features authentic performances of many George Strait  #1 hits and several more including  “Amarillo By Morning”\, “All My Exes Live In Texas”\, “Ocean Front Property”\, “The Cowboy Rides Away”\, “Here For A Good Time” and many more! Incorporating all of the real concert production it will look\, sound and feel as if you are truly at a George Strait concert. \nEvery time the band takes the stage\, they bring a true passion and love for traditional country music.  The members of The Troubadour Experience are no stranger to the big stage.  They have opened for and or been a band member of National Acts such as The Gatlin Brothers\, The Judds\, Ray Price\, Darius Rucker\, Sammy Kershaw\, Blake Shelton\, Tracy Lawrence\, Pat Green\, Mark Wills\, Gary Allan\, The Bellamy Brothers\, Tracy Byrd\, Chris Ledoux\, Deana Carter and Blackhawk to name a few. \nFor the millions of George Strait fans and country music lovers alike\, The Troubadour Experience is a must see!  Come on out and re-live your favorite memories and make new ones as you’re entertained in true George Strait and The Ace In The Hole Band fashion. \n\nShow Time 8:00 PM PST\nFloor Seats: $38.00 + $4.36 SVC CHG + Tax\nRiser Seats: $32.00 + $4.36 SVC CHG + Tax\nLocals: Floor Seats $33.00 + $4.36 SVC CHG + Tax\nLocals: Riser Seats $28.00 + $4.36 SVC CHG + Tax\n\nBUY TICKETS
URL:https://murphydeals.com/event/the-troubadour-experience-the-george-strait-way/2023-03-22/
LOCATION:Don Laughlin’s Riverside Resort Hotel and Casino\, 1650 S Casino Drive\, Laughlin\, Nevada\, 89029
CATEGORIES:Music | Concerts
ATTACH;FMTTYPE=image/jpeg:https://murphydeals.com/wp-content/uploads/2023/01/The-Troubadour-Experience1-e1673651159998.jpg
END:VEVENT
END:VCALENDAR