BEGIN:VCALENDAR
VERSION:2.0
PRODID:-//Murphy Deals - ECPv6.15.20//NONSGML v1.0//EN
CALSCALE:GREGORIAN
METHOD:PUBLISH
X-ORIGINAL-URL:https://murphydeals.com
X-WR-CALDESC:Events for Murphy Deals
REFRESH-INTERVAL;VALUE=DURATION:PT1H
X-Robots-Tag:noindex
X-PUBLISHED-TTL:PT1H
BEGIN:VTIMEZONE
TZID:America/Phoenix
BEGIN:STANDARD
TZOFFSETFROM:-0700
TZOFFSETTO:-0700
TZNAME:MST
DTSTART:20210101T000000
END:STANDARD
END:VTIMEZONE
BEGIN:VEVENT
DTSTART;TZID=America/Phoenix:20230407T100000
DTEND;TZID=America/Phoenix:20230407T150000
DTSTAMP:20260425T151030
CREATED:20230327T153602Z
LAST-MODIFIED:20230327T153602Z
UID:10007369-1680861600-1680879600@murphydeals.com
SUMMARY:Spring Hop N Shop in Kingman
DESCRIPTION:Join us for our Spring\, Hop N’ Shop in Downtown Kingman \nSaturday\, April 8th \nMCC Beale Street Center \nKACC –  309 E Beale Street Kingman\, Az \nBasket Pickup 10-2 \nHop N’ Shop 10-3 \nThe event will begin at the Kingman Area Chamber of Commerce to pick up your basket & passport \na map will be provided for all participating merchant shops- each one must signoff their location \nOne cookie per business \nPrice:\n\n$25 donation gets you a basket & map
URL:https://murphydeals.com/event/spring-hop-n-shop-in-kingman/
LOCATION:MCC Beale Street Center\, 309 Beale St\, Kingman\, AZ\, 86401\, United States
CATEGORIES:Event
ATTACH;FMTTYPE=image/jpeg:https://murphydeals.com/wp-content/uploads/2023/03/hopnshop-1-e1679930990420.jpg
END:VEVENT
BEGIN:VEVENT
DTSTART;TZID=America/Phoenix:20221216T170000
DTEND;TZID=America/Phoenix:20221216T200000
DTSTAMP:20260425T151030
CREATED:20221128T213442Z
LAST-MODIFIED:20221208T204625Z
UID:10006643-1671210000-1671220800@murphydeals.com
SUMMARY:Sledding with Santa at Rotary Community Park in Lake Havasu
DESCRIPTION:December 16th\, 2022 @ 5:00pm – 8:00pm\nTinnell Memorial Sports Park at Rotary Community Park\n1400 Smoketree Ave S\nLake Havasu City\, AZ 86403\nlhcaz.gov | Admission Price: Free
URL:https://murphydeals.com/event/sledding-with-santa/
LOCATION:Rotary Park of Lake Havasu\, 1400 S Smoketree Avenue\, Lake Havasu City\, Arizona\, 86403
CATEGORIES:Event
ATTACH;FMTTYPE=image/jpeg:https://murphydeals.com/wp-content/uploads/2022/11/SleddingwSanta-e1670530540487.jpg
END:VEVENT
END:VCALENDAR