BEGIN:VCALENDAR
VERSION:2.0
PRODID:-//Murphy Deals - ECPv6.15.20//NONSGML v1.0//EN
CALSCALE:GREGORIAN
METHOD:PUBLISH
X-WR-CALNAME:Murphy Deals
X-ORIGINAL-URL:https://murphydeals.com
X-WR-CALDESC:Events for Murphy Deals
REFRESH-INTERVAL;VALUE=DURATION:PT1H
X-Robots-Tag:noindex
X-PUBLISHED-TTL:PT1H
BEGIN:VTIMEZONE
TZID:America/Phoenix
BEGIN:STANDARD
TZOFFSETFROM:-0700
TZOFFSETTO:-0700
TZNAME:MST
DTSTART:20220101T000000
END:STANDARD
END:VTIMEZONE
BEGIN:VEVENT
DTSTART;TZID=America/Phoenix:20230513T100000
DTEND;TZID=America/Phoenix:20230513T140000
DTSTAMP:20260425T075812
CREATED:20230508T222746Z
LAST-MODIFIED:20230508T222746Z
UID:10007794-1683972000-1683986400@murphydeals.com
SUMMARY:Second Saturday Sip & Shop at Miracle Mile Event Center in Bullhead
DESCRIPTION:The next Second Saturday Sip & Shop will be held every second Saturday from 10am-2pm at the Miracle Mile Event Center located at 2580 Miracle Mile Rd. in Bullhead City\, AZ. \nOver 25 vendors made up of local small businesses\, unique handmade products\, crafters\, artisans\, bakers and more!\nDo you have a small business or home-based business you would like to promote to the community? Now is the time!  \nLoaded & Baked is currently accepting applications for unique vendors in all categories!\n– Crafters & Artisans (Including but not limited to: Jewelry\, candles\, soaps & lotions\, baked goods etc.)\n-Artists/Artwork\n-Distributors/Direct Sales\n-Clothing & Retail\n-Cosmetics\, Skin Care & Health\n-Food Trucks/Carts/Concessions\nApply now at: loadedbakedcookies@gmail.com\nLimited space available! Vendor spaces available for $27 (indoors) $22 (patio – only available October-May)\nFor further info\, please shoot us a DM @loadedbakedcookies on FB/IG or email us at the address above.
URL:https://murphydeals.com/event/second-saturday-sip-shop-at-miracle-mile-event-center-in-bullhead/
LOCATION:Miracle Mile Event Center\, 2580 S Miracle Mile\, Bullhead City\, AZ\, 86442\, United States
CATEGORIES:Event
ATTACH;FMTTYPE=image/jpeg:https://murphydeals.com/wp-content/uploads/2023/03/sipnshop-e1679429281496.jpg
END:VEVENT
END:VCALENDAR