BEGIN:VCALENDAR
VERSION:2.0
PRODID:-//Murphy Deals - ECPv6.15.20//NONSGML v1.0//EN
CALSCALE:GREGORIAN
METHOD:PUBLISH
X-WR-CALNAME:Murphy Deals
X-ORIGINAL-URL:https://murphydeals.com
X-WR-CALDESC:Events for Murphy Deals
REFRESH-INTERVAL;VALUE=DURATION:PT1H
X-Robots-Tag:noindex
X-PUBLISHED-TTL:PT1H
BEGIN:VTIMEZONE
TZID:America/Phoenix
BEGIN:STANDARD
TZOFFSETFROM:-0700
TZOFFSETTO:-0700
TZNAME:MST
DTSTART:20220101T000000
END:STANDARD
END:VTIMEZONE
BEGIN:VEVENT
DTSTART;TZID=America/Phoenix:20230422T100000
DTEND;TZID=America/Phoenix:20230422T150000
DTSTAMP:20260425T122230
CREATED:20230417T184546Z
LAST-MODIFIED:20230417T185346Z
UID:10007528-1682157600-1682175600@murphydeals.com
SUMMARY:The 1st Annual “Cruizing to the Cove” Show at CoVeu Drinkery & Eatery in Bullhead
DESCRIPTION:The 1st Annual “Cruizing to the Cove” Show\nProceeds go to Local Charities \nSATURDAY APRIL 22\, 2023 10:00 AM – 3:00 PM\nRegistration begins at 9:00 am\nLocated at CoVeu Drinkery & Eatery\n2247 Clearwater Drive\, Bullhead City\, AZ 86442\nOPEN TO ALL YEARS\, MAKES & MODELS–STREET RODS\, MUSCLE CARS\, TRUCKS\, 4X4’S\,\nCLASSICS\, SPECIALTY VEHICLES & MOTORCYCLES\n**50/50 CASH DRAWINGS**RAFFLES**T-SHIRT SALES**TROPHIES**\nDJ & FOOD SPECIALS\nFOR COVEU SHOW INFORMATION: Shelley Wilson (714) 325-5864 or\ninfo@rivercruizers.com \n 
URL:https://murphydeals.com/event/the-1st-annual-cruizing-to-the-cove-show-at-coveu-drinkery-eatery-in-bullhead/
LOCATION:CoVeu Drinkery and Eatery\, 2247 Clearwater Drive\, Bullhead City\, AZ\, 86442\, United States
CATEGORIES:Event
ATTACH;FMTTYPE=image/jpeg:https://murphydeals.com/wp-content/uploads/2023/04/carshow-1-e1681757600814.jpg
END:VEVENT
END:VCALENDAR