BEGIN:VCALENDAR
VERSION:2.0
PRODID:-//Murphy Deals - ECPv6.15.20//NONSGML v1.0//EN
CALSCALE:GREGORIAN
METHOD:PUBLISH
X-WR-CALNAME:Murphy Deals
X-ORIGINAL-URL:https://murphydeals.com
X-WR-CALDESC:Events for Murphy Deals
REFRESH-INTERVAL;VALUE=DURATION:PT1H
X-Robots-Tag:noindex
X-PUBLISHED-TTL:PT1H
BEGIN:VTIMEZONE
TZID:America/Phoenix
BEGIN:STANDARD
TZOFFSETFROM:-0700
TZOFFSETTO:-0700
TZNAME:MST
DTSTART:20220101T000000
END:STANDARD
END:VTIMEZONE
BEGIN:VEVENT
DTSTART;TZID=America/Phoenix:20230208T190000
DTEND;TZID=America/Phoenix:20230208T203000
DTSTAMP:20260425T145619
CREATED:20221114T204624Z
LAST-MODIFIED:20221130T223059Z
UID:10006593-1675882800-1675888200@murphydeals.com
SUMMARY:Crystal Gayle at Don Laughlin's in Laughlin
DESCRIPTION:MultiMillion-selling singer Crystal Gayle has performed songs from a wide variety of genres during her award-studded career. But she has never devoted an album to classic country music until now. \nYou Don’t Know Me\, is a collection of music that finds Crystal\, exploring the songs of such country legends like George Jones\, Patsy Cline\, Buck Owens\, and Eddy Arnold. The album might come as a surprise to those who associate Crystal with an uptown sound that made her a star on both country and adult-contemporary pop charts. But she has known this repertoire of hardcore country standards all her life. \nCrystal became the first female country artist to earn a Platinum Record (1978).\, entered the Kentucky Music Hall of Fame (2008)\, received a star on the Hollywood Walk of Fame (2009) and won induction into the cast of the Grand Ole Opry (2017). \nShe has also been fortunate to attain overseas stardom. Her music has found favor with audiences in Japan\, Sweden\, England\, Holland\, Spain\, Korea (where “When I Dream” was a huge hit)\, Australia\, Germany\, Ireland\, Finland\, and The Philippines. She was the first country star to perform in China. \nThere is no doubt about the result of her impressive musical diversity. Crystal has one of the most wide-ranging repertoires of any country star. \nCrystal has sung the works of Billie Holiday\, Elton John\, Kurt Weill\, Carole King\, Ray Charles\, Jim Croce\, Delanie & Bonnie\, Jimmy Buffett\, Bread\, Neil Sedaka\, Ian & Sylvia\, Bill Withers\, Delbert McClinton\, Duke Ellington\, Billy Vera\, and Irving Berlin\, among others. \nShe devoted an entire CD to the music of fellow Hoosier Hoagy Carmichael. She has also recorded albums comprised of Christmas\, gospel and children’s music\, as well as pop standards. \nCrystal collaborated with Tom Waits on the soundtrack of the 1982 film One From the Heart. She recorded theme songs for the TV series Masquerade (1983\, with Paul Williams)\, Dallas (1985\, with Gary Morris) and the soap opera Another World (1987\, with Gary Morris). \nShe has also recorded country classics. Sprinkled throughout her 25-album catalog are interpretations of Johnny Cash’s “I Still Miss Someone\,” Patsy Cline’s “Crazy\,” Don Gibson’s “Oh Lonesome Me\,” Ray Price’s “For the Good Times” and Jimmie Rodgers’ “Miss the Mississippi and You” plus tunes by such country greats as Garth Brooks\, Vince Gill\, Marty Robbins and Rodney Crowell. \n“They don’t write songs like they used to. Nashville is a treasure trove of writers with great songs. And then there are these\, which are classic. I wish young artists and producers would listen to this kind of music. I think people should record more of these.” \n\nShow Time 7:00 PM PST\nFloor Seats: $45.00 + $4.36 SVC CHG + Tax\nRiser Seats: $40.00 + $4.36 SVC CHG + Tax\n\nGET TICKETS \n 
URL:https://murphydeals.com/event/crystal-gayle-at-don-laughlins-riverside-resort-hotel-casino-in-laughlin/2023-02-08/
LOCATION:Don Laughlin’s Riverside Resort Hotel and Casino\, 1650 S Casino Drive\, Laughlin\, Nevada\, 89029
CATEGORIES:Event,Music | Concerts
ATTACH;FMTTYPE=image/jpeg:https://murphydeals.com/wp-content/uploads/2022/11/Crystal-Gale_840x480-e1669846925733.jpg
END:VEVENT
BEGIN:VEVENT
DTSTART;TZID=America/Phoenix:20230209T190000
DTEND;TZID=America/Phoenix:20230209T203000
DTSTAMP:20260425T145619
CREATED:20221114T204624Z
LAST-MODIFIED:20221130T223059Z
UID:10006594-1675969200-1675974600@murphydeals.com
SUMMARY:Crystal Gayle at Don Laughlin's in Laughlin
DESCRIPTION:MultiMillion-selling singer Crystal Gayle has performed songs from a wide variety of genres during her award-studded career. But she has never devoted an album to classic country music until now. \nYou Don’t Know Me\, is a collection of music that finds Crystal\, exploring the songs of such country legends like George Jones\, Patsy Cline\, Buck Owens\, and Eddy Arnold. The album might come as a surprise to those who associate Crystal with an uptown sound that made her a star on both country and adult-contemporary pop charts. But she has known this repertoire of hardcore country standards all her life. \nCrystal became the first female country artist to earn a Platinum Record (1978).\, entered the Kentucky Music Hall of Fame (2008)\, received a star on the Hollywood Walk of Fame (2009) and won induction into the cast of the Grand Ole Opry (2017). \nShe has also been fortunate to attain overseas stardom. Her music has found favor with audiences in Japan\, Sweden\, England\, Holland\, Spain\, Korea (where “When I Dream” was a huge hit)\, Australia\, Germany\, Ireland\, Finland\, and The Philippines. She was the first country star to perform in China. \nThere is no doubt about the result of her impressive musical diversity. Crystal has one of the most wide-ranging repertoires of any country star. \nCrystal has sung the works of Billie Holiday\, Elton John\, Kurt Weill\, Carole King\, Ray Charles\, Jim Croce\, Delanie & Bonnie\, Jimmy Buffett\, Bread\, Neil Sedaka\, Ian & Sylvia\, Bill Withers\, Delbert McClinton\, Duke Ellington\, Billy Vera\, and Irving Berlin\, among others. \nShe devoted an entire CD to the music of fellow Hoosier Hoagy Carmichael. She has also recorded albums comprised of Christmas\, gospel and children’s music\, as well as pop standards. \nCrystal collaborated with Tom Waits on the soundtrack of the 1982 film One From the Heart. She recorded theme songs for the TV series Masquerade (1983\, with Paul Williams)\, Dallas (1985\, with Gary Morris) and the soap opera Another World (1987\, with Gary Morris). \nShe has also recorded country classics. Sprinkled throughout her 25-album catalog are interpretations of Johnny Cash’s “I Still Miss Someone\,” Patsy Cline’s “Crazy\,” Don Gibson’s “Oh Lonesome Me\,” Ray Price’s “For the Good Times” and Jimmie Rodgers’ “Miss the Mississippi and You” plus tunes by such country greats as Garth Brooks\, Vince Gill\, Marty Robbins and Rodney Crowell. \n“They don’t write songs like they used to. Nashville is a treasure trove of writers with great songs. And then there are these\, which are classic. I wish young artists and producers would listen to this kind of music. I think people should record more of these.” \n\nShow Time 7:00 PM PST\nFloor Seats: $45.00 + $4.36 SVC CHG + Tax\nRiser Seats: $40.00 + $4.36 SVC CHG + Tax\n\nGET TICKETS \n 
URL:https://murphydeals.com/event/crystal-gayle-at-don-laughlins-riverside-resort-hotel-casino-in-laughlin/2023-02-09/
LOCATION:Don Laughlin’s Riverside Resort Hotel and Casino\, 1650 S Casino Drive\, Laughlin\, Nevada\, 89029
CATEGORIES:Event,Music | Concerts
ATTACH;FMTTYPE=image/jpeg:https://murphydeals.com/wp-content/uploads/2022/11/Crystal-Gale_840x480-e1669846925733.jpg
END:VEVENT
BEGIN:VEVENT
DTSTART;TZID=America/Phoenix:20230210T190000
DTEND;TZID=America/Phoenix:20230210T203000
DTSTAMP:20260425T145619
CREATED:20221114T204624Z
LAST-MODIFIED:20221130T223059Z
UID:10006595-1676055600-1676061000@murphydeals.com
SUMMARY:Crystal Gayle at Don Laughlin's in Laughlin
DESCRIPTION:MultiMillion-selling singer Crystal Gayle has performed songs from a wide variety of genres during her award-studded career. But she has never devoted an album to classic country music until now. \nYou Don’t Know Me\, is a collection of music that finds Crystal\, exploring the songs of such country legends like George Jones\, Patsy Cline\, Buck Owens\, and Eddy Arnold. The album might come as a surprise to those who associate Crystal with an uptown sound that made her a star on both country and adult-contemporary pop charts. But she has known this repertoire of hardcore country standards all her life. \nCrystal became the first female country artist to earn a Platinum Record (1978).\, entered the Kentucky Music Hall of Fame (2008)\, received a star on the Hollywood Walk of Fame (2009) and won induction into the cast of the Grand Ole Opry (2017). \nShe has also been fortunate to attain overseas stardom. Her music has found favor with audiences in Japan\, Sweden\, England\, Holland\, Spain\, Korea (where “When I Dream” was a huge hit)\, Australia\, Germany\, Ireland\, Finland\, and The Philippines. She was the first country star to perform in China. \nThere is no doubt about the result of her impressive musical diversity. Crystal has one of the most wide-ranging repertoires of any country star. \nCrystal has sung the works of Billie Holiday\, Elton John\, Kurt Weill\, Carole King\, Ray Charles\, Jim Croce\, Delanie & Bonnie\, Jimmy Buffett\, Bread\, Neil Sedaka\, Ian & Sylvia\, Bill Withers\, Delbert McClinton\, Duke Ellington\, Billy Vera\, and Irving Berlin\, among others. \nShe devoted an entire CD to the music of fellow Hoosier Hoagy Carmichael. She has also recorded albums comprised of Christmas\, gospel and children’s music\, as well as pop standards. \nCrystal collaborated with Tom Waits on the soundtrack of the 1982 film One From the Heart. She recorded theme songs for the TV series Masquerade (1983\, with Paul Williams)\, Dallas (1985\, with Gary Morris) and the soap opera Another World (1987\, with Gary Morris). \nShe has also recorded country classics. Sprinkled throughout her 25-album catalog are interpretations of Johnny Cash’s “I Still Miss Someone\,” Patsy Cline’s “Crazy\,” Don Gibson’s “Oh Lonesome Me\,” Ray Price’s “For the Good Times” and Jimmie Rodgers’ “Miss the Mississippi and You” plus tunes by such country greats as Garth Brooks\, Vince Gill\, Marty Robbins and Rodney Crowell. \n“They don’t write songs like they used to. Nashville is a treasure trove of writers with great songs. And then there are these\, which are classic. I wish young artists and producers would listen to this kind of music. I think people should record more of these.” \n\nShow Time 7:00 PM PST\nFloor Seats: $45.00 + $4.36 SVC CHG + Tax\nRiser Seats: $40.00 + $4.36 SVC CHG + Tax\n\nGET TICKETS \n 
URL:https://murphydeals.com/event/crystal-gayle-at-don-laughlins-riverside-resort-hotel-casino-in-laughlin/2023-02-10/
LOCATION:Don Laughlin’s Riverside Resort Hotel and Casino\, 1650 S Casino Drive\, Laughlin\, Nevada\, 89029
CATEGORIES:Event,Music | Concerts
ATTACH;FMTTYPE=image/jpeg:https://murphydeals.com/wp-content/uploads/2022/11/Crystal-Gale_840x480-e1669846925733.jpg
END:VEVENT
BEGIN:VEVENT
DTSTART;TZID=America/Phoenix:20230211T190000
DTEND;TZID=America/Phoenix:20230211T203000
DTSTAMP:20260425T145619
CREATED:20221114T204624Z
LAST-MODIFIED:20221130T223059Z
UID:10006596-1676142000-1676147400@murphydeals.com
SUMMARY:Crystal Gayle at Don Laughlin's in Laughlin
DESCRIPTION:MultiMillion-selling singer Crystal Gayle has performed songs from a wide variety of genres during her award-studded career. But she has never devoted an album to classic country music until now. \nYou Don’t Know Me\, is a collection of music that finds Crystal\, exploring the songs of such country legends like George Jones\, Patsy Cline\, Buck Owens\, and Eddy Arnold. The album might come as a surprise to those who associate Crystal with an uptown sound that made her a star on both country and adult-contemporary pop charts. But she has known this repertoire of hardcore country standards all her life. \nCrystal became the first female country artist to earn a Platinum Record (1978).\, entered the Kentucky Music Hall of Fame (2008)\, received a star on the Hollywood Walk of Fame (2009) and won induction into the cast of the Grand Ole Opry (2017). \nShe has also been fortunate to attain overseas stardom. Her music has found favor with audiences in Japan\, Sweden\, England\, Holland\, Spain\, Korea (where “When I Dream” was a huge hit)\, Australia\, Germany\, Ireland\, Finland\, and The Philippines. She was the first country star to perform in China. \nThere is no doubt about the result of her impressive musical diversity. Crystal has one of the most wide-ranging repertoires of any country star. \nCrystal has sung the works of Billie Holiday\, Elton John\, Kurt Weill\, Carole King\, Ray Charles\, Jim Croce\, Delanie & Bonnie\, Jimmy Buffett\, Bread\, Neil Sedaka\, Ian & Sylvia\, Bill Withers\, Delbert McClinton\, Duke Ellington\, Billy Vera\, and Irving Berlin\, among others. \nShe devoted an entire CD to the music of fellow Hoosier Hoagy Carmichael. She has also recorded albums comprised of Christmas\, gospel and children’s music\, as well as pop standards. \nCrystal collaborated with Tom Waits on the soundtrack of the 1982 film One From the Heart. She recorded theme songs for the TV series Masquerade (1983\, with Paul Williams)\, Dallas (1985\, with Gary Morris) and the soap opera Another World (1987\, with Gary Morris). \nShe has also recorded country classics. Sprinkled throughout her 25-album catalog are interpretations of Johnny Cash’s “I Still Miss Someone\,” Patsy Cline’s “Crazy\,” Don Gibson’s “Oh Lonesome Me\,” Ray Price’s “For the Good Times” and Jimmie Rodgers’ “Miss the Mississippi and You” plus tunes by such country greats as Garth Brooks\, Vince Gill\, Marty Robbins and Rodney Crowell. \n“They don’t write songs like they used to. Nashville is a treasure trove of writers with great songs. And then there are these\, which are classic. I wish young artists and producers would listen to this kind of music. I think people should record more of these.” \n\nShow Time 7:00 PM PST\nFloor Seats: $45.00 + $4.36 SVC CHG + Tax\nRiser Seats: $40.00 + $4.36 SVC CHG + Tax\n\nGET TICKETS \n 
URL:https://murphydeals.com/event/crystal-gayle-at-don-laughlins-riverside-resort-hotel-casino-in-laughlin/2023-02-11/
LOCATION:Don Laughlin’s Riverside Resort Hotel and Casino\, 1650 S Casino Drive\, Laughlin\, Nevada\, 89029
CATEGORIES:Event,Music | Concerts
ATTACH;FMTTYPE=image/jpeg:https://murphydeals.com/wp-content/uploads/2022/11/Crystal-Gale_840x480-e1669846925733.jpg
END:VEVENT
END:VCALENDAR