BEGIN:VCALENDAR
VERSION:2.0
PRODID:-//Murphy Deals - ECPv6.15.20//NONSGML v1.0//EN
CALSCALE:GREGORIAN
METHOD:PUBLISH
X-ORIGINAL-URL:https://murphydeals.com
X-WR-CALDESC:Events for Murphy Deals
REFRESH-INTERVAL;VALUE=DURATION:PT1H
X-Robots-Tag:noindex
X-PUBLISHED-TTL:PT1H
BEGIN:VTIMEZONE
TZID:America/Phoenix
BEGIN:STANDARD
TZOFFSETFROM:-0700
TZOFFSETTO:-0700
TZNAME:MST
DTSTART:20210101T000000
END:STANDARD
END:VTIMEZONE
BEGIN:VEVENT
DTSTART;TZID=America/Phoenix:20221203T080000
DTEND;TZID=America/Phoenix:20221203T103000
DTSTAMP:20260425T145154
CREATED:20221122T220329Z
LAST-MODIFIED:20221202T180607Z
UID:10006629-1670054400-1670063400@murphydeals.com
SUMMARY:Pancake Breakfast & Toy Drive
DESCRIPTION:Pancake Breakfast & Toy Drive\nEveryone is invited to join the Desert Hills Fire District on Saturday\, December 3rd for their monthly Pancake Breakfast Fundraiser. \nThey will also be collecting unwrapped toys for the Firefighter Holiday Toy Drive. \nThank you for your support!! \n\n\n3983 London Bridge Rd\, Lake Havasu City\, AZ\, United States\, Arizona\n\n\n\n\n\n\n+1 928-764-3333\n\n\n\n\n\n\n\nbstanec@deserthillsfire.com\n\n\n\n\n\n\n\n\ndeserthillsfire.org
URL:https://murphydeals.com/event/pancake-breakfast-toy-drive/
LOCATION:AZ
CATEGORIES:Charity | Benefits
ATTACH;FMTTYPE=image/jpeg:https://murphydeals.com/wp-content/uploads/2022/11/DHPancakeBreakfast-1-e1669154712149.jpg
END:VEVENT
BEGIN:VEVENT
DTSTART;TZID=America/Phoenix:20230318T160000
DTEND;TZID=America/Phoenix:20230318T190000
DTSTAMP:20260425T145154
CREATED:20230103T231042Z
LAST-MODIFIED:20230103T231042Z
UID:10006881-1679155200-1679166000@murphydeals.com
SUMMARY:Desert Hills Fire District Auxiliary Spaghetti Dinner
DESCRIPTION:Desert Hills Fire District: \nEnjoy a spaghetti dinner that will help support the Desert Hills Fire District! \n$8 per dinner
URL:https://murphydeals.com/event/desert-hills-fire-district-auxiliary-spaghetti-dinner/
LOCATION:Desert Hills Fire District Station #1\, 3983 London Bridge Rd\, Lake Havasu City\, AZ\, 86404\, United States
CATEGORIES:Charity | Benefits,Event
ATTACH;FMTTYPE=image/jpeg:https://murphydeals.com/wp-content/uploads/2023/01/spaghetti-e1672786996716.jpg
END:VEVENT
END:VCALENDAR