BEGIN:VCALENDAR
VERSION:2.0
PRODID:-//Murphy Deals - ECPv6.15.20//NONSGML v1.0//EN
CALSCALE:GREGORIAN
METHOD:PUBLISH
X-ORIGINAL-URL:https://murphydeals.com
X-WR-CALDESC:Events for Murphy Deals
REFRESH-INTERVAL;VALUE=DURATION:PT1H
X-Robots-Tag:noindex
X-PUBLISHED-TTL:PT1H
BEGIN:VTIMEZONE
TZID:America/Phoenix
BEGIN:STANDARD
TZOFFSETFROM:-0700
TZOFFSETTO:-0700
TZNAME:MST
DTSTART:20220101T000000
END:STANDARD
END:VTIMEZONE
BEGIN:VEVENT
DTSTART;TZID=America/Phoenix:20230331T200000
DTEND;TZID=America/Phoenix:20230331T233000
DTSTAMP:20260425T141734
CREATED:20230224T194505Z
LAST-MODIFIED:20230306T210658Z
UID:10007271-1680292800-1680305400@murphydeals.com
SUMMARY:Dj Lucky at Rickety Cricket
DESCRIPTION:
URL:https://murphydeals.com/event/dj-lucky-at-rickety-cricket/2023-03-31/
LOCATION:Rickety Cricket\, 2068 McCulloch Blvd N Suite A\, Lake Havasu\, AZ\, 86403
CATEGORIES:Event
ATTACH;FMTTYPE=image/jpeg:https://murphydeals.com/wp-content/uploads/2023/02/St.Patricks1-e1678136776802.jpg
END:VEVENT
BEGIN:VEVENT
DTSTART;TZID=America/Phoenix:20230317T200000
DTEND;TZID=America/Phoenix:20230317T233000
DTSTAMP:20260425T141734
CREATED:20230224T194505Z
LAST-MODIFIED:20230306T210658Z
UID:10007270-1679083200-1679095800@murphydeals.com
SUMMARY:Dj Lucky at Rickety Cricket
DESCRIPTION:
URL:https://murphydeals.com/event/dj-lucky-at-rickety-cricket/2023-03-17/
LOCATION:Rickety Cricket\, 2068 McCulloch Blvd N Suite A\, Lake Havasu\, AZ\, 86403
CATEGORIES:Event
ATTACH;FMTTYPE=image/jpeg:https://murphydeals.com/wp-content/uploads/2023/02/St.Patricks1-e1678136776802.jpg
END:VEVENT
BEGIN:VEVENT
DTSTART;TZID=America/Phoenix:20230303T200000
DTEND;TZID=America/Phoenix:20230303T233000
DTSTAMP:20260425T141734
CREATED:20230224T194505Z
LAST-MODIFIED:20230306T210658Z
UID:10007269-1677873600-1677886200@murphydeals.com
SUMMARY:Dj Lucky at Rickety Cricket
DESCRIPTION:
URL:https://murphydeals.com/event/dj-lucky-at-rickety-cricket/2023-03-03/
LOCATION:Rickety Cricket\, 2068 McCulloch Blvd N Suite A\, Lake Havasu\, AZ\, 86403
CATEGORIES:Event
ATTACH;FMTTYPE=image/jpeg:https://murphydeals.com/wp-content/uploads/2023/02/St.Patricks1-e1678136776802.jpg
END:VEVENT
END:VCALENDAR