BEGIN:VCALENDAR
VERSION:2.0
PRODID:-//Murphy Deals - ECPv6.15.20//NONSGML v1.0//EN
CALSCALE:GREGORIAN
METHOD:PUBLISH
X-WR-CALNAME:Murphy Deals
X-ORIGINAL-URL:https://murphydeals.com
X-WR-CALDESC:Events for Murphy Deals
REFRESH-INTERVAL;VALUE=DURATION:PT1H
X-Robots-Tag:noindex
X-PUBLISHED-TTL:PT1H
BEGIN:VTIMEZONE
TZID:America/Phoenix
BEGIN:STANDARD
TZOFFSETFROM:-0700
TZOFFSETTO:-0700
TZNAME:MST
DTSTART:20220101T000000
END:STANDARD
END:VTIMEZONE
BEGIN:VEVENT
DTSTART;TZID=America/Phoenix:20231225T090000
DTEND;TZID=America/Phoenix:20231229T170000
DTSTAMP:20260425T065613
CREATED:20231106T191232Z
LAST-MODIFIED:20231106T191517Z
UID:10008566-1703494800-1703869200@murphydeals.com
SUMMARY:Food Drive in Bullhead - Donate Today!
DESCRIPTION:
URL:https://murphydeals.com/event/food-drive-in-bullhead-donate-today/2023-12-25/
LOCATION:Property Management Services\, 1834 Hwy 95\, Bullhead City\, AZ\, 86442
CATEGORIES:Charity | Benefits
ATTACH;FMTTYPE=image/jpeg:https://murphydeals.com/wp-content/uploads/2023/11/Brown-Orange-Yellow-Green-Colorful-Illustration-Creative-Food-Drive-Flyer-2_page-0001-1-e1699297157282.jpg
END:VEVENT
BEGIN:VEVENT
DTSTART;TZID=America/Phoenix:20231218T090000
DTEND;TZID=America/Phoenix:20231222T170000
DTSTAMP:20260425T065613
CREATED:20231106T191232Z
LAST-MODIFIED:20231106T191517Z
UID:10008565-1702890000-1703264400@murphydeals.com
SUMMARY:Food Drive in Bullhead - Donate Today!
DESCRIPTION:
URL:https://murphydeals.com/event/food-drive-in-bullhead-donate-today/2023-12-18/
LOCATION:Property Management Services\, 1834 Hwy 95\, Bullhead City\, AZ\, 86442
CATEGORIES:Charity | Benefits
ATTACH;FMTTYPE=image/jpeg:https://murphydeals.com/wp-content/uploads/2023/11/Brown-Orange-Yellow-Green-Colorful-Illustration-Creative-Food-Drive-Flyer-2_page-0001-1-e1699297157282.jpg
END:VEVENT
BEGIN:VEVENT
DTSTART;TZID=America/Phoenix:20231211T090000
DTEND;TZID=America/Phoenix:20231215T170000
DTSTAMP:20260425T065613
CREATED:20231106T191232Z
LAST-MODIFIED:20231106T191517Z
UID:10008564-1702285200-1702659600@murphydeals.com
SUMMARY:Food Drive in Bullhead - Donate Today!
DESCRIPTION:
URL:https://murphydeals.com/event/food-drive-in-bullhead-donate-today/2023-12-11/
LOCATION:Property Management Services\, 1834 Hwy 95\, Bullhead City\, AZ\, 86442
CATEGORIES:Charity | Benefits
ATTACH;FMTTYPE=image/jpeg:https://murphydeals.com/wp-content/uploads/2023/11/Brown-Orange-Yellow-Green-Colorful-Illustration-Creative-Food-Drive-Flyer-2_page-0001-1-e1699297157282.jpg
END:VEVENT
BEGIN:VEVENT
DTSTART;TZID=America/Phoenix:20231204T090000
DTEND;TZID=America/Phoenix:20231208T170000
DTSTAMP:20260425T065613
CREATED:20231106T191232Z
LAST-MODIFIED:20231106T191517Z
UID:10008563-1701680400-1702054800@murphydeals.com
SUMMARY:Food Drive in Bullhead - Donate Today!
DESCRIPTION:
URL:https://murphydeals.com/event/food-drive-in-bullhead-donate-today/2023-12-04/
LOCATION:Property Management Services\, 1834 Hwy 95\, Bullhead City\, AZ\, 86442
CATEGORIES:Charity | Benefits
ATTACH;FMTTYPE=image/jpeg:https://murphydeals.com/wp-content/uploads/2023/11/Brown-Orange-Yellow-Green-Colorful-Illustration-Creative-Food-Drive-Flyer-2_page-0001-1-e1699297157282.jpg
END:VEVENT
BEGIN:VEVENT
DTSTART;TZID=America/Phoenix:20231127T090000
DTEND;TZID=America/Phoenix:20231201T170000
DTSTAMP:20260425T065613
CREATED:20231106T191232Z
LAST-MODIFIED:20231106T191517Z
UID:10008562-1701075600-1701450000@murphydeals.com
SUMMARY:Food Drive in Bullhead - Donate Today!
DESCRIPTION:
URL:https://murphydeals.com/event/food-drive-in-bullhead-donate-today/2023-11-27/
LOCATION:Property Management Services\, 1834 Hwy 95\, Bullhead City\, AZ\, 86442
CATEGORIES:Charity | Benefits
ATTACH;FMTTYPE=image/jpeg:https://murphydeals.com/wp-content/uploads/2023/11/Brown-Orange-Yellow-Green-Colorful-Illustration-Creative-Food-Drive-Flyer-2_page-0001-1-e1699297157282.jpg
END:VEVENT
BEGIN:VEVENT
DTSTART;TZID=America/Phoenix:20231120T090000
DTEND;TZID=America/Phoenix:20231124T170000
DTSTAMP:20260425T065613
CREATED:20231106T191232Z
LAST-MODIFIED:20231106T191517Z
UID:10008561-1700470800-1700845200@murphydeals.com
SUMMARY:Food Drive in Bullhead - Donate Today!
DESCRIPTION:
URL:https://murphydeals.com/event/food-drive-in-bullhead-donate-today/2023-11-20/
LOCATION:Property Management Services\, 1834 Hwy 95\, Bullhead City\, AZ\, 86442
CATEGORIES:Charity | Benefits
ATTACH;FMTTYPE=image/jpeg:https://murphydeals.com/wp-content/uploads/2023/11/Brown-Orange-Yellow-Green-Colorful-Illustration-Creative-Food-Drive-Flyer-2_page-0001-1-e1699297157282.jpg
END:VEVENT
BEGIN:VEVENT
DTSTART;TZID=America/Phoenix:20231113T090000
DTEND;TZID=America/Phoenix:20231117T170000
DTSTAMP:20260425T065613
CREATED:20231106T191232Z
LAST-MODIFIED:20231106T191517Z
UID:10008560-1699866000-1700240400@murphydeals.com
SUMMARY:Food Drive in Bullhead - Donate Today!
DESCRIPTION:
URL:https://murphydeals.com/event/food-drive-in-bullhead-donate-today/2023-11-13/
LOCATION:Property Management Services\, 1834 Hwy 95\, Bullhead City\, AZ\, 86442
CATEGORIES:Charity | Benefits
ATTACH;FMTTYPE=image/jpeg:https://murphydeals.com/wp-content/uploads/2023/11/Brown-Orange-Yellow-Green-Colorful-Illustration-Creative-Food-Drive-Flyer-2_page-0001-1-e1699297157282.jpg
END:VEVENT
BEGIN:VEVENT
DTSTART;TZID=America/Phoenix:20231106T090000
DTEND;TZID=America/Phoenix:20231110T170000
DTSTAMP:20260425T065613
CREATED:20231106T191232Z
LAST-MODIFIED:20231106T191517Z
UID:10008559-1699261200-1699635600@murphydeals.com
SUMMARY:Food Drive in Bullhead - Donate Today!
DESCRIPTION:
URL:https://murphydeals.com/event/food-drive-in-bullhead-donate-today/2023-11-06/
LOCATION:Property Management Services\, 1834 Hwy 95\, Bullhead City\, AZ\, 86442
CATEGORIES:Charity | Benefits
ATTACH;FMTTYPE=image/jpeg:https://murphydeals.com/wp-content/uploads/2023/11/Brown-Orange-Yellow-Green-Colorful-Illustration-Creative-Food-Drive-Flyer-2_page-0001-1-e1699297157282.jpg
END:VEVENT
BEGIN:VEVENT
DTSTART;TZID=America/Phoenix:20231104T070000
DTEND;TZID=America/Phoenix:20231104T140000
DTSTAMP:20260425T065613
CREATED:20230918T221545Z
LAST-MODIFIED:20230918T222216Z
UID:10008418-1699081200-1699106400@murphydeals.com
SUMMARY:R&R Pet Sanctuary Garage Sale
DESCRIPTION:
URL:https://murphydeals.com/event/rr-pet-sanctuary-garage-sale/
LOCATION:AZ
CATEGORIES:Charity | Benefits
ATTACH;FMTTYPE=image/jpeg:https://murphydeals.com/wp-content/uploads/2023/09/Pet-Sanctuary-Garage-Sale-1-e1695075294954.jpg
END:VEVENT
END:VCALENDAR