BEGIN:VCALENDAR
VERSION:2.0
PRODID:-//Murphy Deals - ECPv6.15.20//NONSGML v1.0//EN
CALSCALE:GREGORIAN
METHOD:PUBLISH
X-WR-CALNAME:Murphy Deals
X-ORIGINAL-URL:https://murphydeals.com
X-WR-CALDESC:Events for Murphy Deals
REFRESH-INTERVAL;VALUE=DURATION:PT1H
X-Robots-Tag:noindex
X-PUBLISHED-TTL:PT1H
BEGIN:VTIMEZONE
TZID:America/Phoenix
BEGIN:STANDARD
TZOFFSETFROM:-0700
TZOFFSETTO:-0700
TZNAME:MST
DTSTART:20220101T000000
END:STANDARD
END:VTIMEZONE
BEGIN:VEVENT
DTSTART;TZID=America/Phoenix:20230409T110000
DTEND;TZID=America/Phoenix:20230409T170000
DTSTAMP:20260425T075812
CREATED:20230404T185008Z
LAST-MODIFIED:20230404T185605Z
UID:10007442-1681038000-1681059600@murphydeals.com
SUMMARY:Easter Bunny Video Call~Talk to the Easter Bunny~Kids Family Fun Event!
DESCRIPTION:THIS EVENT TAKES PLACE ON THE ZOOM APP. \n\n\n\n\nBunny Is Going To Call Your Child’s Name\, SO PLEASE SIGN UP USING YOUR CHILD’S NAME/NICKNAME.\nBUY TICKETS \n 
URL:https://murphydeals.com/event/easter-bunny-video-calltalk-to-the-easter-bunnykids-family-fun-event/
CATEGORIES:Event
ATTACH;FMTTYPE=image/jpeg:https://murphydeals.com/wp-content/uploads/2023/04/easterbunnycall-e1680634558628.jpg
END:VEVENT
BEGIN:VEVENT
DTSTART;TZID=America/Phoenix:20230408T110000
DTEND;TZID=America/Phoenix:20230408T140000
DTSTAMP:20260425T075812
CREATED:20230403T235140Z
LAST-MODIFIED:20230403T235140Z
UID:10007436-1680951600-1680962400@murphydeals.com
SUMMARY:Western Arizona Humane Society Easter Adoption Event in Lake Havasu
DESCRIPTION:
URL:https://murphydeals.com/event/western-arizona-humane-society-easter-adoption-event-in-lake-havasu/
LOCATION:Paradise Auto\, 1001 N Lake Havasu Ave\, Lake Havasu City\, AZ\, 86403\, United States
CATEGORIES:Event
ATTACH;FMTTYPE=image/jpeg:https://murphydeals.com/wp-content/uploads/2023/04/easteradoption-1-e1680565885987.jpg
END:VEVENT
BEGIN:VEVENT
DTSTART;TZID=America/Phoenix:20230408T090000
DTEND;TZID=America/Phoenix:20230408T230000
DTSTAMP:20260425T075812
CREATED:20230403T160452Z
LAST-MODIFIED:20230403T160452Z
UID:10007420-1680944400-1680994800@murphydeals.com
SUMMARY:Easter Egg Hunt at Star Cinemas in Lake  Havasu
DESCRIPTION:
URL:https://murphydeals.com/event/easter-egg-hunt-at-star-cinemas-in-lake-havasu/
LOCATION:Star Cinemas Havasu\, 5601 AZ-95\, Lake Havasu City\, AZ\, 86404
CATEGORIES:Event
ATTACH;FMTTYPE=image/jpeg:https://murphydeals.com/wp-content/uploads/2023/04/2023-Easter-Egg-Hunt-1-e1680537863358.jpg
END:VEVENT
BEGIN:VEVENT
DTSTART;TZID=America/Phoenix:20230408T090000
DTEND;TZID=America/Phoenix:20230408T110000
DTSTAMP:20260425T075812
CREATED:20230403T175245Z
LAST-MODIFIED:20230403T175245Z
UID:10007423-1680944400-1680951600@murphydeals.com
SUMMARY:Easter Egg Hunt at Burgers By the Bridge
DESCRIPTION:
URL:https://murphydeals.com/event/easter-egg-hunt-at-burgers-by-the-bridge/
LOCATION:Burgers by the Bridge\, 410 English Village\, Lake Havasu City\, AZ\, 86403\, United States
CATEGORIES:Event
ATTACH;FMTTYPE=image/jpeg:https://murphydeals.com/wp-content/uploads/2023/04/easteregghuntburgersby-1-e1680544215130.jpg
END:VEVENT
BEGIN:VEVENT
DTSTART;TZID=America/Phoenix:20230402T100000
DTEND;TZID=America/Phoenix:20230402T120000
DTSTAMP:20260425T075812
CREATED:20230324T230236Z
LAST-MODIFIED:20230324T230236Z
UID:10007367-1680429600-1680436800@murphydeals.com
SUMMARY:Easter Egg Hunt at Sara Park (T-Ball Fields)
DESCRIPTION:
URL:https://murphydeals.com/event/easter-egg-hunt-at-sara-park-t-ball-fields/
LOCATION:SARA Park\, 7260 Sara Parkway\, Lake Havasu City\, AZ\, 86406\, United States
CATEGORIES:Event
ATTACH;FMTTYPE=image/jpeg:https://murphydeals.com/wp-content/uploads/2023/03/easteregg-1-1-e1679698863170.jpg
END:VEVENT
END:VCALENDAR