BEGIN:VCALENDAR
VERSION:2.0
PRODID:-//Murphy Deals - ECPv6.15.20//NONSGML v1.0//EN
CALSCALE:GREGORIAN
METHOD:PUBLISH
X-ORIGINAL-URL:https://murphydeals.com
X-WR-CALDESC:Events for Murphy Deals
REFRESH-INTERVAL;VALUE=DURATION:PT1H
X-Robots-Tag:noindex
X-PUBLISHED-TTL:PT1H
BEGIN:VTIMEZONE
TZID:America/Phoenix
BEGIN:STANDARD
TZOFFSETFROM:-0700
TZOFFSETTO:-0700
TZNAME:MST
DTSTART:20220101T000000
END:STANDARD
END:VTIMEZONE
BEGIN:VEVENT
DTSTART;TZID=America/Phoenix:20230528T210000
DTEND;TZID=America/Phoenix:20230528T213000
DTSTAMP:20260425T151408
CREATED:20230501T160024Z
LAST-MODIFIED:20230501T160024Z
UID:10007721-1685307600-1685309400@murphydeals.com
SUMMARY:Edwin San Juan at the L.A. Comedy Club at the Edgewater Resort in Laughlin
DESCRIPTION:MAY 24\, 2023 – MAY 28\, 2023\nL.A. COMEDY CLUB\nwith Special Guest Comedians \nShow starts at 9pm \n 
URL:https://murphydeals.com/event/edwin-san-juan-at-the-l-a-comedy-club-at-the-edgewater-resort-in-laughlin/2023-05-28/
LOCATION:Edgewater Resort\, 2020 S Casino Dr\, Laughlin\, NV\, 89029\, United States
CATEGORIES:Comedy | Comedian,Event
ATTACH;FMTTYPE=image/jpeg:https://murphydeals.com/wp-content/uploads/2023/05/edwinsanjuan-e1682956580534.jpg
END:VEVENT
BEGIN:VEVENT
DTSTART;TZID=America/Phoenix:20230527T210000
DTEND;TZID=America/Phoenix:20230527T223000
DTSTAMP:20260425T151408
CREATED:20230501T160024Z
LAST-MODIFIED:20230501T160024Z
UID:10007720-1685221200-1685226600@murphydeals.com
SUMMARY:Edwin San Juan at the L.A. Comedy Club at the Edgewater Resort in Laughlin
DESCRIPTION:MAY 24\, 2023 – MAY 28\, 2023\nL.A. COMEDY CLUB\nwith Special Guest Comedians \nShow starts at 9pm \n 
URL:https://murphydeals.com/event/edwin-san-juan-at-the-l-a-comedy-club-at-the-edgewater-resort-in-laughlin/2023-05-27/
LOCATION:Edgewater Resort\, 2020 S Casino Dr\, Laughlin\, NV\, 89029\, United States
CATEGORIES:Comedy | Comedian,Event
ATTACH;FMTTYPE=image/jpeg:https://murphydeals.com/wp-content/uploads/2023/05/edwinsanjuan-e1682956580534.jpg
END:VEVENT
BEGIN:VEVENT
DTSTART;TZID=America/Phoenix:20230526T210000
DTEND;TZID=America/Phoenix:20230526T223000
DTSTAMP:20260425T151408
CREATED:20230501T160024Z
LAST-MODIFIED:20230501T160024Z
UID:10007719-1685134800-1685140200@murphydeals.com
SUMMARY:Edwin San Juan at the L.A. Comedy Club at the Edgewater Resort in Laughlin
DESCRIPTION:MAY 24\, 2023 – MAY 28\, 2023\nL.A. COMEDY CLUB\nwith Special Guest Comedians \nShow starts at 9pm \n 
URL:https://murphydeals.com/event/edwin-san-juan-at-the-l-a-comedy-club-at-the-edgewater-resort-in-laughlin/2023-05-26/
LOCATION:Edgewater Resort\, 2020 S Casino Dr\, Laughlin\, NV\, 89029\, United States
CATEGORIES:Comedy | Comedian,Event
ATTACH;FMTTYPE=image/jpeg:https://murphydeals.com/wp-content/uploads/2023/05/edwinsanjuan-e1682956580534.jpg
END:VEVENT
BEGIN:VEVENT
DTSTART;TZID=America/Phoenix:20230525T210000
DTEND;TZID=America/Phoenix:20230525T223000
DTSTAMP:20260425T151408
CREATED:20230501T160024Z
LAST-MODIFIED:20230501T160024Z
UID:10007718-1685048400-1685053800@murphydeals.com
SUMMARY:Edwin San Juan at the L.A. Comedy Club at the Edgewater Resort in Laughlin
DESCRIPTION:MAY 24\, 2023 – MAY 28\, 2023\nL.A. COMEDY CLUB\nwith Special Guest Comedians \nShow starts at 9pm \n 
URL:https://murphydeals.com/event/edwin-san-juan-at-the-l-a-comedy-club-at-the-edgewater-resort-in-laughlin/2023-05-25/
LOCATION:Edgewater Resort\, 2020 S Casino Dr\, Laughlin\, NV\, 89029\, United States
CATEGORIES:Comedy | Comedian,Event
ATTACH;FMTTYPE=image/jpeg:https://murphydeals.com/wp-content/uploads/2023/05/edwinsanjuan-e1682956580534.jpg
END:VEVENT
BEGIN:VEVENT
DTSTART;TZID=America/Phoenix:20230524T210000
DTEND;TZID=America/Phoenix:20230524T223000
DTSTAMP:20260425T151408
CREATED:20230501T160024Z
LAST-MODIFIED:20230501T160024Z
UID:10007717-1684962000-1684967400@murphydeals.com
SUMMARY:Edwin San Juan at the L.A. Comedy Club at the Edgewater Resort in Laughlin
DESCRIPTION:MAY 24\, 2023 – MAY 28\, 2023\nL.A. COMEDY CLUB\nwith Special Guest Comedians \nShow starts at 9pm \n 
URL:https://murphydeals.com/event/edwin-san-juan-at-the-l-a-comedy-club-at-the-edgewater-resort-in-laughlin/2023-05-24/
LOCATION:Edgewater Resort\, 2020 S Casino Dr\, Laughlin\, NV\, 89029\, United States
CATEGORIES:Comedy | Comedian,Event
ATTACH;FMTTYPE=image/jpeg:https://murphydeals.com/wp-content/uploads/2023/05/edwinsanjuan-e1682956580534.jpg
END:VEVENT
END:VCALENDAR