BEGIN:VCALENDAR
VERSION:2.0
PRODID:-//Murphy Deals - ECPv6.15.20//NONSGML v1.0//EN
CALSCALE:GREGORIAN
METHOD:PUBLISH
X-WR-CALNAME:Murphy Deals
X-ORIGINAL-URL:https://murphydeals.com
X-WR-CALDESC:Events for Murphy Deals
REFRESH-INTERVAL;VALUE=DURATION:PT1H
X-Robots-Tag:noindex
X-PUBLISHED-TTL:PT1H
BEGIN:VTIMEZONE
TZID:America/Phoenix
BEGIN:STANDARD
TZOFFSETFROM:-0700
TZOFFSETTO:-0700
TZNAME:MST
DTSTART:20210101T000000
END:STANDARD
END:VTIMEZONE
BEGIN:VEVENT
DTSTART;TZID=America/Phoenix:20231124T180000
DTEND;TZID=America/Phoenix:20240107T220000
DTSTAMP:20260425T140647
CREATED:20230410T220304Z
LAST-MODIFIED:20230410T220752Z
UID:10007470-1700848800-1704664800@murphydeals.com
SUMMARY:28th Annual Festival of Lights at the London Bridge in Lake Havasu
DESCRIPTION:London Bridge Resort’s Festival of Lights really brings out the Christmas spirit — bring the family for a stroll under the London Bridge along the walkway or take your boat on a night cruise through the Bridgewater Channel as over 500\,000 lights set the water aglow. \nThere’s plenty of free parking at the English Village or The London Bridge Resort and Convention Center. Lights turn off nightly at 10pm. \nEvent dates\, times and/or details are subject to change. Please contact event coordinator to verify information. \n 
URL:https://murphydeals.com/event/28th-annual-festival-of-lights/
LOCATION:English Village\, 422 English Village\, Lake Havasu City\, AZ\, 86403\, United States
CATEGORIES:Event
ATTACH;FMTTYPE=image/jpeg:https://murphydeals.com/wp-content/uploads/2023/04/IMG_7766-rotated-e1681164147594.jpeg
END:VEVENT
BEGIN:VEVENT
DTSTART;TZID=America/Phoenix:20221231T180000
DTEND;TZID=America/Phoenix:20221231T210000
DTSTAMP:20260425T140647
CREATED:20221227T230011Z
LAST-MODIFIED:20221227T230011Z
UID:10006860-1672509600-1672520400@murphydeals.com
SUMMARY:Take Selfies Under the Snow at English Village Under the London Bridge
DESCRIPTION:
URL:https://murphydeals.com/event/take-selfies-under-the-snow-at-english-village-under-the-london-bridge/2022-12-31/
LOCATION:English Village\, 422 English Village\, Lake Havasu City\, AZ\, 86403\, United States
CATEGORIES:Event
ATTACH;FMTTYPE=image/jpeg:https://murphydeals.com/wp-content/uploads/2022/12/SelfiesintheSnowPoster2022-1-e1672181866315.jpg
END:VEVENT
BEGIN:VEVENT
DTSTART;TZID=America/Phoenix:20221230T180000
DTEND;TZID=America/Phoenix:20221230T210000
DTSTAMP:20260425T140647
CREATED:20221227T230011Z
LAST-MODIFIED:20221227T230011Z
UID:10006859-1672423200-1672434000@murphydeals.com
SUMMARY:Take Selfies Under the Snow at English Village Under the London Bridge
DESCRIPTION:
URL:https://murphydeals.com/event/take-selfies-under-the-snow-at-english-village-under-the-london-bridge/2022-12-30/
LOCATION:English Village\, 422 English Village\, Lake Havasu City\, AZ\, 86403\, United States
CATEGORIES:Event
ATTACH;FMTTYPE=image/jpeg:https://murphydeals.com/wp-content/uploads/2022/12/SelfiesintheSnowPoster2022-1-e1672181866315.jpg
END:VEVENT
BEGIN:VEVENT
DTSTART;TZID=America/Phoenix:20221229T180000
DTEND;TZID=America/Phoenix:20221229T210000
DTSTAMP:20260425T140647
CREATED:20221227T230011Z
LAST-MODIFIED:20221227T230011Z
UID:10006858-1672336800-1672347600@murphydeals.com
SUMMARY:Take Selfies Under the Snow at English Village Under the London Bridge
DESCRIPTION:
URL:https://murphydeals.com/event/take-selfies-under-the-snow-at-english-village-under-the-london-bridge/2022-12-29/
LOCATION:English Village\, 422 English Village\, Lake Havasu City\, AZ\, 86403\, United States
CATEGORIES:Event
ATTACH;FMTTYPE=image/jpeg:https://murphydeals.com/wp-content/uploads/2022/12/SelfiesintheSnowPoster2022-1-e1672181866315.jpg
END:VEVENT
END:VCALENDAR