BEGIN:VCALENDAR
VERSION:2.0
PRODID:-//Murphy Deals - ECPv6.15.20//NONSGML v1.0//EN
CALSCALE:GREGORIAN
METHOD:PUBLISH
X-ORIGINAL-URL:https://murphydeals.com
X-WR-CALDESC:Events for Murphy Deals
REFRESH-INTERVAL;VALUE=DURATION:PT1H
X-Robots-Tag:noindex
X-PUBLISHED-TTL:PT1H
BEGIN:VTIMEZONE
TZID:America/Phoenix
BEGIN:STANDARD
TZOFFSETFROM:-0700
TZOFFSETTO:-0700
TZNAME:MST
DTSTART:20220101T000000
END:STANDARD
END:VTIMEZONE
BEGIN:VEVENT
DTSTART;TZID=America/Phoenix:20230303T180000
DTEND;TZID=America/Phoenix:20230303T210000
DTSTAMP:20260425T135022
CREATED:20230130T234814Z
LAST-MODIFIED:20230302T194124Z
UID:10007151-1677866400-1677877200@murphydeals.com
SUMMARY:First Friday on McCulloch Blvd
DESCRIPTION:First Friday Goes Ska\, Punk and Reggae \nWe’re delighted to announce a brand new photo booth for March only… A partnership with Posh Planning with their Guac & Chips booth 🤩 Located at YardCity from 6-9P. \nBring your dancing shoes for hits and deep cuts from bands like Sublime\, NOFX\, Red Hot Chili Peppers\, Rebelution\, Iration\, The Clash\, Rancid\, 311\, Slightly Stoopid\, CAKE\, Bad Religion and so much more!\nMeet Spitball \n \n  \n \n 
URL:https://murphydeals.com/event/first-friday-on-mcculloch-blvd/
LOCATION:First Friday\, McCulloch Blvd
CATEGORIES:Event,Music | Concerts
ATTACH;FMTTYPE=image/jpeg:https://murphydeals.com/wp-content/uploads/2023/01/ffriday-e1675122782511.jpg
END:VEVENT
BEGIN:VEVENT
DTSTART;TZID=America/Phoenix:20230407T170000
DTEND;TZID=America/Phoenix:20230407T190000
DTSTAMP:20260425T135022
CREATED:20230404T173600Z
LAST-MODIFIED:20230404T173600Z
UID:10007439-1680886800-1680894000@murphydeals.com
SUMMARY:Easter Egg Hunt at Laughlin Ranch Golf Course in Bullhead
DESCRIPTION:Come enjoy a 10\,000 Egg Hunt at Laughlin Ranch!  Bring the kids for this generously sponsored event which will include basket drawings\, face painting\, Easter Bunny photos\, popcorn & soda for all to enjoy.
URL:https://murphydeals.com/event/easter-egg-hunt-at-laughlin-ranch-golf-course-in-bullhead/
LOCATION:Laughlin Ranch\, 1360 William Hardy Dr\, Bullhead City\, AZ\, 86429\, United States
CATEGORIES:Event
ATTACH;FMTTYPE=image/jpeg:https://murphydeals.com/wp-content/uploads/2023/04/Easter_Egg_Hunt-2-e1680629737424.jpg
END:VEVENT
BEGIN:VEVENT
DTSTART;TZID=America/Phoenix:20230409T130000
DTEND;TZID=America/Phoenix:20230409T170000
DTSTAMP:20260425T135022
CREATED:20230403T223918Z
LAST-MODIFIED:20230403T223918Z
UID:10007435-1681045200-1681059600@murphydeals.com
SUMMARY:Family Game Day at YardCity in Lake Havasu
DESCRIPTION:April is Child Abuse Prevention Month! \nOn April 9 HAVEN is inviting all families to come to a FREE Family Game Day. There will be games\, activities\, crafts\, a photo booth\, face painting\, light refreshments\, and parenting resources. Come spend time with your family and enjoy a day of fun. The greatest gift you can give your child is your time!
URL:https://murphydeals.com/event/family-game-day-at-yardcity-in-lake-havasu/
LOCATION:YardCity\, 2101 McCulloch Blvd N\, Lake Havasu City\, AZ\, 86403\, United States
CATEGORIES:Event
ATTACH;FMTTYPE=image/jpeg:https://murphydeals.com/wp-content/uploads/2023/04/gameday-1-e1680561344227.jpg
END:VEVENT
BEGIN:VEVENT
DTSTART;TZID=America/Phoenix:20231124T100000
DTEND;TZID=America/Phoenix:20231126T170000
DTSTAMP:20260425T135022
CREATED:20221115T171728Z
LAST-MODIFIED:20230501T225738Z
UID:10007764-1700820000-1701018000@murphydeals.com
SUMMARY:Turkey Testicle Festival at The Bunker Bar in Lake Havasu
DESCRIPTION:The Bunker Bar’s 4th annual Turkey Testicle Festival is here! \nLive music\, games\, drinks and deep-fried turkey testicles available November 24 – 26 ONLY. You won’t want to miss it! \nLive music will be on stage at noon\, along with the annual Turkey Testicle Eating Competition\, photo booth\, limited edition testicle t-shirts\, face painting\, chicken poop bingo and our junior boot camp play area for the kiddos! \nAND of course Mitch’s Mess Hall will be serving up our deep-fried turkey testicles!!! We have an extra bar serving up cocktails at a second bar\, and another separate beer garden to grab a quick beer! \nJust outside of Havasu Heights north of Lake Havasu City\, this solar-powered desert bar has a full bar and a variety of soft drinks.  The Bunker Bar offers plenty of seating\, so head north out of Lake Havasu City on Hwy 95 N to Havasu Heights\, look for the signs and join in the fun! \nVisit The Bunker Bar Facebook Page for more information.
URL:https://murphydeals.com/event/turkey-testicle-festival-at-the-bunker-bar-in-lake-havasu/2023-11-24/
LOCATION:The Bunker Bar\, 6942 Thirsty Lizard Rd\, Lake Havasu City\, AZ\, 86404\, United States
CATEGORIES:Event,Festival
ATTACH;FMTTYPE=image/jpeg:https://murphydeals.com/wp-content/uploads/2022/11/turkey-2022-11-11-20-55-30-utc-1-e1668543262150.jpg
END:VEVENT
BEGIN:VEVENT
DTSTART;TZID=America/Phoenix:20231125T100000
DTEND;TZID=America/Phoenix:20231125T170000
DTSTAMP:20260425T135022
CREATED:20221115T171728Z
LAST-MODIFIED:20230501T225738Z
UID:10007765-1700906400-1700931600@murphydeals.com
SUMMARY:Turkey Testicle Festival at The Bunker Bar in Lake Havasu
DESCRIPTION:The Bunker Bar’s 4th annual Turkey Testicle Festival is here! \nLive music\, games\, drinks and deep-fried turkey testicles available November 24 – 26 ONLY. You won’t want to miss it! \nLive music will be on stage at noon\, along with the annual Turkey Testicle Eating Competition\, photo booth\, limited edition testicle t-shirts\, face painting\, chicken poop bingo and our junior boot camp play area for the kiddos! \nAND of course Mitch’s Mess Hall will be serving up our deep-fried turkey testicles!!! We have an extra bar serving up cocktails at a second bar\, and another separate beer garden to grab a quick beer! \nJust outside of Havasu Heights north of Lake Havasu City\, this solar-powered desert bar has a full bar and a variety of soft drinks.  The Bunker Bar offers plenty of seating\, so head north out of Lake Havasu City on Hwy 95 N to Havasu Heights\, look for the signs and join in the fun! \nVisit The Bunker Bar Facebook Page for more information.
URL:https://murphydeals.com/event/turkey-testicle-festival-at-the-bunker-bar-in-lake-havasu/2023-11-25/
LOCATION:The Bunker Bar\, 6942 Thirsty Lizard Rd\, Lake Havasu City\, AZ\, 86404\, United States
CATEGORIES:Event,Festival
ATTACH;FMTTYPE=image/jpeg:https://murphydeals.com/wp-content/uploads/2022/11/turkey-2022-11-11-20-55-30-utc-1-e1668543262150.jpg
END:VEVENT
BEGIN:VEVENT
DTSTART;TZID=America/Phoenix:20231126T100000
DTEND;TZID=America/Phoenix:20231126T170000
DTSTAMP:20260425T135022
CREATED:20221115T171728Z
LAST-MODIFIED:20230501T225738Z
UID:10007766-1700992800-1701018000@murphydeals.com
SUMMARY:Turkey Testicle Festival at The Bunker Bar in Lake Havasu
DESCRIPTION:The Bunker Bar’s 4th annual Turkey Testicle Festival is here! \nLive music\, games\, drinks and deep-fried turkey testicles available November 24 – 26 ONLY. You won’t want to miss it! \nLive music will be on stage at noon\, along with the annual Turkey Testicle Eating Competition\, photo booth\, limited edition testicle t-shirts\, face painting\, chicken poop bingo and our junior boot camp play area for the kiddos! \nAND of course Mitch’s Mess Hall will be serving up our deep-fried turkey testicles!!! We have an extra bar serving up cocktails at a second bar\, and another separate beer garden to grab a quick beer! \nJust outside of Havasu Heights north of Lake Havasu City\, this solar-powered desert bar has a full bar and a variety of soft drinks.  The Bunker Bar offers plenty of seating\, so head north out of Lake Havasu City on Hwy 95 N to Havasu Heights\, look for the signs and join in the fun! \nVisit The Bunker Bar Facebook Page for more information.
URL:https://murphydeals.com/event/turkey-testicle-festival-at-the-bunker-bar-in-lake-havasu/2023-11-26/
LOCATION:The Bunker Bar\, 6942 Thirsty Lizard Rd\, Lake Havasu City\, AZ\, 86404\, United States
CATEGORIES:Event,Festival
ATTACH;FMTTYPE=image/jpeg:https://murphydeals.com/wp-content/uploads/2022/11/turkey-2022-11-11-20-55-30-utc-1-e1668543262150.jpg
END:VEVENT
END:VCALENDAR